BEGIN:VCALENDAR
VERSION:2.0
PRODID:-//AFLabs urnik izvoz - fmf//aflabs.si//SI
DTSTAMP:20260425T154105Z
NAME:UL FMF urnik
REFRESH-INTERVAL:PT1H
SOURCE:https://urnik.fmf.uni-lj.si/teacher/136?day=2020-08-24&export=1
URL:https://urnik.fmf.uni-lj.si/teacher/136?day=2020-08-24&export=1
X-PUBLISHED-TTL:PT1H
X-WR-CALNAME:UL FMF urnik
X-WR-TIMEZONE:Europe/Ljubljana
BEGIN:VTIMEZONE
TZID:Europe/Ljubljana
BEGIN:DAYLIGHT
DTSTART:20260329T020000
RDATE:20260329T020000
RDATE:20270328T020000
TZNAME:CEST
TZOFFSETFROM:+0100
TZOFFSETTO:+0200
END:DAYLIGHT
BEGIN:STANDARD
DTSTART:20261025T030000
RDATE:20261025T030000
RDATE:20271031T030000
TZNAME:CET
TZOFFSETFROM:+0200
TZOFFSETTO:+0100
END:STANDARD
END:VTIMEZONE
BEGIN:VEVENT
SUMMARY:Rezervacija
DTSTART;TZID=Europe/Ljubljana:20200814T090000
DTEND;TZID=Europe/Ljubljana:20200814T100000
DTSTAMP:20260425T154105Z
UID:fmf-AFLABS-URNIK:rezervacija:5911
ATTENDEE:2. letnik (Fizika, 1. stopnja)
CATEGORIES:Reservation
COLOR:royalblue
DESCRIPTION:Predmeti: Moderna fizika I (FIZ-2)\nLetniki: 2. letnik (Fizika
 \, 1. stopnja)\nIzvajalci: Simon Širca\nProstori: Kuščerjev seminar
LOCATION:Kuščerjev seminar
ORGANIZER:Simon Širca
X-WR-TIMEZONE:Europe/Ljubljana
END:VEVENT
BEGIN:VEVENT
SUMMARY:Rezervacija
DTSTART;TZID=Europe/Ljubljana:20200819T100000
DTEND;TZID=Europe/Ljubljana:20200819T120000
DTSTAMP:20260425T154105Z
UID:fmf-AFLABS-URNIK:rezervacija:5964
CATEGORIES:Reservation
COLOR:royalblue
DESCRIPTION:Predmeti: \nLetniki: \nIzvajalci: Simon Širca\nProstori: VFP
LOCATION:VFP
ORGANIZER:Simon Širca
X-WR-TIMEZONE:Europe/Ljubljana
END:VEVENT
BEGIN:VEVENT
SUMMARY:Rezervacija
DTSTART;TZID=Europe/Ljubljana:20200909T100000
DTEND;TZID=Europe/Ljubljana:20200909T120000
DTSTAMP:20260425T154105Z
UID:fmf-AFLABS-URNIK:rezervacija:6322
CATEGORIES:Reservation
COLOR:royalblue
DESCRIPTION:Predmeti: \nLetniki: \nIzvajalci: Simon Širca\nProstori: VFP
LOCATION:VFP
ORGANIZER:Simon Širca
X-WR-TIMEZONE:Europe/Ljubljana
END:VEVENT
BEGIN:VEVENT
SUMMARY:Rezervacija
DTSTART;TZID=Europe/Ljubljana:20200910T080000
DTEND;TZID=Europe/Ljubljana:20200910T110000
DTSTAMP:20260425T154105Z
UID:fmf-AFLABS-URNIK:rezervacija:6340
ATTENDEE:2. letnik (Fizika, 1. stopnja)
CATEGORIES:Reservation
COLOR:royalblue
DESCRIPTION:Predmeti: Moderna fizika I (FIZ-2)\nLetniki: 2. letnik (Fizika
 \, 1. stopnja)\nIzvajalci: Simon Širca\nProstori: Kuščerjev seminar
LOCATION:Kuščerjev seminar
ORGANIZER:Simon Širca
X-WR-TIMEZONE:Europe/Ljubljana
END:VEVENT
BEGIN:VEVENT
SUMMARY:Rezervacija
DTSTART;TZID=Europe/Ljubljana:20200910T120000
DTEND;TZID=Europe/Ljubljana:20200910T140000
DTSTAMP:20260425T154105Z
UID:fmf-AFLABS-URNIK:rezervacija:6360
CATEGORIES:Reservation
COLOR:royalblue
DESCRIPTION:Predmeti: \nLetniki: \nIzvajalci: Simon Širca\nProstori: VFP
LOCATION:VFP
ORGANIZER:Simon Širca
X-WR-TIMEZONE:Europe/Ljubljana
END:VEVENT
END:VCALENDAR
