BEGIN:VCALENDAR
VERSION:2.0
PRODID:-//AFLabs urnik izvoz - fmf//aflabs.si//SI
DTSTAMP:20260423T013813Z
NAME:UL FMF urnik
REFRESH-INTERVAL:PT1H
SOURCE:https://urnik.fmf.uni-lj.si/teacher/136?day=2021-04-26&export=1
URL:https://urnik.fmf.uni-lj.si/teacher/136?day=2021-04-26&export=1
X-PUBLISHED-TTL:PT1H
X-WR-CALNAME:UL FMF urnik
X-WR-TIMEZONE:Europe/Ljubljana
BEGIN:VTIMEZONE
TZID:Europe/Ljubljana
BEGIN:DAYLIGHT
DTSTART:20260329T020000
RDATE:20260329T020000
RDATE:20270328T020000
TZNAME:CEST
TZOFFSETFROM:+0100
TZOFFSETTO:+0200
END:DAYLIGHT
BEGIN:STANDARD
DTSTART:20261025T030000
RDATE:20261025T030000
RDATE:20271031T030000
TZNAME:CET
TZOFFSETFROM:+0200
TZOFFSETTO:+0100
END:STANDARD
END:VTIMEZONE
BEGIN:VEVENT
SUMMARY:Modelska analiza II (FIZ-M1\, FIZ-M2\, JET-1\, JET-2)\, Predavanja
  (P)
DTSTART;TZID=Europe/Ljubljana:20210218T120000
DTEND;TZID=Europe/Ljubljana:20210218T140000
DTSTAMP:20260423T013813Z
UID:fmf-AFLABS-URNIK:premaknjeno-srecanje:73069
ATTENDEE:1. letnik (Fizika, 2. stopnja)
ATTENDEE:1. letnik (Jedrska tehnika, 2. stopnja)
ATTENDEE:2. letnik (Fizika, 2. stopnja)
ATTENDEE:2. letnik (Jedrska tehnika, 2. stopnja)
CATEGORIES:Entry,Standard
COLOR:darkgreen
DESCRIPTION:Predmet: Modelska analiza II (FIZ-M1\, FIZ-M2\, JET-1\, JET-2)
 \, Predavanja (P)\nLetniki: 1. letnik (Fizika\, 2. stopnja)\, 2. letnik (F
 izika\, 2. stopnja)\, 1. letnik (Jedrska tehnika\, 2. stopnja)\, 2. letnik
  (Jedrska tehnika\, 2. stopnja)\nIzvajalci: Simon Širca\nProstor: F4
LOCATION:F4
ORGANIZER:Simon Širca
RELATED-TO:fmf-AFLABS-URNIK:srecanje:5754
X-WR-TIMEZONE:Europe/Ljubljana
END:VEVENT
BEGIN:VEVENT
SUMMARY:Modelska analiza II (FIZ-M1\, FIZ-M2\, JET-1\, JET-2)\, Predavanja
  (P)
DTSTART;TZID=Europe/Ljubljana:20210225T120000
DTEND;TZID=Europe/Ljubljana:20210225T140000
DTSTAMP:20260423T013813Z
UID:fmf-AFLABS-URNIK:premaknjeno-srecanje:73070
ATTENDEE:1. letnik (Fizika, 2. stopnja)
ATTENDEE:1. letnik (Jedrska tehnika, 2. stopnja)
ATTENDEE:2. letnik (Fizika, 2. stopnja)
ATTENDEE:2. letnik (Jedrska tehnika, 2. stopnja)
CATEGORIES:Entry,Standard
COLOR:darkgreen
DESCRIPTION:Predmet: Modelska analiza II (FIZ-M1\, FIZ-M2\, JET-1\, JET-2)
 \, Predavanja (P)\nLetniki: 1. letnik (Fizika\, 2. stopnja)\, 2. letnik (F
 izika\, 2. stopnja)\, 1. letnik (Jedrska tehnika\, 2. stopnja)\, 2. letnik
  (Jedrska tehnika\, 2. stopnja)\nIzvajalci: Simon Širca\nProstor: F4
LOCATION:F4
ORGANIZER:Simon Širca
RELATED-TO:fmf-AFLABS-URNIK:srecanje:5754
X-WR-TIMEZONE:Europe/Ljubljana
END:VEVENT
BEGIN:VEVENT
SUMMARY:Modelska analiza II (FIZ-M1\, FIZ-M2\, JET-1\, JET-2)\, Predavanja
  (P)
DTSTART;TZID=Europe/Ljubljana:20210304T120000
DTEND;TZID=Europe/Ljubljana:20210304T140000
DTSTAMP:20260423T013813Z
UID:fmf-AFLABS-URNIK:premaknjeno-srecanje:73071
ATTENDEE:1. letnik (Fizika, 2. stopnja)
ATTENDEE:1. letnik (Jedrska tehnika, 2. stopnja)
ATTENDEE:2. letnik (Fizika, 2. stopnja)
ATTENDEE:2. letnik (Jedrska tehnika, 2. stopnja)
CATEGORIES:Entry,Standard
COLOR:darkgreen
DESCRIPTION:Predmet: Modelska analiza II (FIZ-M1\, FIZ-M2\, JET-1\, JET-2)
 \, Predavanja (P)\nLetniki: 1. letnik (Fizika\, 2. stopnja)\, 2. letnik (F
 izika\, 2. stopnja)\, 1. letnik (Jedrska tehnika\, 2. stopnja)\, 2. letnik
  (Jedrska tehnika\, 2. stopnja)\nIzvajalci: Simon Širca\nProstor: F4
LOCATION:F4
ORGANIZER:Simon Širca
RELATED-TO:fmf-AFLABS-URNIK:srecanje:5754
X-WR-TIMEZONE:Europe/Ljubljana
END:VEVENT
BEGIN:VEVENT
SUMMARY:Modelska analiza II (FIZ-M1\, FIZ-M2\, JET-1\, JET-2)\, Predavanja
  (P)
DTSTART;TZID=Europe/Ljubljana:20210311T120000
DTEND;TZID=Europe/Ljubljana:20210311T140000
DTSTAMP:20260423T013813Z
UID:fmf-AFLABS-URNIK:premaknjeno-srecanje:73072
ATTENDEE:1. letnik (Fizika, 2. stopnja)
ATTENDEE:1. letnik (Jedrska tehnika, 2. stopnja)
ATTENDEE:2. letnik (Fizika, 2. stopnja)
ATTENDEE:2. letnik (Jedrska tehnika, 2. stopnja)
CATEGORIES:Entry,Standard
COLOR:darkgreen
DESCRIPTION:Predmet: Modelska analiza II (FIZ-M1\, FIZ-M2\, JET-1\, JET-2)
 \, Predavanja (P)\nLetniki: 1. letnik (Fizika\, 2. stopnja)\, 2. letnik (F
 izika\, 2. stopnja)\, 1. letnik (Jedrska tehnika\, 2. stopnja)\, 2. letnik
  (Jedrska tehnika\, 2. stopnja)\nIzvajalci: Simon Širca\nProstor: F4
LOCATION:F4
ORGANIZER:Simon Širca
RELATED-TO:fmf-AFLABS-URNIK:srecanje:5754
X-WR-TIMEZONE:Europe/Ljubljana
END:VEVENT
BEGIN:VEVENT
SUMMARY:Modelska analiza II (FIZ-M1\, FIZ-M2\, JET-1\, JET-2)\, Predavanja
  (P)
DTSTART;TZID=Europe/Ljubljana:20210318T120000
DTEND;TZID=Europe/Ljubljana:20210318T140000
DTSTAMP:20260423T013813Z
UID:fmf-AFLABS-URNIK:premaknjeno-srecanje:73073
ATTENDEE:1. letnik (Fizika, 2. stopnja)
ATTENDEE:1. letnik (Jedrska tehnika, 2. stopnja)
ATTENDEE:2. letnik (Fizika, 2. stopnja)
ATTENDEE:2. letnik (Jedrska tehnika, 2. stopnja)
CATEGORIES:Entry,Standard
COLOR:darkgreen
DESCRIPTION:Predmet: Modelska analiza II (FIZ-M1\, FIZ-M2\, JET-1\, JET-2)
 \, Predavanja (P)\nLetniki: 1. letnik (Fizika\, 2. stopnja)\, 2. letnik (F
 izika\, 2. stopnja)\, 1. letnik (Jedrska tehnika\, 2. stopnja)\, 2. letnik
  (Jedrska tehnika\, 2. stopnja)\nIzvajalci: Simon Širca\nProstor: F4
LOCATION:F4
ORGANIZER:Simon Širca
RELATED-TO:fmf-AFLABS-URNIK:srecanje:5754
X-WR-TIMEZONE:Europe/Ljubljana
END:VEVENT
BEGIN:VEVENT
SUMMARY:Modelska analiza II (FIZ-M1\, FIZ-M2\, JET-1\, JET-2)\, Predavanja
  (P)
DTSTART;TZID=Europe/Ljubljana:20210325T120000
DTEND;TZID=Europe/Ljubljana:20210325T140000
DTSTAMP:20260423T013813Z
UID:fmf-AFLABS-URNIK:premaknjeno-srecanje:73074
ATTENDEE:1. letnik (Fizika, 2. stopnja)
ATTENDEE:1. letnik (Jedrska tehnika, 2. stopnja)
ATTENDEE:2. letnik (Fizika, 2. stopnja)
ATTENDEE:2. letnik (Jedrska tehnika, 2. stopnja)
CATEGORIES:Entry,Standard
COLOR:darkgreen
DESCRIPTION:Predmet: Modelska analiza II (FIZ-M1\, FIZ-M2\, JET-1\, JET-2)
 \, Predavanja (P)\nLetniki: 1. letnik (Fizika\, 2. stopnja)\, 2. letnik (F
 izika\, 2. stopnja)\, 1. letnik (Jedrska tehnika\, 2. stopnja)\, 2. letnik
  (Jedrska tehnika\, 2. stopnja)\nIzvajalci: Simon Širca\nProstor: F4
LOCATION:F4
ORGANIZER:Simon Širca
RELATED-TO:fmf-AFLABS-URNIK:srecanje:5754
X-WR-TIMEZONE:Europe/Ljubljana
END:VEVENT
BEGIN:VEVENT
SUMMARY:Modelska analiza II (FIZ-M1\, FIZ-M2\, JET-1\, JET-2)\, Predavanja
  (P)
DTSTART;TZID=Europe/Ljubljana:20210401T120000
DTEND;TZID=Europe/Ljubljana:20210401T140000
DTSTAMP:20260423T013813Z
UID:fmf-AFLABS-URNIK:premaknjeno-srecanje:73075
ATTENDEE:1. letnik (Fizika, 2. stopnja)
ATTENDEE:1. letnik (Jedrska tehnika, 2. stopnja)
ATTENDEE:2. letnik (Fizika, 2. stopnja)
ATTENDEE:2. letnik (Jedrska tehnika, 2. stopnja)
CATEGORIES:Entry,Standard
COLOR:darkgreen
DESCRIPTION:Predmet: Modelska analiza II (FIZ-M1\, FIZ-M2\, JET-1\, JET-2)
 \, Predavanja (P)\nLetniki: 1. letnik (Fizika\, 2. stopnja)\, 2. letnik (F
 izika\, 2. stopnja)\, 1. letnik (Jedrska tehnika\, 2. stopnja)\, 2. letnik
  (Jedrska tehnika\, 2. stopnja)\nIzvajalci: Simon Širca\nProstor: F4
LOCATION:F4
ORGANIZER:Simon Širca
RELATED-TO:fmf-AFLABS-URNIK:srecanje:5754
X-WR-TIMEZONE:Europe/Ljubljana
END:VEVENT
BEGIN:VEVENT
SUMMARY:Modelska analiza II (FIZ-M1\, FIZ-M2\, JET-1\, JET-2)\, Predavanja
  (P)
DTSTART;TZID=Europe/Ljubljana:20210408T120000
DTEND;TZID=Europe/Ljubljana:20210408T140000
DTSTAMP:20260423T013813Z
UID:fmf-AFLABS-URNIK:premaknjeno-srecanje:73076
ATTENDEE:1. letnik (Fizika, 2. stopnja)
ATTENDEE:1. letnik (Jedrska tehnika, 2. stopnja)
ATTENDEE:2. letnik (Fizika, 2. stopnja)
ATTENDEE:2. letnik (Jedrska tehnika, 2. stopnja)
CATEGORIES:Entry,Standard
COLOR:darkgreen
DESCRIPTION:Predmet: Modelska analiza II (FIZ-M1\, FIZ-M2\, JET-1\, JET-2)
 \, Predavanja (P)\nLetniki: 1. letnik (Fizika\, 2. stopnja)\, 2. letnik (F
 izika\, 2. stopnja)\, 1. letnik (Jedrska tehnika\, 2. stopnja)\, 2. letnik
  (Jedrska tehnika\, 2. stopnja)\nIzvajalci: Simon Širca\nProstor: F4
LOCATION:F4
ORGANIZER:Simon Širca
RELATED-TO:fmf-AFLABS-URNIK:srecanje:5754
X-WR-TIMEZONE:Europe/Ljubljana
END:VEVENT
BEGIN:VEVENT
SUMMARY:Modelska analiza II (FIZ-M1\, FIZ-M2\, JET-1\, JET-2)\, Predavanja
  (P)
DTSTART;TZID=Europe/Ljubljana:20210415T120000
DTEND;TZID=Europe/Ljubljana:20210415T140000
DTSTAMP:20260423T013813Z
UID:fmf-AFLABS-URNIK:premaknjeno-srecanje:73077
ATTENDEE:1. letnik (Fizika, 2. stopnja)
ATTENDEE:1. letnik (Jedrska tehnika, 2. stopnja)
ATTENDEE:2. letnik (Fizika, 2. stopnja)
ATTENDEE:2. letnik (Jedrska tehnika, 2. stopnja)
CATEGORIES:Entry,Standard
COLOR:darkgreen
DESCRIPTION:Predmet: Modelska analiza II (FIZ-M1\, FIZ-M2\, JET-1\, JET-2)
 \, Predavanja (P)\nLetniki: 1. letnik (Fizika\, 2. stopnja)\, 2. letnik (F
 izika\, 2. stopnja)\, 1. letnik (Jedrska tehnika\, 2. stopnja)\, 2. letnik
  (Jedrska tehnika\, 2. stopnja)\nIzvajalci: Simon Širca\nProstor: F4
LOCATION:F4
ORGANIZER:Simon Širca
RELATED-TO:fmf-AFLABS-URNIK:srecanje:5754
X-WR-TIMEZONE:Europe/Ljubljana
END:VEVENT
BEGIN:VEVENT
SUMMARY:Modelska analiza II (FIZ-M1\, FIZ-M2\, JET-1\, JET-2)\, Predavanja
  (P)
DTSTART;TZID=Europe/Ljubljana:20210422T120000
DTEND;TZID=Europe/Ljubljana:20210422T140000
DTSTAMP:20260423T013813Z
UID:fmf-AFLABS-URNIK:premaknjeno-srecanje:73078
ATTENDEE:1. letnik (Fizika, 2. stopnja)
ATTENDEE:1. letnik (Jedrska tehnika, 2. stopnja)
ATTENDEE:2. letnik (Fizika, 2. stopnja)
ATTENDEE:2. letnik (Jedrska tehnika, 2. stopnja)
CATEGORIES:Entry,Standard
COLOR:darkgreen
DESCRIPTION:Predmet: Modelska analiza II (FIZ-M1\, FIZ-M2\, JET-1\, JET-2)
 \, Predavanja (P)\nLetniki: 1. letnik (Fizika\, 2. stopnja)\, 2. letnik (F
 izika\, 2. stopnja)\, 1. letnik (Jedrska tehnika\, 2. stopnja)\, 2. letnik
  (Jedrska tehnika\, 2. stopnja)\nIzvajalci: Simon Širca\nProstor: F4
LOCATION:F4
ORGANIZER:Simon Širca
RELATED-TO:fmf-AFLABS-URNIK:srecanje:5754
X-WR-TIMEZONE:Europe/Ljubljana
END:VEVENT
BEGIN:VEVENT
SUMMARY:Modelska analiza II (FIZ-M1\, FIZ-M2\, JET-1\, JET-2)\, Predavanja
  (P)
DTSTART;TZID=Europe/Ljubljana:20210429T120000
DTEND;TZID=Europe/Ljubljana:20210429T140000
DTSTAMP:20260423T013813Z
UID:fmf-AFLABS-URNIK:premaknjeno-srecanje:73079
ATTENDEE:1. letnik (Fizika, 2. stopnja)
ATTENDEE:1. letnik (Jedrska tehnika, 2. stopnja)
ATTENDEE:2. letnik (Fizika, 2. stopnja)
ATTENDEE:2. letnik (Jedrska tehnika, 2. stopnja)
CATEGORIES:Entry,Standard
COLOR:darkgreen
DESCRIPTION:Predmet: Modelska analiza II (FIZ-M1\, FIZ-M2\, JET-1\, JET-2)
 \, Predavanja (P)\nLetniki: 1. letnik (Fizika\, 2. stopnja)\, 2. letnik (F
 izika\, 2. stopnja)\, 1. letnik (Jedrska tehnika\, 2. stopnja)\, 2. letnik
  (Jedrska tehnika\, 2. stopnja)\nIzvajalci: Simon Širca\nProstor: F4
LOCATION:F4
ORGANIZER:Simon Širca
RELATED-TO:fmf-AFLABS-URNIK:srecanje:5754
X-WR-TIMEZONE:Europe/Ljubljana
END:VEVENT
BEGIN:VEVENT
SUMMARY:Modelska analiza II (FIZ-M1\, FIZ-M2\, JET-1\, JET-2)\, Predavanja
  (P)
DTSTART;TZID=Europe/Ljubljana:20210506T120000
DTEND;TZID=Europe/Ljubljana:20210506T140000
DTSTAMP:20260423T013813Z
UID:fmf-AFLABS-URNIK:premaknjeno-srecanje:73080
ATTENDEE:1. letnik (Fizika, 2. stopnja)
ATTENDEE:1. letnik (Jedrska tehnika, 2. stopnja)
ATTENDEE:2. letnik (Fizika, 2. stopnja)
ATTENDEE:2. letnik (Jedrska tehnika, 2. stopnja)
CATEGORIES:Entry,Standard
COLOR:darkgreen
DESCRIPTION:Predmet: Modelska analiza II (FIZ-M1\, FIZ-M2\, JET-1\, JET-2)
 \, Predavanja (P)\nLetniki: 1. letnik (Fizika\, 2. stopnja)\, 2. letnik (F
 izika\, 2. stopnja)\, 1. letnik (Jedrska tehnika\, 2. stopnja)\, 2. letnik
  (Jedrska tehnika\, 2. stopnja)\nIzvajalci: Simon Širca\nProstor: F4
LOCATION:F4
ORGANIZER:Simon Širca
RELATED-TO:fmf-AFLABS-URNIK:srecanje:5754
X-WR-TIMEZONE:Europe/Ljubljana
END:VEVENT
BEGIN:VEVENT
SUMMARY:Modelska analiza II (FIZ-M1\, FIZ-M2\, JET-1\, JET-2)\, Predavanja
  (P)
DTSTART;TZID=Europe/Ljubljana:20210513T120000
DTEND;TZID=Europe/Ljubljana:20210513T140000
DTSTAMP:20260423T013813Z
UID:fmf-AFLABS-URNIK:premaknjeno-srecanje:73081
ATTENDEE:1. letnik (Fizika, 2. stopnja)
ATTENDEE:1. letnik (Jedrska tehnika, 2. stopnja)
ATTENDEE:2. letnik (Fizika, 2. stopnja)
ATTENDEE:2. letnik (Jedrska tehnika, 2. stopnja)
CATEGORIES:Entry,Standard
COLOR:darkgreen
DESCRIPTION:Predmet: Modelska analiza II (FIZ-M1\, FIZ-M2\, JET-1\, JET-2)
 \, Predavanja (P)\nLetniki: 1. letnik (Fizika\, 2. stopnja)\, 2. letnik (F
 izika\, 2. stopnja)\, 1. letnik (Jedrska tehnika\, 2. stopnja)\, 2. letnik
  (Jedrska tehnika\, 2. stopnja)\nIzvajalci: Simon Širca\nProstor: F4
LOCATION:F4
ORGANIZER:Simon Širca
RELATED-TO:fmf-AFLABS-URNIK:srecanje:5754
X-WR-TIMEZONE:Europe/Ljubljana
END:VEVENT
BEGIN:VEVENT
SUMMARY:Modelska analiza II (FIZ-M1\, FIZ-M2\, JET-1\, JET-2)\, Predavanja
  (P)
DTSTART;TZID=Europe/Ljubljana:20210520T120000
DTEND;TZID=Europe/Ljubljana:20210520T140000
DTSTAMP:20260423T013813Z
UID:fmf-AFLABS-URNIK:premaknjeno-srecanje:73082
ATTENDEE:1. letnik (Fizika, 2. stopnja)
ATTENDEE:1. letnik (Jedrska tehnika, 2. stopnja)
ATTENDEE:2. letnik (Fizika, 2. stopnja)
ATTENDEE:2. letnik (Jedrska tehnika, 2. stopnja)
CATEGORIES:Entry,Standard
COLOR:darkgreen
DESCRIPTION:Predmet: Modelska analiza II (FIZ-M1\, FIZ-M2\, JET-1\, JET-2)
 \, Predavanja (P)\nLetniki: 1. letnik (Fizika\, 2. stopnja)\, 2. letnik (F
 izika\, 2. stopnja)\, 1. letnik (Jedrska tehnika\, 2. stopnja)\, 2. letnik
  (Jedrska tehnika\, 2. stopnja)\nIzvajalci: Simon Širca\nProstor: F4
LOCATION:F4
ORGANIZER:Simon Širca
RELATED-TO:fmf-AFLABS-URNIK:srecanje:5754
X-WR-TIMEZONE:Europe/Ljubljana
END:VEVENT
BEGIN:VEVENT
SUMMARY:Modelska analiza II (FIZ-M1\, FIZ-M2\, JET-1\, JET-2)\, Predavanja
  (P)
DTSTART;TZID=Europe/Ljubljana:20210527T120000
DTEND;TZID=Europe/Ljubljana:20210527T140000
DTSTAMP:20260423T013813Z
UID:fmf-AFLABS-URNIK:premaknjeno-srecanje:73083
ATTENDEE:1. letnik (Fizika, 2. stopnja)
ATTENDEE:1. letnik (Jedrska tehnika, 2. stopnja)
ATTENDEE:2. letnik (Fizika, 2. stopnja)
ATTENDEE:2. letnik (Jedrska tehnika, 2. stopnja)
CATEGORIES:Entry,Standard
COLOR:darkgreen
DESCRIPTION:Predmet: Modelska analiza II (FIZ-M1\, FIZ-M2\, JET-1\, JET-2)
 \, Predavanja (P)\nLetniki: 1. letnik (Fizika\, 2. stopnja)\, 2. letnik (F
 izika\, 2. stopnja)\, 1. letnik (Jedrska tehnika\, 2. stopnja)\, 2. letnik
  (Jedrska tehnika\, 2. stopnja)\nIzvajalci: Simon Širca\nProstor: F4
LOCATION:F4
ORGANIZER:Simon Širca
RELATED-TO:fmf-AFLABS-URNIK:srecanje:5754
X-WR-TIMEZONE:Europe/Ljubljana
END:VEVENT
END:VCALENDAR
