BEGIN:VCALENDAR
VERSION:2.0
PRODID:-//AFLabs urnik izvoz - fmf//aflabs.si//SI
DTSTAMP:20260423T051657Z
NAME:UL FMF urnik
REFRESH-INTERVAL:PT1H
SOURCE:https://urnik.fmf.uni-lj.si/teacher/136?day=2021-08-16&export=1
URL:https://urnik.fmf.uni-lj.si/teacher/136?day=2021-08-16&export=1
X-PUBLISHED-TTL:PT1H
X-WR-CALNAME:UL FMF urnik
X-WR-TIMEZONE:Europe/Ljubljana
BEGIN:VTIMEZONE
TZID:Europe/Ljubljana
BEGIN:DAYLIGHT
DTSTART:20260329T020000
RDATE:20260329T020000
RDATE:20270328T020000
TZNAME:CEST
TZOFFSETFROM:+0100
TZOFFSETTO:+0200
END:DAYLIGHT
BEGIN:STANDARD
DTSTART:20261025T030000
RDATE:20261025T030000
RDATE:20271031T030000
TZNAME:CET
TZOFFSETFROM:+0200
TZOFFSETTO:+0100
END:STANDARD
END:VTIMEZONE
BEGIN:VEVENT
SUMMARY:Rezervacija
DTSTART;TZID=Europe/Ljubljana:20210818T100000
DTEND;TZID=Europe/Ljubljana:20210818T120000
DTSTAMP:20260423T051657Z
UID:fmf-AFLABS-URNIK:rezervacija:7387
CATEGORIES:Reservation
COLOR:royalblue
DESCRIPTION:Predmeti: \nLetniki: \nIzvajalci: Simon Širca\nProstori: VFP
LOCATION:VFP
ORGANIZER:Simon Širca
X-WR-TIMEZONE:Europe/Ljubljana
END:VEVENT
BEGIN:VEVENT
SUMMARY:Rezervacija
DTSTART;TZID=Europe/Ljubljana:20210908T100000
DTEND;TZID=Europe/Ljubljana:20210908T120000
DTSTAMP:20260423T051657Z
UID:fmf-AFLABS-URNIK:rezervacija:7755
ATTENDEE:2. letnik (Fizika, 1. stopnja)
ATTENDEE:3. letnik (Fizika, 1. stopnja)
CATEGORIES:Reservation
COLOR:royalblue
DESCRIPTION:Predmeti: Verjetnost v fiziki (FIZ-2\, FIZ-3)\nLetniki: 2. let
 nik (Fizika\, 1. stopnja)\, 3. letnik (Fizika\, 1. stopnja)\nIzvajalci: Si
 mon Širca\, Mojca Vilfan\nProstori: 2.01
LOCATION:2.01
ORGANIZER:Simon Širca, Mojca Vilfan
X-WR-TIMEZONE:Europe/Ljubljana
END:VEVENT
END:VCALENDAR
