BEGIN:VCALENDAR
VERSION:2.0
PRODID:-//AFLabs urnik izvoz - fmf//aflabs.si//SI
DTSTAMP:20260423T000719Z
NAME:UL FMF urnik
REFRESH-INTERVAL:PT1H
SOURCE:https://urnik.fmf.uni-lj.si/teacher/136?day=2024-01-29&export=1
URL:https://urnik.fmf.uni-lj.si/teacher/136?day=2024-01-29&export=1
X-PUBLISHED-TTL:PT1H
X-WR-CALNAME:UL FMF urnik
X-WR-TIMEZONE:Europe/Ljubljana
BEGIN:VTIMEZONE
TZID:Europe/Ljubljana
BEGIN:DAYLIGHT
DTSTART:20260329T020000
RDATE:20260329T020000
RDATE:20270328T020000
TZNAME:CEST
TZOFFSETFROM:+0100
TZOFFSETTO:+0200
END:DAYLIGHT
BEGIN:STANDARD
DTSTART:20261025T030000
RDATE:20261025T030000
RDATE:20271031T030000
TZNAME:CET
TZOFFSETFROM:+0200
TZOFFSETTO:+0100
END:STANDARD
END:VTIMEZONE
BEGIN:VEVENT
SUMMARY:Moderna fizika I (FIZ-2)\, Predavanja (P)
DTSTART;TZID=Europe/Ljubljana:20231225T080000
DTEND;TZID=Europe/Ljubljana:20231225T100000
DTSTAMP:20260423T000719Z
UID:fmf-AFLABS-URNIK:premaknjeno-srecanje:74245
ATTENDEE:2. letnik (Fizika, 1. stopnja)
CATEGORIES:Entry,Standard
COLOR:darkgreen
DESCRIPTION:Predmet: Moderna fizika I (FIZ-2)\, Predavanja (P)\nLetniki: 2
 . letnik (Fizika\, 1. stopnja)\nIzvajalci: Simon Širca\nProstor: F1
LOCATION:F1
ORGANIZER:Simon Širca
RELATED-TO:fmf-AFLABS-URNIK:srecanje:9335
X-WR-TIMEZONE:Europe/Ljubljana
END:VEVENT
BEGIN:VEVENT
SUMMARY:Moderna fizika I (FIZ-2)\, Predavanja (P)
DTSTART;TZID=Europe/Ljubljana:20240101T080000
DTEND;TZID=Europe/Ljubljana:20240101T100000
DTSTAMP:20260423T000719Z
UID:fmf-AFLABS-URNIK:premaknjeno-srecanje:74246
ATTENDEE:2. letnik (Fizika, 1. stopnja)
CATEGORIES:Entry,Standard
COLOR:darkgreen
DESCRIPTION:Predmet: Moderna fizika I (FIZ-2)\, Predavanja (P)\nLetniki: 2
 . letnik (Fizika\, 1. stopnja)\nIzvajalci: Simon Širca\nProstor: F1
LOCATION:F1
ORGANIZER:Simon Širca
RELATED-TO:fmf-AFLABS-URNIK:srecanje:9335
X-WR-TIMEZONE:Europe/Ljubljana
END:VEVENT
BEGIN:VEVENT
SUMMARY:Moderna fizika I (FIZ-2)\, Predavanja (P)
DTSTART;TZID=Europe/Ljubljana:20240108T080000
DTEND;TZID=Europe/Ljubljana:20240108T100000
DTSTAMP:20260423T000719Z
UID:fmf-AFLABS-URNIK:premaknjeno-srecanje:74247
ATTENDEE:2. letnik (Fizika, 1. stopnja)
CATEGORIES:Entry,Standard
COLOR:darkgreen
DESCRIPTION:Predmet: Moderna fizika I (FIZ-2)\, Predavanja (P)\nLetniki: 2
 . letnik (Fizika\, 1. stopnja)\nIzvajalci: Simon Širca\nProstor: F1
LOCATION:F1
ORGANIZER:Simon Širca
RELATED-TO:fmf-AFLABS-URNIK:srecanje:9335
X-WR-TIMEZONE:Europe/Ljubljana
END:VEVENT
BEGIN:VEVENT
SUMMARY:Moderna fizika I (FIZ-2)\, Predavanja (P)
DTSTART;TZID=Europe/Ljubljana:20240115T080000
DTEND;TZID=Europe/Ljubljana:20240115T100000
DTSTAMP:20260423T000719Z
UID:fmf-AFLABS-URNIK:premaknjeno-srecanje:74248
ATTENDEE:2. letnik (Fizika, 1. stopnja)
CATEGORIES:Entry,Standard
COLOR:darkgreen
DESCRIPTION:Predmet: Moderna fizika I (FIZ-2)\, Predavanja (P)\nLetniki: 2
 . letnik (Fizika\, 1. stopnja)\nIzvajalci: Simon Širca\nProstor: F1
LOCATION:F1
ORGANIZER:Simon Širca
RELATED-TO:fmf-AFLABS-URNIK:srecanje:9335
X-WR-TIMEZONE:Europe/Ljubljana
END:VEVENT
BEGIN:VEVENT
SUMMARY:Moderna fizika I (FIZ-2)\, Predavanja (P)
DTSTART;TZID=Europe/Ljubljana:20240122T080000
DTEND;TZID=Europe/Ljubljana:20240122T100000
DTSTAMP:20260423T000719Z
UID:fmf-AFLABS-URNIK:premaknjeno-srecanje:74249
ATTENDEE:2. letnik (Fizika, 1. stopnja)
CATEGORIES:Entry,Standard
COLOR:darkgreen
DESCRIPTION:Predmet: Moderna fizika I (FIZ-2)\, Predavanja (P)\nLetniki: 2
 . letnik (Fizika\, 1. stopnja)\nIzvajalci: Simon Širca\nProstor: F1
LOCATION:F1
ORGANIZER:Simon Širca
RELATED-TO:fmf-AFLABS-URNIK:srecanje:9335
X-WR-TIMEZONE:Europe/Ljubljana
END:VEVENT
BEGIN:VEVENT
SUMMARY:Ponedeljkov fizikalni kolokvij (FIZ-M1\, FIZ-M2\, FIZ-D)\, Seminar
  (S)
DTSTART;TZID=Europe/Ljubljana:20231225T160000
DTEND;TZID=Europe/Ljubljana:20231225T180000
DTSTAMP:20260423T000719Z
UID:fmf-AFLABS-URNIK:premaknjeno-srecanje:83645
ATTENDEE:1. letnik (Fizika, 2. stopnja)
ATTENDEE:2. letnik (Fizika, 2. stopnja)
ATTENDEE:doktorski študij (Fizika, 3. stopnja)
CATEGORIES:Entry,Standard
COLOR:darkgreen
DESCRIPTION:Predmet: Ponedeljkov fizikalni kolokvij (FIZ-M1\, FIZ-M2\, FIZ
 -D)\, Seminar (S)\nLetniki: 1. letnik (Fizika\, 2. stopnja)\, 2. letnik (F
 izika\, 2. stopnja)\, doktorski študij (Fizika\, 3. stopnja)\nIzvajalci: 
 Simon Širca\nProstor: F1
LOCATION:F1
ORGANIZER:Simon Širca
RELATED-TO:fmf-AFLABS-URNIK:srecanje:9381
X-WR-TIMEZONE:Europe/Ljubljana
END:VEVENT
BEGIN:VEVENT
SUMMARY:Ponedeljkov fizikalni kolokvij (FIZ-M1\, FIZ-M2\, FIZ-D)\, Seminar
  (S)
DTSTART;TZID=Europe/Ljubljana:20240101T160000
DTEND;TZID=Europe/Ljubljana:20240101T180000
DTSTAMP:20260423T000719Z
UID:fmf-AFLABS-URNIK:premaknjeno-srecanje:83646
ATTENDEE:1. letnik (Fizika, 2. stopnja)
ATTENDEE:2. letnik (Fizika, 2. stopnja)
ATTENDEE:doktorski študij (Fizika, 3. stopnja)
CATEGORIES:Entry,Standard
COLOR:darkgreen
DESCRIPTION:Predmet: Ponedeljkov fizikalni kolokvij (FIZ-M1\, FIZ-M2\, FIZ
 -D)\, Seminar (S)\nLetniki: 1. letnik (Fizika\, 2. stopnja)\, 2. letnik (F
 izika\, 2. stopnja)\, doktorski študij (Fizika\, 3. stopnja)\nIzvajalci: 
 Simon Širca\nProstor: F1
LOCATION:F1
ORGANIZER:Simon Širca
RELATED-TO:fmf-AFLABS-URNIK:srecanje:9381
X-WR-TIMEZONE:Europe/Ljubljana
END:VEVENT
BEGIN:VEVENT
SUMMARY:Ponedeljkov fizikalni kolokvij (FIZ-M1\, FIZ-M2\, FIZ-D)\, Seminar
  (S)
DTSTART;TZID=Europe/Ljubljana:20240108T160000
DTEND;TZID=Europe/Ljubljana:20240108T180000
DTSTAMP:20260423T000719Z
UID:fmf-AFLABS-URNIK:premaknjeno-srecanje:83647
ATTENDEE:1. letnik (Fizika, 2. stopnja)
ATTENDEE:2. letnik (Fizika, 2. stopnja)
ATTENDEE:doktorski študij (Fizika, 3. stopnja)
CATEGORIES:Entry,Standard
COLOR:darkgreen
DESCRIPTION:Predmet: Ponedeljkov fizikalni kolokvij (FIZ-M1\, FIZ-M2\, FIZ
 -D)\, Seminar (S)\nLetniki: 1. letnik (Fizika\, 2. stopnja)\, 2. letnik (F
 izika\, 2. stopnja)\, doktorski študij (Fizika\, 3. stopnja)\nIzvajalci: 
 Simon Širca\nProstor: F1
LOCATION:F1
ORGANIZER:Simon Širca
RELATED-TO:fmf-AFLABS-URNIK:srecanje:9381
X-WR-TIMEZONE:Europe/Ljubljana
END:VEVENT
BEGIN:VEVENT
SUMMARY:Ponedeljkov fizikalni kolokvij (FIZ-M1\, FIZ-M2\, FIZ-D)\, Seminar
  (S)
DTSTART;TZID=Europe/Ljubljana:20240115T160000
DTEND;TZID=Europe/Ljubljana:20240115T180000
DTSTAMP:20260423T000719Z
UID:fmf-AFLABS-URNIK:premaknjeno-srecanje:83648
ATTENDEE:1. letnik (Fizika, 2. stopnja)
ATTENDEE:2. letnik (Fizika, 2. stopnja)
ATTENDEE:doktorski študij (Fizika, 3. stopnja)
CATEGORIES:Entry,Standard
COLOR:darkgreen
DESCRIPTION:Predmet: Ponedeljkov fizikalni kolokvij (FIZ-M1\, FIZ-M2\, FIZ
 -D)\, Seminar (S)\nLetniki: 1. letnik (Fizika\, 2. stopnja)\, 2. letnik (F
 izika\, 2. stopnja)\, doktorski študij (Fizika\, 3. stopnja)\nIzvajalci: 
 Simon Širca\nProstor: F1
LOCATION:F1
ORGANIZER:Simon Širca
RELATED-TO:fmf-AFLABS-URNIK:srecanje:9381
X-WR-TIMEZONE:Europe/Ljubljana
END:VEVENT
BEGIN:VEVENT
SUMMARY:Ponedeljkov fizikalni kolokvij (FIZ-M1\, FIZ-M2\, FIZ-D)\, Seminar
  (S)
DTSTART;TZID=Europe/Ljubljana:20240122T160000
DTEND;TZID=Europe/Ljubljana:20240122T180000
DTSTAMP:20260423T000719Z
UID:fmf-AFLABS-URNIK:premaknjeno-srecanje:83649
ATTENDEE:1. letnik (Fizika, 2. stopnja)
ATTENDEE:2. letnik (Fizika, 2. stopnja)
ATTENDEE:doktorski študij (Fizika, 3. stopnja)
CATEGORIES:Entry,Standard
COLOR:darkgreen
DESCRIPTION:Predmet: Ponedeljkov fizikalni kolokvij (FIZ-M1\, FIZ-M2\, FIZ
 -D)\, Seminar (S)\nLetniki: 1. letnik (Fizika\, 2. stopnja)\, 2. letnik (F
 izika\, 2. stopnja)\, doktorski študij (Fizika\, 3. stopnja)\nIzvajalci: 
 Simon Širca\nProstor: F1
LOCATION:F1
ORGANIZER:Simon Širca
RELATED-TO:fmf-AFLABS-URNIK:srecanje:9381
X-WR-TIMEZONE:Europe/Ljubljana
END:VEVENT
BEGIN:VEVENT
SUMMARY:Modelska analiza 1 (FIZ-M1\, JET-1\, JET-2\, MEF-1\, MEF-2)\, Pred
 avanja (P)
DTSTART;TZID=Europe/Ljubljana:20231228T140000
DTEND;TZID=Europe/Ljubljana:20231228T160000
DTSTAMP:20260423T000719Z
UID:fmf-AFLABS-URNIK:premaknjeno-srecanje:72814
ATTENDEE:1. letnik (Fizika, 2. stopnja)
ATTENDEE:1. letnik (Jedrska tehnika, 2. stopnja)
ATTENDEE:1. letnik (Medicinska fizika, 2. stopnja)
ATTENDEE:2. letnik (Jedrska tehnika, 2. stopnja)
ATTENDEE:2. letnik (Medicinska fizika, 2. stopnja)
CATEGORIES:Entry,Standard
COLOR:darkgreen
DESCRIPTION:Predmet: Modelska analiza 1 (FIZ-M1\, JET-1\, JET-2\, MEF-1\, 
 MEF-2)\, Predavanja (P)\nLetniki: 1. letnik (Fizika\, 2. stopnja)\, 1. let
 nik (Jedrska tehnika\, 2. stopnja)\, 2. letnik (Jedrska tehnika\, 2. stopn
 ja)\, 1. letnik (Medicinska fizika\, 2. stopnja)\, 2. letnik (Medicinska f
 izika\, 2. stopnja)\nIzvajalci: Simon Širca\nProstor: F2
LOCATION:F2
ORGANIZER:Simon Širca
RELATED-TO:fmf-AFLABS-URNIK:srecanje:9328
X-WR-TIMEZONE:Europe/Ljubljana
END:VEVENT
BEGIN:VEVENT
SUMMARY:Modelska analiza 1 (FIZ-M1\, JET-1\, JET-2\, MEF-1\, MEF-2)\, Pred
 avanja (P)
DTSTART;TZID=Europe/Ljubljana:20240104T140000
DTEND;TZID=Europe/Ljubljana:20240104T160000
DTSTAMP:20260423T000719Z
UID:fmf-AFLABS-URNIK:premaknjeno-srecanje:72815
ATTENDEE:1. letnik (Fizika, 2. stopnja)
ATTENDEE:1. letnik (Jedrska tehnika, 2. stopnja)
ATTENDEE:1. letnik (Medicinska fizika, 2. stopnja)
ATTENDEE:2. letnik (Jedrska tehnika, 2. stopnja)
ATTENDEE:2. letnik (Medicinska fizika, 2. stopnja)
CATEGORIES:Entry,Standard
COLOR:darkgreen
DESCRIPTION:Predmet: Modelska analiza 1 (FIZ-M1\, JET-1\, JET-2\, MEF-1\, 
 MEF-2)\, Predavanja (P)\nLetniki: 1. letnik (Fizika\, 2. stopnja)\, 1. let
 nik (Jedrska tehnika\, 2. stopnja)\, 2. letnik (Jedrska tehnika\, 2. stopn
 ja)\, 1. letnik (Medicinska fizika\, 2. stopnja)\, 2. letnik (Medicinska f
 izika\, 2. stopnja)\nIzvajalci: Simon Širca\nProstor: F2
LOCATION:F2
ORGANIZER:Simon Širca
RELATED-TO:fmf-AFLABS-URNIK:srecanje:9328
X-WR-TIMEZONE:Europe/Ljubljana
END:VEVENT
BEGIN:VEVENT
SUMMARY:Modelska analiza 1 (FIZ-M1\, JET-1\, JET-2\, MEF-1\, MEF-2)\, Pred
 avanja (P)
DTSTART;TZID=Europe/Ljubljana:20240111T140000
DTEND;TZID=Europe/Ljubljana:20240111T160000
DTSTAMP:20260423T000719Z
UID:fmf-AFLABS-URNIK:premaknjeno-srecanje:72816
ATTENDEE:1. letnik (Fizika, 2. stopnja)
ATTENDEE:1. letnik (Jedrska tehnika, 2. stopnja)
ATTENDEE:1. letnik (Medicinska fizika, 2. stopnja)
ATTENDEE:2. letnik (Jedrska tehnika, 2. stopnja)
ATTENDEE:2. letnik (Medicinska fizika, 2. stopnja)
CATEGORIES:Entry,Standard
COLOR:darkgreen
DESCRIPTION:Predmet: Modelska analiza 1 (FIZ-M1\, JET-1\, JET-2\, MEF-1\, 
 MEF-2)\, Predavanja (P)\nLetniki: 1. letnik (Fizika\, 2. stopnja)\, 1. let
 nik (Jedrska tehnika\, 2. stopnja)\, 2. letnik (Jedrska tehnika\, 2. stopn
 ja)\, 1. letnik (Medicinska fizika\, 2. stopnja)\, 2. letnik (Medicinska f
 izika\, 2. stopnja)\nIzvajalci: Simon Širca\nProstor: F2
LOCATION:F2
ORGANIZER:Simon Širca
RELATED-TO:fmf-AFLABS-URNIK:srecanje:9328
X-WR-TIMEZONE:Europe/Ljubljana
END:VEVENT
BEGIN:VEVENT
SUMMARY:Modelska analiza 1 (FIZ-M1\, JET-1\, JET-2\, MEF-1\, MEF-2)\, Pred
 avanja (P)
DTSTART;TZID=Europe/Ljubljana:20240118T140000
DTEND;TZID=Europe/Ljubljana:20240118T160000
DTSTAMP:20260423T000719Z
UID:fmf-AFLABS-URNIK:premaknjeno-srecanje:72817
ATTENDEE:1. letnik (Fizika, 2. stopnja)
ATTENDEE:1. letnik (Jedrska tehnika, 2. stopnja)
ATTENDEE:1. letnik (Medicinska fizika, 2. stopnja)
ATTENDEE:2. letnik (Jedrska tehnika, 2. stopnja)
ATTENDEE:2. letnik (Medicinska fizika, 2. stopnja)
CATEGORIES:Entry,Standard
COLOR:darkgreen
DESCRIPTION:Predmet: Modelska analiza 1 (FIZ-M1\, JET-1\, JET-2\, MEF-1\, 
 MEF-2)\, Predavanja (P)\nLetniki: 1. letnik (Fizika\, 2. stopnja)\, 1. let
 nik (Jedrska tehnika\, 2. stopnja)\, 2. letnik (Jedrska tehnika\, 2. stopn
 ja)\, 1. letnik (Medicinska fizika\, 2. stopnja)\, 2. letnik (Medicinska f
 izika\, 2. stopnja)\nIzvajalci: Simon Širca\nProstor: F2
LOCATION:F2
ORGANIZER:Simon Širca
RELATED-TO:fmf-AFLABS-URNIK:srecanje:9328
X-WR-TIMEZONE:Europe/Ljubljana
END:VEVENT
BEGIN:VEVENT
SUMMARY:Moderna fizika I (FIZ-2)\, Predavanja (P)
DTSTART;TZID=Europe/Ljubljana:20231228T080000
DTEND;TZID=Europe/Ljubljana:20231228T100000
DTSTAMP:20260423T000719Z
UID:fmf-AFLABS-URNIK:premaknjeno-srecanje:74357
ATTENDEE:2. letnik (Fizika, 1. stopnja)
CATEGORIES:Entry,Standard
COLOR:darkgreen
DESCRIPTION:Predmet: Moderna fizika I (FIZ-2)\, Predavanja (P)\nLetniki: 2
 . letnik (Fizika\, 1. stopnja)\nIzvajalci: Simon Širca\nProstor: F1
LOCATION:F1
ORGANIZER:Simon Širca
RELATED-TO:fmf-AFLABS-URNIK:srecanje:9336
X-WR-TIMEZONE:Europe/Ljubljana
END:VEVENT
BEGIN:VEVENT
SUMMARY:Moderna fizika I (FIZ-2)\, Predavanja (P)
DTSTART;TZID=Europe/Ljubljana:20240104T080000
DTEND;TZID=Europe/Ljubljana:20240104T100000
DTSTAMP:20260423T000719Z
UID:fmf-AFLABS-URNIK:premaknjeno-srecanje:74358
ATTENDEE:2. letnik (Fizika, 1. stopnja)
CATEGORIES:Entry,Standard
COLOR:darkgreen
DESCRIPTION:Predmet: Moderna fizika I (FIZ-2)\, Predavanja (P)\nLetniki: 2
 . letnik (Fizika\, 1. stopnja)\nIzvajalci: Simon Širca\nProstor: F1
LOCATION:F1
ORGANIZER:Simon Širca
RELATED-TO:fmf-AFLABS-URNIK:srecanje:9336
X-WR-TIMEZONE:Europe/Ljubljana
END:VEVENT
BEGIN:VEVENT
SUMMARY:Moderna fizika I (FIZ-2)\, Predavanja (P)
DTSTART;TZID=Europe/Ljubljana:20240111T080000
DTEND;TZID=Europe/Ljubljana:20240111T100000
DTSTAMP:20260423T000719Z
UID:fmf-AFLABS-URNIK:premaknjeno-srecanje:74359
ATTENDEE:2. letnik (Fizika, 1. stopnja)
CATEGORIES:Entry,Standard
COLOR:darkgreen
DESCRIPTION:Predmet: Moderna fizika I (FIZ-2)\, Predavanja (P)\nLetniki: 2
 . letnik (Fizika\, 1. stopnja)\nIzvajalci: Simon Širca\nProstor: F1
LOCATION:F1
ORGANIZER:Simon Širca
RELATED-TO:fmf-AFLABS-URNIK:srecanje:9336
X-WR-TIMEZONE:Europe/Ljubljana
END:VEVENT
BEGIN:VEVENT
SUMMARY:Moderna fizika I (FIZ-2)\, Predavanja (P)
DTSTART;TZID=Europe/Ljubljana:20240118T080000
DTEND;TZID=Europe/Ljubljana:20240118T100000
DTSTAMP:20260423T000719Z
UID:fmf-AFLABS-URNIK:premaknjeno-srecanje:74360
ATTENDEE:2. letnik (Fizika, 1. stopnja)
CATEGORIES:Entry,Standard
COLOR:darkgreen
DESCRIPTION:Predmet: Moderna fizika I (FIZ-2)\, Predavanja (P)\nLetniki: 2
 . letnik (Fizika\, 1. stopnja)\nIzvajalci: Simon Širca\nProstor: F1
LOCATION:F1
ORGANIZER:Simon Širca
RELATED-TO:fmf-AFLABS-URNIK:srecanje:9336
X-WR-TIMEZONE:Europe/Ljubljana
END:VEVENT
BEGIN:VEVENT
SUMMARY:Moderna fizika I (FIZ-2)\, Seminar (S)
DTSTART;TZID=Europe/Ljubljana:20231228T100000
DTEND;TZID=Europe/Ljubljana:20231228T110000
DTSTAMP:20260423T000719Z
UID:fmf-AFLABS-URNIK:premaknjeno-srecanje:74498
ATTENDEE:2. letnik (Fizika, 1. stopnja)
CATEGORIES:Entry,Standard
COLOR:darkgreen
DESCRIPTION:Predmet: Moderna fizika I (FIZ-2)\, Seminar (S)\nLetniki: 2. l
 etnik (Fizika\, 1. stopnja)\nIzvajalci: Simon Širca\nProstor: F1
LOCATION:F1
ORGANIZER:Simon Širca
RELATED-TO:fmf-AFLABS-URNIK:srecanje:9337
X-WR-TIMEZONE:Europe/Ljubljana
END:VEVENT
BEGIN:VEVENT
SUMMARY:Moderna fizika I (FIZ-2)\, Seminar (S)
DTSTART;TZID=Europe/Ljubljana:20240104T100000
DTEND;TZID=Europe/Ljubljana:20240104T110000
DTSTAMP:20260423T000719Z
UID:fmf-AFLABS-URNIK:premaknjeno-srecanje:74499
ATTENDEE:2. letnik (Fizika, 1. stopnja)
CATEGORIES:Entry,Standard
COLOR:darkgreen
DESCRIPTION:Predmet: Moderna fizika I (FIZ-2)\, Seminar (S)\nLetniki: 2. l
 etnik (Fizika\, 1. stopnja)\nIzvajalci: Simon Širca\nProstor: F1
LOCATION:F1
ORGANIZER:Simon Širca
RELATED-TO:fmf-AFLABS-URNIK:srecanje:9337
X-WR-TIMEZONE:Europe/Ljubljana
END:VEVENT
BEGIN:VEVENT
SUMMARY:Moderna fizika I (FIZ-2)\, Seminar (S)
DTSTART;TZID=Europe/Ljubljana:20240111T100000
DTEND;TZID=Europe/Ljubljana:20240111T110000
DTSTAMP:20260423T000719Z
UID:fmf-AFLABS-URNIK:premaknjeno-srecanje:74500
ATTENDEE:2. letnik (Fizika, 1. stopnja)
CATEGORIES:Entry,Standard
COLOR:darkgreen
DESCRIPTION:Predmet: Moderna fizika I (FIZ-2)\, Seminar (S)\nLetniki: 2. l
 etnik (Fizika\, 1. stopnja)\nIzvajalci: Simon Širca\nProstor: F1
LOCATION:F1
ORGANIZER:Simon Širca
RELATED-TO:fmf-AFLABS-URNIK:srecanje:9337
X-WR-TIMEZONE:Europe/Ljubljana
END:VEVENT
BEGIN:VEVENT
SUMMARY:Moderna fizika I (FIZ-2)\, Seminar (S)
DTSTART;TZID=Europe/Ljubljana:20240118T100000
DTEND;TZID=Europe/Ljubljana:20240118T110000
DTSTAMP:20260423T000719Z
UID:fmf-AFLABS-URNIK:premaknjeno-srecanje:74501
ATTENDEE:2. letnik (Fizika, 1. stopnja)
CATEGORIES:Entry,Standard
COLOR:darkgreen
DESCRIPTION:Predmet: Moderna fizika I (FIZ-2)\, Seminar (S)\nLetniki: 2. l
 etnik (Fizika\, 1. stopnja)\nIzvajalci: Simon Širca\nProstor: F1
LOCATION:F1
ORGANIZER:Simon Širca
RELATED-TO:fmf-AFLABS-URNIK:srecanje:9337
X-WR-TIMEZONE:Europe/Ljubljana
END:VEVENT
BEGIN:VEVENT
SUMMARY:Ponedeljkov fizikalni kolokvij (FIZ-M1\, FIZ-M2\, FIZ-D)\, Predava
 nja (P)
DTSTART;TZID=Europe/Ljubljana:20240219T140000
DTEND;TZID=Europe/Ljubljana:20240219T160000
DTSTAMP:20260423T000719Z
UID:fmf-AFLABS-URNIK:premaknjeno-srecanje:128489
ATTENDEE:1. letnik (Fizika, 2. stopnja)
ATTENDEE:2. letnik (Fizika, 2. stopnja)
ATTENDEE:doktorski študij (Fizika, 3. stopnja)
CATEGORIES:Entry,Standard
COLOR:darkgreen
DESCRIPTION:Predmet: Ponedeljkov fizikalni kolokvij (FIZ-M1\, FIZ-M2\, FIZ
 -D)\, Predavanja (P)\nLetniki: 1. letnik (Fizika\, 2. stopnja)\, 2. letnik
  (Fizika\, 2. stopnja)\, doktorski študij (Fizika\, 3. stopnja)\nIzvajalc
 i: Simon Širca\nProstor: F1
LOCATION:F1
ORGANIZER:Simon Širca
RELATED-TO:fmf-AFLABS-URNIK:srecanje:10133
X-WR-TIMEZONE:Europe/Ljubljana
END:VEVENT
BEGIN:VEVENT
SUMMARY:Ponedeljkov fizikalni kolokvij (FIZ-M1\, FIZ-M2\, FIZ-D)\, Predava
 nja (P)
DTSTART;TZID=Europe/Ljubljana:20240226T140000
DTEND;TZID=Europe/Ljubljana:20240226T160000
DTSTAMP:20260423T000719Z
UID:fmf-AFLABS-URNIK:premaknjeno-srecanje:128490
ATTENDEE:1. letnik (Fizika, 2. stopnja)
ATTENDEE:2. letnik (Fizika, 2. stopnja)
ATTENDEE:doktorski študij (Fizika, 3. stopnja)
CATEGORIES:Entry,Standard
COLOR:darkgreen
DESCRIPTION:Predmet: Ponedeljkov fizikalni kolokvij (FIZ-M1\, FIZ-M2\, FIZ
 -D)\, Predavanja (P)\nLetniki: 1. letnik (Fizika\, 2. stopnja)\, 2. letnik
  (Fizika\, 2. stopnja)\, doktorski študij (Fizika\, 3. stopnja)\nIzvajalc
 i: Simon Širca\nProstor: F1
LOCATION:F1
ORGANIZER:Simon Širca
RELATED-TO:fmf-AFLABS-URNIK:srecanje:10133
X-WR-TIMEZONE:Europe/Ljubljana
END:VEVENT
BEGIN:VEVENT
SUMMARY:Ponedeljkov fizikalni kolokvij (FIZ-M1\, FIZ-M2\, FIZ-D)\, Predava
 nja (P)
DTSTART;TZID=Europe/Ljubljana:20240304T140000
DTEND;TZID=Europe/Ljubljana:20240304T160000
DTSTAMP:20260423T000719Z
UID:fmf-AFLABS-URNIK:premaknjeno-srecanje:128491
ATTENDEE:1. letnik (Fizika, 2. stopnja)
ATTENDEE:2. letnik (Fizika, 2. stopnja)
ATTENDEE:doktorski študij (Fizika, 3. stopnja)
CATEGORIES:Entry,Standard
COLOR:darkgreen
DESCRIPTION:Predmet: Ponedeljkov fizikalni kolokvij (FIZ-M1\, FIZ-M2\, FIZ
 -D)\, Predavanja (P)\nLetniki: 1. letnik (Fizika\, 2. stopnja)\, 2. letnik
  (Fizika\, 2. stopnja)\, doktorski študij (Fizika\, 3. stopnja)\nIzvajalc
 i: Simon Širca\nProstor: F1
LOCATION:F1
ORGANIZER:Simon Širca
RELATED-TO:fmf-AFLABS-URNIK:srecanje:10133
X-WR-TIMEZONE:Europe/Ljubljana
END:VEVENT
BEGIN:VEVENT
SUMMARY:Modelska analiza II (FIZ-M1\, FIZ-M2\, JET-1\, JET-2)\, Predavanja
  (P)
DTSTART;TZID=Europe/Ljubljana:20240222T120000
DTEND;TZID=Europe/Ljubljana:20240222T140000
DTSTAMP:20260423T000719Z
UID:fmf-AFLABS-URNIK:premaknjeno-srecanje:127619
ATTENDEE:1. letnik (Fizika, 2. stopnja)
ATTENDEE:1. letnik (Jedrska tehnika, 2. stopnja)
ATTENDEE:2. letnik (Fizika, 2. stopnja)
ATTENDEE:2. letnik (Jedrska tehnika, 2. stopnja)
CATEGORIES:Entry,Standard
COLOR:darkgreen
DESCRIPTION:Predmet: Modelska analiza II (FIZ-M1\, FIZ-M2\, JET-1\, JET-2)
 \, Predavanja (P)\nLetniki: 1. letnik (Fizika\, 2. stopnja)\, 2. letnik (F
 izika\, 2. stopnja)\, 1. letnik (Jedrska tehnika\, 2. stopnja)\, 2. letnik
  (Jedrska tehnika\, 2. stopnja)\nIzvajalci: Simon Širca\nProstor: F5
LOCATION:F5
ORGANIZER:Simon Širca
RELATED-TO:fmf-AFLABS-URNIK:srecanje:10075
X-WR-TIMEZONE:Europe/Ljubljana
END:VEVENT
BEGIN:VEVENT
SUMMARY:Modelska analiza II (FIZ-M1\, FIZ-M2\, JET-1\, JET-2)\, Predavanja
  (P)
DTSTART;TZID=Europe/Ljubljana:20240229T120000
DTEND;TZID=Europe/Ljubljana:20240229T140000
DTSTAMP:20260423T000719Z
UID:fmf-AFLABS-URNIK:premaknjeno-srecanje:127620
ATTENDEE:1. letnik (Fizika, 2. stopnja)
ATTENDEE:1. letnik (Jedrska tehnika, 2. stopnja)
ATTENDEE:2. letnik (Fizika, 2. stopnja)
ATTENDEE:2. letnik (Jedrska tehnika, 2. stopnja)
CATEGORIES:Entry,Standard
COLOR:darkgreen
DESCRIPTION:Predmet: Modelska analiza II (FIZ-M1\, FIZ-M2\, JET-1\, JET-2)
 \, Predavanja (P)\nLetniki: 1. letnik (Fizika\, 2. stopnja)\, 2. letnik (F
 izika\, 2. stopnja)\, 1. letnik (Jedrska tehnika\, 2. stopnja)\, 2. letnik
  (Jedrska tehnika\, 2. stopnja)\nIzvajalci: Simon Širca\nProstor: F5
LOCATION:F5
ORGANIZER:Simon Širca
RELATED-TO:fmf-AFLABS-URNIK:srecanje:10075
X-WR-TIMEZONE:Europe/Ljubljana
END:VEVENT
BEGIN:VEVENT
SUMMARY:Izpiti MF1
DTSTART;TZID=Europe/Ljubljana:20240219T080000
DTEND;TZID=Europe/Ljubljana:20240219T100000
DTSTAMP:20260423T000719Z
UID:fmf-AFLABS-URNIK:rezervacija:14547
CATEGORIES:Reservation
COLOR:royalblue
DESCRIPTION:Predmeti: \nLetniki: \nIzvajalci: Simon Širca\nProstori: Kuš
 čerjev seminar
LOCATION:Kuščerjev seminar
ORGANIZER:Simon Širca
X-WR-TIMEZONE:Europe/Ljubljana
END:VEVENT
BEGIN:VEVENT
SUMMARY:Izpiti MF1
DTSTART;TZID=Europe/Ljubljana:20240220T120000
DTEND;TZID=Europe/Ljubljana:20240220T140000
DTSTAMP:20260423T000719Z
UID:fmf-AFLABS-URNIK:rezervacija:14550
CATEGORIES:Reservation
COLOR:royalblue
DESCRIPTION:Predmeti: \nLetniki: \nIzvajalci: Simon Širca\nProstori: Kuš
 čerjev seminar
LOCATION:Kuščerjev seminar
ORGANIZER:Simon Širca
X-WR-TIMEZONE:Europe/Ljubljana
END:VEVENT
BEGIN:VEVENT
SUMMARY:Izpiti MF1
DTSTART;TZID=Europe/Ljubljana:20240221T120000
DTEND;TZID=Europe/Ljubljana:20240221T140000
DTSTAMP:20260423T000719Z
UID:fmf-AFLABS-URNIK:rezervacija:14552
CATEGORIES:Reservation
COLOR:royalblue
DESCRIPTION:Predmeti: \nLetniki: \nIzvajalci: Simon Širca\nProstori: F6
LOCATION:F6
ORGANIZER:Simon Širca
X-WR-TIMEZONE:Europe/Ljubljana
END:VEVENT
BEGIN:VEVENT
SUMMARY:Ponedeljkov kolokvij
DTSTART;TZID=Europe/Ljubljana:20240129T130000
DTEND;TZID=Europe/Ljubljana:20240129T150000
DTSTAMP:20260423T000719Z
UID:fmf-AFLABS-URNIK:rezervacija:14591
CATEGORIES:Reservation
COLOR:royalblue
DESCRIPTION:Predmeti: \nLetniki: \nIzvajalci: Simon Širca\nProstori: F1
LOCATION:F1
ORGANIZER:Simon Širca
X-WR-TIMEZONE:Europe/Ljubljana
END:VEVENT
BEGIN:VEVENT
SUMMARY:Izpiti MF1
DTSTART;TZID=Europe/Ljubljana:20240219T120000
DTEND;TZID=Europe/Ljubljana:20240219T140000
DTSTAMP:20260423T000719Z
UID:fmf-AFLABS-URNIK:rezervacija:14982
CATEGORIES:Reservation
COLOR:royalblue
DESCRIPTION:Predmeti: \nLetniki: \nIzvajalci: Simon Širca\nProstori: Kuš
 čerjev seminar
LOCATION:Kuščerjev seminar
ORGANIZER:Simon Širca
X-WR-TIMEZONE:Europe/Ljubljana
END:VEVENT
BEGIN:VEVENT
SUMMARY:Ustni izpiti MF1
DTSTART;TZID=Europe/Ljubljana:20240221T080000
DTEND;TZID=Europe/Ljubljana:20240221T100000
DTSTAMP:20260423T000719Z
UID:fmf-AFLABS-URNIK:rezervacija:15130
CATEGORIES:Reservation
COLOR:royalblue
DESCRIPTION:Predmeti: \nLetniki: \nIzvajalci: Simon Širca\nProstori: F2
LOCATION:F2
ORGANIZER:Simon Širca
X-WR-TIMEZONE:Europe/Ljubljana
END:VEVENT
END:VCALENDAR
