BEGIN:VCALENDAR
VERSION:2.0
PRODID:-//AFLabs urnik izvoz - fmf//aflabs.si//SI
DTSTAMP:20260424T220621Z
NAME:UL FMF urnik
REFRESH-INTERVAL:PT1H
SOURCE:https://urnik.fmf.uni-lj.si/teacher/13?day=2020-02-10&export=1
URL:https://urnik.fmf.uni-lj.si/teacher/13?day=2020-02-10&export=1
X-PUBLISHED-TTL:PT1H
X-WR-CALNAME:UL FMF urnik
X-WR-TIMEZONE:Europe/Ljubljana
BEGIN:VTIMEZONE
TZID:Europe/Ljubljana
BEGIN:DAYLIGHT
DTSTART:20260329T020000
RDATE:20260329T020000
RDATE:20270328T020000
TZNAME:CEST
TZOFFSETFROM:+0100
TZOFFSETTO:+0200
END:DAYLIGHT
BEGIN:STANDARD
DTSTART:20261025T030000
RDATE:20261025T030000
RDATE:20271031T030000
TZNAME:CET
TZOFFSETFROM:+0200
TZOFFSETTO:+0100
END:STANDARD
END:VTIMEZONE
BEGIN:VEVENT
SUMMARY:Diplomski seminar (FM-3)\, Predavanja (P)
DTSTART;TZID=Europe/Ljubljana:20200108T100000
DTEND;TZID=Europe/Ljubljana:20200108T120000
DTSTAMP:20260424T220621Z
UID:fmf-AFLABS-URNIK:premaknjeno-srecanje:15404
ATTENDEE:3. letnik (FM)
CATEGORIES:Entry,Standard
COLOR:darkgreen
DESCRIPTION:Predmet: Diplomski seminar (FM-3)\, Predavanja (P)\nLetniki: 3
 . letnik (FM)\nIzvajalci: Tomaž Košir\nProstor: P.02
LOCATION:P.02
ORGANIZER:Tomaž Košir
RELATED-TO:fmf-AFLABS-URNIK:srecanje:3282
X-WR-TIMEZONE:Europe/Ljubljana
END:VEVENT
BEGIN:VEVENT
SUMMARY:Diplomski seminar (FM-3)\, Predavanja (P)
DTSTART;TZID=Europe/Ljubljana:20200115T100000
DTEND;TZID=Europe/Ljubljana:20200115T120000
DTSTAMP:20260424T220621Z
UID:fmf-AFLABS-URNIK:premaknjeno-srecanje:15405
ATTENDEE:3. letnik (FM)
CATEGORIES:Entry,Standard
COLOR:darkgreen
DESCRIPTION:Predmet: Diplomski seminar (FM-3)\, Predavanja (P)\nLetniki: 3
 . letnik (FM)\nIzvajalci: Tomaž Košir\nProstor: P.02
LOCATION:P.02
ORGANIZER:Tomaž Košir
RELATED-TO:fmf-AFLABS-URNIK:srecanje:3282
X-WR-TIMEZONE:Europe/Ljubljana
END:VEVENT
BEGIN:VEVENT
SUMMARY:Finančna matematika 1 (FM-2\, IŠRM-3\, MAT-3\, PM-4)\, Predavanj
 a (P)
DTSTART;TZID=Europe/Ljubljana:20200217T120000
DTEND;TZID=Europe/Ljubljana:20200217T140000
DTSTAMP:20260424T220621Z
UID:fmf-AFLABS-URNIK:premaknjeno-srecanje:20564
ATTENDEE:2. letnik (FM)
ATTENDEE:3. letnik (IŠRM)
ATTENDEE:3. letnik (M)
ATTENDEE:4. letnik (PM)
CATEGORIES:Entry,Standard
COLOR:darkgreen
DESCRIPTION:Predmet: Finančna matematika 1 (FM-2\, IŠRM-3\, MAT-3\, PM-4
 )\, Predavanja (P)\nLetniki: 2. letnik (FM)\, 3. letnik (IŠRM)\, 3. letni
 k (M)\, 4. letnik (PM)\nIzvajalci: Tomaž Košir\nProstor: 2.05
LOCATION:2.05
ORGANIZER:Tomaž Košir
RELATED-TO:fmf-AFLABS-URNIK:srecanje:4064
X-WR-TIMEZONE:Europe/Ljubljana
END:VEVENT
BEGIN:VEVENT
SUMMARY:Finančna matematika 1 (FM-2\, IŠRM-3\, MAT-3\, PM-4)\, Predavanj
 a (P)
DTSTART;TZID=Europe/Ljubljana:20200224T120000
DTEND;TZID=Europe/Ljubljana:20200224T140000
DTSTAMP:20260424T220621Z
UID:fmf-AFLABS-URNIK:premaknjeno-srecanje:20565
ATTENDEE:2. letnik (FM)
ATTENDEE:3. letnik (IŠRM)
ATTENDEE:3. letnik (M)
ATTENDEE:4. letnik (PM)
CATEGORIES:Entry,Standard
COLOR:darkgreen
DESCRIPTION:Predmet: Finančna matematika 1 (FM-2\, IŠRM-3\, MAT-3\, PM-4
 )\, Predavanja (P)\nLetniki: 2. letnik (FM)\, 3. letnik (IŠRM)\, 3. letni
 k (M)\, 4. letnik (PM)\nIzvajalci: Tomaž Košir\nProstor: 2.05
LOCATION:2.05
ORGANIZER:Tomaž Košir
RELATED-TO:fmf-AFLABS-URNIK:srecanje:4064
X-WR-TIMEZONE:Europe/Ljubljana
END:VEVENT
BEGIN:VEVENT
SUMMARY:Finančna matematika 1 (FM-2\, IŠRM-3\, MAT-3\, PM-4)\, Predavanj
 a (P)
DTSTART;TZID=Europe/Ljubljana:20200302T120000
DTEND;TZID=Europe/Ljubljana:20200302T140000
DTSTAMP:20260424T220621Z
UID:fmf-AFLABS-URNIK:premaknjeno-srecanje:20566
ATTENDEE:2. letnik (FM)
ATTENDEE:3. letnik (IŠRM)
ATTENDEE:3. letnik (M)
ATTENDEE:4. letnik (PM)
CATEGORIES:Entry,Standard
COLOR:darkgreen
DESCRIPTION:Predmet: Finančna matematika 1 (FM-2\, IŠRM-3\, MAT-3\, PM-4
 )\, Predavanja (P)\nLetniki: 2. letnik (FM)\, 3. letnik (IŠRM)\, 3. letni
 k (M)\, 4. letnik (PM)\nIzvajalci: Tomaž Košir\nProstor: 2.05
LOCATION:2.05
ORGANIZER:Tomaž Košir
RELATED-TO:fmf-AFLABS-URNIK:srecanje:4064
X-WR-TIMEZONE:Europe/Ljubljana
END:VEVENT
BEGIN:VEVENT
SUMMARY:Finančna matematika 1 (FM-2\, IŠRM-3\, MAT-3\, PM-4)\, Predavanj
 a (P)
DTSTART;TZID=Europe/Ljubljana:20200309T120000
DTEND;TZID=Europe/Ljubljana:20200309T140000
DTSTAMP:20260424T220621Z
UID:fmf-AFLABS-URNIK:premaknjeno-srecanje:20567
ATTENDEE:2. letnik (FM)
ATTENDEE:3. letnik (IŠRM)
ATTENDEE:3. letnik (M)
ATTENDEE:4. letnik (PM)
CATEGORIES:Entry,Standard
COLOR:darkgreen
DESCRIPTION:Predmet: Finančna matematika 1 (FM-2\, IŠRM-3\, MAT-3\, PM-4
 )\, Predavanja (P)\nLetniki: 2. letnik (FM)\, 3. letnik (IŠRM)\, 3. letni
 k (M)\, 4. letnik (PM)\nIzvajalci: Tomaž Košir\nProstor: 2.05
LOCATION:2.05
ORGANIZER:Tomaž Košir
RELATED-TO:fmf-AFLABS-URNIK:srecanje:4064
X-WR-TIMEZONE:Europe/Ljubljana
END:VEVENT
BEGIN:VEVENT
SUMMARY:Finančna matematika 1 (FM-2\, IŠRM-3\, MAT-3\, PM-4)\, Predavanj
 a (P)
DTSTART;TZID=Europe/Ljubljana:20200316T120000
DTEND;TZID=Europe/Ljubljana:20200316T140000
DTSTAMP:20260424T220621Z
UID:fmf-AFLABS-URNIK:premaknjeno-srecanje:20568
ATTENDEE:2. letnik (FM)
ATTENDEE:3. letnik (IŠRM)
ATTENDEE:3. letnik (M)
ATTENDEE:4. letnik (PM)
CATEGORIES:Entry,Standard
COLOR:darkgreen
DESCRIPTION:Predmet: Finančna matematika 1 (FM-2\, IŠRM-3\, MAT-3\, PM-4
 )\, Predavanja (P)\nLetniki: 2. letnik (FM)\, 3. letnik (IŠRM)\, 3. letni
 k (M)\, 4. letnik (PM)\nIzvajalci: Tomaž Košir\nProstor: 2.05
LOCATION:2.05
ORGANIZER:Tomaž Košir
RELATED-TO:fmf-AFLABS-URNIK:srecanje:4064
X-WR-TIMEZONE:Europe/Ljubljana
END:VEVENT
BEGIN:VEVENT
SUMMARY:Seminar (FM-2)\, Seminar (S)
DTSTART;TZID=Europe/Ljubljana:20200217T080000
DTEND;TZID=Europe/Ljubljana:20200217T100000
DTSTAMP:20260424T220621Z
UID:fmf-AFLABS-URNIK:premaknjeno-srecanje:100602
ATTENDEE:2. letnik (FM)
CATEGORIES:Entry,Standard
COLOR:darkgreen
DESCRIPTION:Predmet: Seminar (FM-2)\, Seminar (S)\nLetniki: 2. letnik (FM)
 \nIzvajalci: Tomaž Košir\nProstor: 3.05
LOCATION:3.05
ORGANIZER:Tomaž Košir
RELATED-TO:fmf-AFLABS-URNIK:srecanje:4434
X-WR-TIMEZONE:Europe/Ljubljana
END:VEVENT
BEGIN:VEVENT
SUMMARY:Seminar (FM-2)\, Seminar (S)
DTSTART;TZID=Europe/Ljubljana:20200224T080000
DTEND;TZID=Europe/Ljubljana:20200224T100000
DTSTAMP:20260424T220621Z
UID:fmf-AFLABS-URNIK:premaknjeno-srecanje:100603
ATTENDEE:2. letnik (FM)
CATEGORIES:Entry,Standard
COLOR:darkgreen
DESCRIPTION:Predmet: Seminar (FM-2)\, Seminar (S)\nLetniki: 2. letnik (FM)
 \nIzvajalci: Tomaž Košir\nProstor: 3.05
LOCATION:3.05
ORGANIZER:Tomaž Košir
RELATED-TO:fmf-AFLABS-URNIK:srecanje:4434
X-WR-TIMEZONE:Europe/Ljubljana
END:VEVENT
BEGIN:VEVENT
SUMMARY:Seminar (FM-2)\, Seminar (S)
DTSTART;TZID=Europe/Ljubljana:20200302T080000
DTEND;TZID=Europe/Ljubljana:20200302T100000
DTSTAMP:20260424T220621Z
UID:fmf-AFLABS-URNIK:premaknjeno-srecanje:100604
ATTENDEE:2. letnik (FM)
CATEGORIES:Entry,Standard
COLOR:darkgreen
DESCRIPTION:Predmet: Seminar (FM-2)\, Seminar (S)\nLetniki: 2. letnik (FM)
 \nIzvajalci: Tomaž Košir\nProstor: 3.05
LOCATION:3.05
ORGANIZER:Tomaž Košir
RELATED-TO:fmf-AFLABS-URNIK:srecanje:4434
X-WR-TIMEZONE:Europe/Ljubljana
END:VEVENT
BEGIN:VEVENT
SUMMARY:Seminar (FM-2)\, Seminar (S)
DTSTART;TZID=Europe/Ljubljana:20200309T080000
DTEND;TZID=Europe/Ljubljana:20200309T100000
DTSTAMP:20260424T220621Z
UID:fmf-AFLABS-URNIK:premaknjeno-srecanje:100605
ATTENDEE:2. letnik (FM)
CATEGORIES:Entry,Standard
COLOR:darkgreen
DESCRIPTION:Predmet: Seminar (FM-2)\, Seminar (S)\nLetniki: 2. letnik (FM)
 \nIzvajalci: Tomaž Košir\nProstor: 3.05
LOCATION:3.05
ORGANIZER:Tomaž Košir
RELATED-TO:fmf-AFLABS-URNIK:srecanje:4434
X-WR-TIMEZONE:Europe/Ljubljana
END:VEVENT
BEGIN:VEVENT
SUMMARY:Seminar (FM-2)\, Seminar (S)
DTSTART;TZID=Europe/Ljubljana:20200316T080000
DTEND;TZID=Europe/Ljubljana:20200316T100000
DTSTAMP:20260424T220621Z
UID:fmf-AFLABS-URNIK:premaknjeno-srecanje:100606
ATTENDEE:2. letnik (FM)
CATEGORIES:Entry,Standard
COLOR:darkgreen
DESCRIPTION:Predmet: Seminar (FM-2)\, Seminar (S)\nLetniki: 2. letnik (FM)
 \nIzvajalci: Tomaž Košir\nProstor: 3.05
LOCATION:3.05
ORGANIZER:Tomaž Košir
RELATED-TO:fmf-AFLABS-URNIK:srecanje:4434
X-WR-TIMEZONE:Europe/Ljubljana
END:VEVENT
BEGIN:VEVENT
SUMMARY:Seminar za geometrijo (MAT-D)\, Seminar (S)
DTSTART;TZID=Europe/Ljubljana:20200217T100000
DTEND;TZID=Europe/Ljubljana:20200217T120000
DTSTAMP:20260424T220621Z
UID:fmf-AFLABS-URNIK:premaknjeno-srecanje:102481
ATTENDEE:doktorski študij (M)
CATEGORIES:Entry,Standard
COLOR:darkgreen
DESCRIPTION:Predmet: Seminar za geometrijo (MAT-D)\, Seminar (S)\nLetniki:
  doktorski študij (M)\nIzvajalci: Tomaž Košir\nProstor: 3.06
LOCATION:3.06
ORGANIZER:Tomaž Košir
RELATED-TO:fmf-AFLABS-URNIK:srecanje:4444
X-WR-TIMEZONE:Europe/Ljubljana
END:VEVENT
BEGIN:VEVENT
SUMMARY:Seminar za geometrijo (MAT-D)\, Seminar (S)
DTSTART;TZID=Europe/Ljubljana:20200224T100000
DTEND;TZID=Europe/Ljubljana:20200224T120000
DTSTAMP:20260424T220621Z
UID:fmf-AFLABS-URNIK:premaknjeno-srecanje:102482
ATTENDEE:doktorski študij (M)
CATEGORIES:Entry,Standard
COLOR:darkgreen
DESCRIPTION:Predmet: Seminar za geometrijo (MAT-D)\, Seminar (S)\nLetniki:
  doktorski študij (M)\nIzvajalci: Tomaž Košir\nProstor: 3.06
LOCATION:3.06
ORGANIZER:Tomaž Košir
RELATED-TO:fmf-AFLABS-URNIK:srecanje:4444
X-WR-TIMEZONE:Europe/Ljubljana
END:VEVENT
BEGIN:VEVENT
SUMMARY:Seminar za geometrijo (MAT-D)\, Seminar (S)
DTSTART;TZID=Europe/Ljubljana:20200302T100000
DTEND;TZID=Europe/Ljubljana:20200302T120000
DTSTAMP:20260424T220621Z
UID:fmf-AFLABS-URNIK:premaknjeno-srecanje:102483
ATTENDEE:doktorski študij (M)
CATEGORIES:Entry,Standard
COLOR:darkgreen
DESCRIPTION:Predmet: Seminar za geometrijo (MAT-D)\, Seminar (S)\nLetniki:
  doktorski študij (M)\nIzvajalci: Tomaž Košir\nProstor: 3.06
LOCATION:3.06
ORGANIZER:Tomaž Košir
RELATED-TO:fmf-AFLABS-URNIK:srecanje:4444
X-WR-TIMEZONE:Europe/Ljubljana
END:VEVENT
BEGIN:VEVENT
SUMMARY:Seminar za geometrijo (MAT-D)\, Seminar (S)
DTSTART;TZID=Europe/Ljubljana:20200309T100000
DTEND;TZID=Europe/Ljubljana:20200309T120000
DTSTAMP:20260424T220621Z
UID:fmf-AFLABS-URNIK:premaknjeno-srecanje:102484
ATTENDEE:doktorski študij (M)
CATEGORIES:Entry,Standard
COLOR:darkgreen
DESCRIPTION:Predmet: Seminar za geometrijo (MAT-D)\, Seminar (S)\nLetniki:
  doktorski študij (M)\nIzvajalci: Tomaž Košir\nProstor: 3.06
LOCATION:3.06
ORGANIZER:Tomaž Košir
RELATED-TO:fmf-AFLABS-URNIK:srecanje:4444
X-WR-TIMEZONE:Europe/Ljubljana
END:VEVENT
BEGIN:VEVENT
SUMMARY:Seminar za geometrijo (MAT-D)\, Seminar (S)
DTSTART;TZID=Europe/Ljubljana:20200316T100000
DTEND;TZID=Europe/Ljubljana:20200316T120000
DTSTAMP:20260424T220621Z
UID:fmf-AFLABS-URNIK:premaknjeno-srecanje:102485
ATTENDEE:doktorski študij (M)
CATEGORIES:Entry,Standard
COLOR:darkgreen
DESCRIPTION:Predmet: Seminar za geometrijo (MAT-D)\, Seminar (S)\nLetniki:
  doktorski študij (M)\nIzvajalci: Tomaž Košir\nProstor: 3.06
LOCATION:3.06
ORGANIZER:Tomaž Košir
RELATED-TO:fmf-AFLABS-URNIK:srecanje:4444
X-WR-TIMEZONE:Europe/Ljubljana
END:VEVENT
BEGIN:VEVENT
SUMMARY:Diplomski seminar (FM-3)\, Seminar (S)
DTSTART;TZID=Europe/Ljubljana:20200218T120000
DTEND;TZID=Europe/Ljubljana:20200218T140000
DTSTAMP:20260424T220621Z
UID:fmf-AFLABS-URNIK:premaknjeno-srecanje:15548
ATTENDEE:3. letnik (FM)
CATEGORIES:Entry,Standard
COLOR:darkgreen
DESCRIPTION:Predmet: Diplomski seminar (FM-3)\, Seminar (S)\nLetniki: 3. l
 etnik (FM)\nIzvajalci: Tomaž Košir\nProstor: 2.01
LOCATION:2.01
ORGANIZER:Tomaž Košir
RELATED-TO:fmf-AFLABS-URNIK:srecanje:4041
X-WR-TIMEZONE:Europe/Ljubljana
END:VEVENT
BEGIN:VEVENT
SUMMARY:Diplomski seminar (FM-3)\, Seminar (S)
DTSTART;TZID=Europe/Ljubljana:20200225T120000
DTEND;TZID=Europe/Ljubljana:20200225T140000
DTSTAMP:20260424T220621Z
UID:fmf-AFLABS-URNIK:premaknjeno-srecanje:15549
ATTENDEE:3. letnik (FM)
CATEGORIES:Entry,Standard
COLOR:darkgreen
DESCRIPTION:Predmet: Diplomski seminar (FM-3)\, Seminar (S)\nLetniki: 3. l
 etnik (FM)\nIzvajalci: Tomaž Košir\nProstor: 2.01
LOCATION:2.01
ORGANIZER:Tomaž Košir
RELATED-TO:fmf-AFLABS-URNIK:srecanje:4041
X-WR-TIMEZONE:Europe/Ljubljana
END:VEVENT
BEGIN:VEVENT
SUMMARY:Diplomski seminar (FM-3)\, Seminar (S)
DTSTART;TZID=Europe/Ljubljana:20200303T120000
DTEND;TZID=Europe/Ljubljana:20200303T140000
DTSTAMP:20260424T220621Z
UID:fmf-AFLABS-URNIK:premaknjeno-srecanje:15550
ATTENDEE:3. letnik (FM)
CATEGORIES:Entry,Standard
COLOR:darkgreen
DESCRIPTION:Predmet: Diplomski seminar (FM-3)\, Seminar (S)\nLetniki: 3. l
 etnik (FM)\nIzvajalci: Tomaž Košir\nProstor: 2.01
LOCATION:2.01
ORGANIZER:Tomaž Košir
RELATED-TO:fmf-AFLABS-URNIK:srecanje:4041
X-WR-TIMEZONE:Europe/Ljubljana
END:VEVENT
BEGIN:VEVENT
SUMMARY:Diplomski seminar (FM-3)\, Seminar (S)
DTSTART;TZID=Europe/Ljubljana:20200310T120000
DTEND;TZID=Europe/Ljubljana:20200310T140000
DTSTAMP:20260424T220621Z
UID:fmf-AFLABS-URNIK:premaknjeno-srecanje:15551
ATTENDEE:3. letnik (FM)
CATEGORIES:Entry,Standard
COLOR:darkgreen
DESCRIPTION:Predmet: Diplomski seminar (FM-3)\, Seminar (S)\nLetniki: 3. l
 etnik (FM)\nIzvajalci: Tomaž Košir\nProstor: 2.01
LOCATION:2.01
ORGANIZER:Tomaž Košir
RELATED-TO:fmf-AFLABS-URNIK:srecanje:4041
X-WR-TIMEZONE:Europe/Ljubljana
END:VEVENT
BEGIN:VEVENT
SUMMARY:Seminar (FM-2)\, Seminar (S)
DTSTART;TZID=Europe/Ljubljana:20200218T100000
DTEND;TZID=Europe/Ljubljana:20200218T120000
DTSTAMP:20260424T220621Z
UID:fmf-AFLABS-URNIK:premaknjeno-srecanje:100712
ATTENDEE:2. letnik (FM)
CATEGORIES:Entry,Standard
COLOR:darkgreen
DESCRIPTION:Predmet: Seminar (FM-2)\, Seminar (S)\nLetniki: 2. letnik (FM)
 \nIzvajalci: Tomaž Košir\nProstor: P.01
LOCATION:P.01
ORGANIZER:Tomaž Košir
RELATED-TO:fmf-AFLABS-URNIK:srecanje:4549
X-WR-TIMEZONE:Europe/Ljubljana
END:VEVENT
BEGIN:VEVENT
SUMMARY:Seminar (FM-2)\, Seminar (S)
DTSTART;TZID=Europe/Ljubljana:20200225T100000
DTEND;TZID=Europe/Ljubljana:20200225T120000
DTSTAMP:20260424T220621Z
UID:fmf-AFLABS-URNIK:premaknjeno-srecanje:100713
ATTENDEE:2. letnik (FM)
CATEGORIES:Entry,Standard
COLOR:darkgreen
DESCRIPTION:Predmet: Seminar (FM-2)\, Seminar (S)\nLetniki: 2. letnik (FM)
 \nIzvajalci: Tomaž Košir\nProstor: P.01
LOCATION:P.01
ORGANIZER:Tomaž Košir
RELATED-TO:fmf-AFLABS-URNIK:srecanje:4549
X-WR-TIMEZONE:Europe/Ljubljana
END:VEVENT
BEGIN:VEVENT
SUMMARY:Seminar (FM-2)\, Seminar (S)
DTSTART;TZID=Europe/Ljubljana:20200303T100000
DTEND;TZID=Europe/Ljubljana:20200303T120000
DTSTAMP:20260424T220621Z
UID:fmf-AFLABS-URNIK:premaknjeno-srecanje:100714
ATTENDEE:2. letnik (FM)
CATEGORIES:Entry,Standard
COLOR:darkgreen
DESCRIPTION:Predmet: Seminar (FM-2)\, Seminar (S)\nLetniki: 2. letnik (FM)
 \nIzvajalci: Tomaž Košir\nProstor: P.01
LOCATION:P.01
ORGANIZER:Tomaž Košir
RELATED-TO:fmf-AFLABS-URNIK:srecanje:4549
X-WR-TIMEZONE:Europe/Ljubljana
END:VEVENT
BEGIN:VEVENT
SUMMARY:Seminar (FM-2)\, Seminar (S)
DTSTART;TZID=Europe/Ljubljana:20200310T100000
DTEND;TZID=Europe/Ljubljana:20200310T120000
DTSTAMP:20260424T220621Z
UID:fmf-AFLABS-URNIK:premaknjeno-srecanje:100715
ATTENDEE:2. letnik (FM)
CATEGORIES:Entry,Standard
COLOR:darkgreen
DESCRIPTION:Predmet: Seminar (FM-2)\, Seminar (S)\nLetniki: 2. letnik (FM)
 \nIzvajalci: Tomaž Košir\nProstor: P.01
LOCATION:P.01
ORGANIZER:Tomaž Košir
RELATED-TO:fmf-AFLABS-URNIK:srecanje:4549
X-WR-TIMEZONE:Europe/Ljubljana
END:VEVENT
BEGIN:VEVENT
SUMMARY:Diplomski seminar (FM-3)\, Seminar (S)
DTSTART;TZID=Europe/Ljubljana:20200220T100000
DTEND;TZID=Europe/Ljubljana:20200220T120000
DTSTAMP:20260424T220621Z
UID:fmf-AFLABS-URNIK:premaknjeno-srecanje:15716
ATTENDEE:3. letnik (FM)
CATEGORIES:Entry,Standard
COLOR:darkgreen
DESCRIPTION:Predmet: Diplomski seminar (FM-3)\, Seminar (S)\nLetniki: 3. l
 etnik (FM)\nIzvajalci: Tomaž Košir\nProstor: 3.06
LOCATION:3.06
ORGANIZER:Tomaž Košir
RELATED-TO:fmf-AFLABS-URNIK:srecanje:4044
X-WR-TIMEZONE:Europe/Ljubljana
END:VEVENT
BEGIN:VEVENT
SUMMARY:Diplomski seminar (FM-3)\, Seminar (S)
DTSTART;TZID=Europe/Ljubljana:20200227T100000
DTEND;TZID=Europe/Ljubljana:20200227T120000
DTSTAMP:20260424T220621Z
UID:fmf-AFLABS-URNIK:premaknjeno-srecanje:15717
ATTENDEE:3. letnik (FM)
CATEGORIES:Entry,Standard
COLOR:darkgreen
DESCRIPTION:Predmet: Diplomski seminar (FM-3)\, Seminar (S)\nLetniki: 3. l
 etnik (FM)\nIzvajalci: Tomaž Košir\nProstor: 3.06
LOCATION:3.06
ORGANIZER:Tomaž Košir
RELATED-TO:fmf-AFLABS-URNIK:srecanje:4044
X-WR-TIMEZONE:Europe/Ljubljana
END:VEVENT
BEGIN:VEVENT
SUMMARY:Diplomski seminar (FM-3)\, Seminar (S)
DTSTART;TZID=Europe/Ljubljana:20200305T100000
DTEND;TZID=Europe/Ljubljana:20200305T120000
DTSTAMP:20260424T220621Z
UID:fmf-AFLABS-URNIK:premaknjeno-srecanje:15718
ATTENDEE:3. letnik (FM)
CATEGORIES:Entry,Standard
COLOR:darkgreen
DESCRIPTION:Predmet: Diplomski seminar (FM-3)\, Seminar (S)\nLetniki: 3. l
 etnik (FM)\nIzvajalci: Tomaž Košir\nProstor: 3.06
LOCATION:3.06
ORGANIZER:Tomaž Košir
RELATED-TO:fmf-AFLABS-URNIK:srecanje:4044
X-WR-TIMEZONE:Europe/Ljubljana
END:VEVENT
BEGIN:VEVENT
SUMMARY:Diplomski seminar (FM-3)\, Seminar (S)
DTSTART;TZID=Europe/Ljubljana:20200312T100000
DTEND;TZID=Europe/Ljubljana:20200312T120000
DTSTAMP:20260424T220621Z
UID:fmf-AFLABS-URNIK:premaknjeno-srecanje:15719
ATTENDEE:3. letnik (FM)
CATEGORIES:Entry,Standard
COLOR:darkgreen
DESCRIPTION:Predmet: Diplomski seminar (FM-3)\, Seminar (S)\nLetniki: 3. l
 etnik (FM)\nIzvajalci: Tomaž Košir\nProstor: 3.06
LOCATION:3.06
ORGANIZER:Tomaž Košir
RELATED-TO:fmf-AFLABS-URNIK:srecanje:4044
X-WR-TIMEZONE:Europe/Ljubljana
END:VEVENT
BEGIN:VEVENT
SUMMARY:Govorilna ura ()\, Predavanja (P)
DTSTART;TZID=Europe/Ljubljana:20200220T090000
DTEND;TZID=Europe/Ljubljana:20200220T100000
DTSTAMP:20260424T220621Z
UID:fmf-AFLABS-URNIK:premaknjeno-srecanje:41361
CATEGORIES:Entry,Standard
COLOR:darkgreen
DESCRIPTION:Predmet: Govorilna ura ()\, Predavanja (P)\nLetniki: \nIzvajal
 ci: Tomaž Košir\nProstor: 4.31
LOCATION:4.31
ORGANIZER:Tomaž Košir
RELATED-TO:fmf-AFLABS-URNIK:srecanje:4159
X-WR-TIMEZONE:Europe/Ljubljana
END:VEVENT
BEGIN:VEVENT
SUMMARY:Govorilna ura ()\, Predavanja (P)
DTSTART;TZID=Europe/Ljubljana:20200227T090000
DTEND;TZID=Europe/Ljubljana:20200227T100000
DTSTAMP:20260424T220621Z
UID:fmf-AFLABS-URNIK:premaknjeno-srecanje:41362
CATEGORIES:Entry,Standard
COLOR:darkgreen
DESCRIPTION:Predmet: Govorilna ura ()\, Predavanja (P)\nLetniki: \nIzvajal
 ci: Tomaž Košir\nProstor: 4.31
LOCATION:4.31
ORGANIZER:Tomaž Košir
RELATED-TO:fmf-AFLABS-URNIK:srecanje:4159
X-WR-TIMEZONE:Europe/Ljubljana
END:VEVENT
BEGIN:VEVENT
SUMMARY:Govorilna ura ()\, Predavanja (P)
DTSTART;TZID=Europe/Ljubljana:20200305T090000
DTEND;TZID=Europe/Ljubljana:20200305T100000
DTSTAMP:20260424T220621Z
UID:fmf-AFLABS-URNIK:premaknjeno-srecanje:41363
CATEGORIES:Entry,Standard
COLOR:darkgreen
DESCRIPTION:Predmet: Govorilna ura ()\, Predavanja (P)\nLetniki: \nIzvajal
 ci: Tomaž Košir\nProstor: 4.31
LOCATION:4.31
ORGANIZER:Tomaž Košir
RELATED-TO:fmf-AFLABS-URNIK:srecanje:4159
X-WR-TIMEZONE:Europe/Ljubljana
END:VEVENT
BEGIN:VEVENT
SUMMARY:Govorilna ura ()\, Predavanja (P)
DTSTART;TZID=Europe/Ljubljana:20200312T090000
DTEND;TZID=Europe/Ljubljana:20200312T100000
DTSTAMP:20260424T220621Z
UID:fmf-AFLABS-URNIK:premaknjeno-srecanje:41364
CATEGORIES:Entry,Standard
COLOR:darkgreen
DESCRIPTION:Predmet: Govorilna ura ()\, Predavanja (P)\nLetniki: \nIzvajal
 ci: Tomaž Košir\nProstor: 4.31
LOCATION:4.31
ORGANIZER:Tomaž Košir
RELATED-TO:fmf-AFLABS-URNIK:srecanje:4159
X-WR-TIMEZONE:Europe/Ljubljana
END:VEVENT
BEGIN:VEVENT
SUMMARY:Rezervacija
DTSTART;TZID=Europe/Ljubljana:20200204T090000
DTEND;TZID=Europe/Ljubljana:20200204T110000
DTSTAMP:20260424T220621Z
UID:fmf-AFLABS-URNIK:rezervacija:5030
CATEGORIES:Reservation
COLOR:royalblue
DESCRIPTION:Predmeti: \nLetniki: \nIzvajalci: Tomaž Košir\nProstori: 3.0
 7
LOCATION:3.07
ORGANIZER:Tomaž Košir
X-WR-TIMEZONE:Europe/Ljubljana
END:VEVENT
BEGIN:VEVENT
SUMMARY:Rezervacija
DTSTART;TZID=Europe/Ljubljana:20200211T090000
DTEND;TZID=Europe/Ljubljana:20200211T110000
DTSTAMP:20260424T220621Z
UID:fmf-AFLABS-URNIK:rezervacija:5102
CATEGORIES:Reservation
COLOR:royalblue
DESCRIPTION:Predmeti: \nLetniki: \nIzvajalci: Tomaž Košir\nProstori: 3.0
 7
LOCATION:3.07
ORGANIZER:Tomaž Košir
X-WR-TIMEZONE:Europe/Ljubljana
END:VEVENT
BEGIN:VEVENT
SUMMARY:Rezervacija
DTSTART;TZID=Europe/Ljubljana:20200224T100000
DTEND;TZID=Europe/Ljubljana:20200224T150000
DTSTAMP:20260424T220621Z
UID:fmf-AFLABS-URNIK:rezervacija:5186
CATEGORIES:Reservation
COLOR:royalblue
DESCRIPTION:Predmeti: \nLetniki: \nIzvajalci: Tomaž Košir\nProstori: F3
LOCATION:F3
ORGANIZER:Tomaž Košir
X-WR-TIMEZONE:Europe/Ljubljana
END:VEVENT
BEGIN:VEVENT
SUMMARY:Rezervacija
DTSTART;TZID=Europe/Ljubljana:20200225T100000
DTEND;TZID=Europe/Ljubljana:20200225T140000
DTSTAMP:20260424T220621Z
UID:fmf-AFLABS-URNIK:rezervacija:5194
CATEGORIES:Reservation
COLOR:royalblue
DESCRIPTION:Predmeti: \nLetniki: \nIzvajalci: Tomaž Košir\nProstori: F4
LOCATION:F4
ORGANIZER:Tomaž Košir
X-WR-TIMEZONE:Europe/Ljubljana
END:VEVENT
BEGIN:VEVENT
SUMMARY:Rezervacija
DTSTART;TZID=Europe/Ljubljana:20200225T140000
DTEND;TZID=Europe/Ljubljana:20200225T150000
DTSTAMP:20260424T220621Z
UID:fmf-AFLABS-URNIK:rezervacija:5197
CATEGORIES:Reservation
COLOR:royalblue
DESCRIPTION:Predmeti: \nLetniki: \nIzvajalci: Tomaž Košir\nProstori: F6
LOCATION:F6
ORGANIZER:Tomaž Košir
X-WR-TIMEZONE:Europe/Ljubljana
END:VEVENT
BEGIN:VEVENT
SUMMARY:Rezervacija
DTSTART;TZID=Europe/Ljubljana:20200226T090000
DTEND;TZID=Europe/Ljubljana:20200226T110000
DTSTAMP:20260424T220621Z
UID:fmf-AFLABS-URNIK:rezervacija:5201
CATEGORIES:Reservation
COLOR:royalblue
DESCRIPTION:Predmeti: \nLetniki: \nIzvajalci: Tomaž Košir\nProstori: S20
 6
LOCATION:S206
ORGANIZER:Tomaž Košir
X-WR-TIMEZONE:Europe/Ljubljana
END:VEVENT
BEGIN:VEVENT
SUMMARY:Rezervacija
DTSTART;TZID=Europe/Ljubljana:20200305T150000
DTEND;TZID=Europe/Ljubljana:20200305T170000
DTSTAMP:20260424T220621Z
UID:fmf-AFLABS-URNIK:rezervacija:5227
CATEGORIES:Reservation
COLOR:royalblue
DESCRIPTION:Predmeti: \nLetniki: \nIzvajalci: Tomaž Košir\nProstori: 3.0
 4
LOCATION:3.04
ORGANIZER:Tomaž Košir
X-WR-TIMEZONE:Europe/Ljubljana
END:VEVENT
BEGIN:VEVENT
SUMMARY:Rezervacija
DTSTART;TZID=Europe/Ljubljana:20200306T090000
DTEND;TZID=Europe/Ljubljana:20200306T110000
DTSTAMP:20260424T220621Z
UID:fmf-AFLABS-URNIK:rezervacija:5231
CATEGORIES:Reservation
COLOR:royalblue
DESCRIPTION:Predmeti: \nLetniki: \nIzvajalci: Tomaž Košir\nProstori: 3.1
 0
LOCATION:3.10
ORGANIZER:Tomaž Košir
X-WR-TIMEZONE:Europe/Ljubljana
END:VEVENT
BEGIN:VEVENT
SUMMARY:Rezervacija
DTSTART;TZID=Europe/Ljubljana:20200313T090000
DTEND;TZID=Europe/Ljubljana:20200313T110000
DTSTAMP:20260424T220621Z
UID:fmf-AFLABS-URNIK:rezervacija:5260
CATEGORIES:Reservation
COLOR:royalblue
DESCRIPTION:Predmeti: \nLetniki: \nIzvajalci: Tomaž Košir\nProstori: 3.1
 0
LOCATION:3.10
ORGANIZER:Tomaž Košir
X-WR-TIMEZONE:Europe/Ljubljana
END:VEVENT
BEGIN:VEVENT
SUMMARY:Rezervacija
DTSTART;TZID=Europe/Ljubljana:20200316T140000
DTEND;TZID=Europe/Ljubljana:20200316T150000
DTSTAMP:20260424T220621Z
UID:fmf-AFLABS-URNIK:rezervacija:5265
CATEGORIES:Reservation
COLOR:royalblue
DESCRIPTION:Predmeti: \nLetniki: \nIzvajalci: Tomaž Košir\nProstori: 2.0
 1
LOCATION:2.01
ORGANIZER:Tomaž Košir
X-WR-TIMEZONE:Europe/Ljubljana
END:VEVENT
END:VCALENDAR
