BEGIN:VCALENDAR
VERSION:2.0
PRODID:-//AFLabs urnik izvoz - fmf//aflabs.si//SI
DTSTAMP:20260423T233606Z
NAME:UL FMF urnik
REFRESH-INTERVAL:PT1H
SOURCE:https://urnik.fmf.uni-lj.si/teacher/13?day=2020-06-29&export=1
URL:https://urnik.fmf.uni-lj.si/teacher/13?day=2020-06-29&export=1
X-PUBLISHED-TTL:PT1H
X-WR-CALNAME:UL FMF urnik
X-WR-TIMEZONE:Europe/Ljubljana
BEGIN:VTIMEZONE
TZID:Europe/Ljubljana
BEGIN:DAYLIGHT
DTSTART:20260329T020000
RDATE:20260329T020000
RDATE:20270328T020000
TZNAME:CEST
TZOFFSETFROM:+0100
TZOFFSETTO:+0200
END:DAYLIGHT
BEGIN:STANDARD
DTSTART:20261025T030000
RDATE:20261025T030000
RDATE:20271031T030000
TZNAME:CET
TZOFFSETFROM:+0200
TZOFFSETTO:+0100
END:STANDARD
END:VTIMEZONE
BEGIN:VEVENT
SUMMARY:Finančna matematika 1 (FM-2\, IŠRM-3\, MAT-3\, PM-4)\, Predavanj
 a (P)
DTSTART;TZID=Europe/Ljubljana:20200525T120000
DTEND;TZID=Europe/Ljubljana:20200525T140000
DTSTAMP:20260423T233606Z
UID:fmf-AFLABS-URNIK:premaknjeno-srecanje:20578
ATTENDEE:2. letnik (FM)
ATTENDEE:3. letnik (IŠRM)
ATTENDEE:3. letnik (M)
ATTENDEE:4. letnik (PM)
CATEGORIES:Entry,Standard
COLOR:darkgreen
DESCRIPTION:Predmet: Finančna matematika 1 (FM-2\, IŠRM-3\, MAT-3\, PM-4
 )\, Predavanja (P)\nLetniki: 2. letnik (FM)\, 3. letnik (IŠRM)\, 3. letni
 k (M)\, 4. letnik (PM)\nIzvajalci: Tomaž Košir\nProstor: 2.05
LOCATION:2.05
ORGANIZER:Tomaž Košir
RELATED-TO:fmf-AFLABS-URNIK:srecanje:4064
X-WR-TIMEZONE:Europe/Ljubljana
END:VEVENT
BEGIN:VEVENT
SUMMARY:Seminar (FM-2)\, Seminar (S)
DTSTART;TZID=Europe/Ljubljana:20200525T080000
DTEND;TZID=Europe/Ljubljana:20200525T100000
DTSTAMP:20260423T233606Z
UID:fmf-AFLABS-URNIK:premaknjeno-srecanje:100616
ATTENDEE:2. letnik (FM)
CATEGORIES:Entry,Standard
COLOR:darkgreen
DESCRIPTION:Predmet: Seminar (FM-2)\, Seminar (S)\nLetniki: 2. letnik (FM)
 \nIzvajalci: Tomaž Košir\nProstor: 3.05
LOCATION:3.05
ORGANIZER:Tomaž Košir
RELATED-TO:fmf-AFLABS-URNIK:srecanje:4434
X-WR-TIMEZONE:Europe/Ljubljana
END:VEVENT
BEGIN:VEVENT
SUMMARY:Seminar za geometrijo (MAT-D)\, Seminar (S)
DTSTART;TZID=Europe/Ljubljana:20200525T100000
DTEND;TZID=Europe/Ljubljana:20200525T120000
DTSTAMP:20260423T233606Z
UID:fmf-AFLABS-URNIK:premaknjeno-srecanje:102495
ATTENDEE:doktorski študij (M)
CATEGORIES:Entry,Standard
COLOR:darkgreen
DESCRIPTION:Predmet: Seminar za geometrijo (MAT-D)\, Seminar (S)\nLetniki:
  doktorski študij (M)\nIzvajalci: Tomaž Košir\nProstor: 3.06
LOCATION:3.06
ORGANIZER:Tomaž Košir
RELATED-TO:fmf-AFLABS-URNIK:srecanje:4444
X-WR-TIMEZONE:Europe/Ljubljana
END:VEVENT
BEGIN:VEVENT
SUMMARY:Diplomski seminar (FM-3)\, Seminar (S)
DTSTART;TZID=Europe/Ljubljana:20200526T120000
DTEND;TZID=Europe/Ljubljana:20200526T140000
DTSTAMP:20260423T233606Z
UID:fmf-AFLABS-URNIK:premaknjeno-srecanje:15562
ATTENDEE:3. letnik (FM)
CATEGORIES:Entry,Standard
COLOR:darkgreen
DESCRIPTION:Predmet: Diplomski seminar (FM-3)\, Seminar (S)\nLetniki: 3. l
 etnik (FM)\nIzvajalci: Tomaž Košir\nProstor: 2.01
LOCATION:2.01
ORGANIZER:Tomaž Košir
RELATED-TO:fmf-AFLABS-URNIK:srecanje:4041
X-WR-TIMEZONE:Europe/Ljubljana
END:VEVENT
BEGIN:VEVENT
SUMMARY:Seminar (FM-2)\, Seminar (S)
DTSTART;TZID=Europe/Ljubljana:20200526T100000
DTEND;TZID=Europe/Ljubljana:20200526T120000
DTSTAMP:20260423T233606Z
UID:fmf-AFLABS-URNIK:premaknjeno-srecanje:100726
ATTENDEE:2. letnik (FM)
CATEGORIES:Entry,Standard
COLOR:darkgreen
DESCRIPTION:Predmet: Seminar (FM-2)\, Seminar (S)\nLetniki: 2. letnik (FM)
 \nIzvajalci: Tomaž Košir\nProstor: P.01
LOCATION:P.01
ORGANIZER:Tomaž Košir
RELATED-TO:fmf-AFLABS-URNIK:srecanje:4549
X-WR-TIMEZONE:Europe/Ljubljana
END:VEVENT
BEGIN:VEVENT
SUMMARY:Diplomski seminar (FM-3)\, Seminar (S)
DTSTART;TZID=Europe/Ljubljana:20200528T100000
DTEND;TZID=Europe/Ljubljana:20200528T120000
DTSTAMP:20260423T233606Z
UID:fmf-AFLABS-URNIK:premaknjeno-srecanje:15730
ATTENDEE:3. letnik (FM)
CATEGORIES:Entry,Standard
COLOR:darkgreen
DESCRIPTION:Predmet: Diplomski seminar (FM-3)\, Seminar (S)\nLetniki: 3. l
 etnik (FM)\nIzvajalci: Tomaž Košir\nProstor: 3.06
LOCATION:3.06
ORGANIZER:Tomaž Košir
RELATED-TO:fmf-AFLABS-URNIK:srecanje:4044
X-WR-TIMEZONE:Europe/Ljubljana
END:VEVENT
BEGIN:VEVENT
SUMMARY:Govorilna ura ()\, Predavanja (P)
DTSTART;TZID=Europe/Ljubljana:20200528T090000
DTEND;TZID=Europe/Ljubljana:20200528T100000
DTSTAMP:20260423T233606Z
UID:fmf-AFLABS-URNIK:premaknjeno-srecanje:41375
CATEGORIES:Entry,Standard
COLOR:darkgreen
DESCRIPTION:Predmet: Govorilna ura ()\, Predavanja (P)\nLetniki: \nIzvajal
 ci: Tomaž Košir\nProstor: 4.31
LOCATION:4.31
ORGANIZER:Tomaž Košir
RELATED-TO:fmf-AFLABS-URNIK:srecanje:4159
X-WR-TIMEZONE:Europe/Ljubljana
END:VEVENT
BEGIN:VEVENT
SUMMARY:Rezervacija
DTSTART;TZID=Europe/Ljubljana:20200616T090000
DTEND;TZID=Europe/Ljubljana:20200616T110000
DTSTAMP:20260423T233606Z
UID:fmf-AFLABS-URNIK:rezervacija:5529
CATEGORIES:Reservation
COLOR:royalblue
DESCRIPTION:Predmeti: \nLetniki: \nIzvajalci: Tomaž Košir\, Nika Novak\n
 Prostori: 2.02\, 2.03\, 2.05
LOCATION:2.02\, 2.03\, 2.05
ORGANIZER:Tomaž Košir, Nika Novak
X-WR-TIMEZONE:Europe/Ljubljana
END:VEVENT
BEGIN:VEVENT
SUMMARY:Rezervacija
DTSTART;TZID=Europe/Ljubljana:20200618T110000
DTEND;TZID=Europe/Ljubljana:20200618T120000
DTSTAMP:20260423T233606Z
UID:fmf-AFLABS-URNIK:rezervacija:5574
CATEGORIES:Reservation
COLOR:royalblue
DESCRIPTION:Predmeti: \nLetniki: \nIzvajalci: Tomaž Košir\nProstori: 3.0
 7
LOCATION:3.07
ORGANIZER:Tomaž Košir
X-WR-TIMEZONE:Europe/Ljubljana
END:VEVENT
BEGIN:VEVENT
SUMMARY:Rezervacija
DTSTART;TZID=Europe/Ljubljana:20200618T120000
DTEND;TZID=Europe/Ljubljana:20200618T150000
DTSTAMP:20260423T233606Z
UID:fmf-AFLABS-URNIK:rezervacija:5577
CATEGORIES:Reservation
COLOR:royalblue
DESCRIPTION:Predmeti: \nLetniki: \nIzvajalci: Tomaž Košir\nProstori: 3.0
 5
LOCATION:3.05
ORGANIZER:Tomaž Košir
X-WR-TIMEZONE:Europe/Ljubljana
END:VEVENT
BEGIN:VEVENT
SUMMARY:Rezervacija
DTSTART;TZID=Europe/Ljubljana:20200622T080000
DTEND;TZID=Europe/Ljubljana:20200622T110000
DTSTAMP:20260423T233606Z
UID:fmf-AFLABS-URNIK:rezervacija:5603
CATEGORIES:Reservation
COLOR:royalblue
DESCRIPTION:Predmeti: \nLetniki: \nIzvajalci: Tomaž Košir\nProstori: 2.0
 3
LOCATION:2.03
ORGANIZER:Tomaž Košir
X-WR-TIMEZONE:Europe/Ljubljana
END:VEVENT
BEGIN:VEVENT
SUMMARY:Rezervacija
DTSTART;TZID=Europe/Ljubljana:20200622T120000
DTEND;TZID=Europe/Ljubljana:20200622T150000
DTSTAMP:20260423T233606Z
UID:fmf-AFLABS-URNIK:rezervacija:5615
CATEGORIES:Reservation
COLOR:royalblue
DESCRIPTION:Predmeti: \nLetniki: \nIzvajalci: Tomaž Košir\, Antonino Zan
 ette\nProstori: 2.01
LOCATION:2.01
ORGANIZER:Tomaž Košir, Antonino Zanette
X-WR-TIMEZONE:Europe/Ljubljana
END:VEVENT
BEGIN:VEVENT
SUMMARY:Rezervacija
DTSTART;TZID=Europe/Ljubljana:20200703T080000
DTEND;TZID=Europe/Ljubljana:20200703T100000
DTSTAMP:20260423T233606Z
UID:fmf-AFLABS-URNIK:rezervacija:5760
CATEGORIES:Reservation
COLOR:royalblue
DESCRIPTION:Predmeti: \nLetniki: \nIzvajalci: Tomaž Košir\nProstori: 3.0
 7
LOCATION:3.07
ORGANIZER:Tomaž Košir
X-WR-TIMEZONE:Europe/Ljubljana
END:VEVENT
BEGIN:VEVENT
SUMMARY:Rezervacija
DTSTART;TZID=Europe/Ljubljana:20200706T080000
DTEND;TZID=Europe/Ljubljana:20200706T100000
DTSTAMP:20260423T233606Z
UID:fmf-AFLABS-URNIK:rezervacija:5784
CATEGORIES:Reservation
COLOR:royalblue
DESCRIPTION:Predmeti: \nLetniki: \nIzvajalci: Tomaž Košir\nProstori: 3.0
 7
LOCATION:3.07
ORGANIZER:Tomaž Košir
X-WR-TIMEZONE:Europe/Ljubljana
END:VEVENT
BEGIN:VEVENT
SUMMARY:Rezervacija
DTSTART;TZID=Europe/Ljubljana:20200706T100000
DTEND;TZID=Europe/Ljubljana:20200706T130000
DTSTAMP:20260423T233606Z
UID:fmf-AFLABS-URNIK:rezervacija:5795
CATEGORIES:Reservation
COLOR:royalblue
DESCRIPTION:Predmeti: \nLetniki: \nIzvajalci: Tomaž Košir\, Antonino Zan
 ette\nProstori: 2.01
LOCATION:2.01
ORGANIZER:Tomaž Košir, Antonino Zanette
X-WR-TIMEZONE:Europe/Ljubljana
END:VEVENT
BEGIN:VEVENT
SUMMARY:Rezervacija
DTSTART;TZID=Europe/Ljubljana:20200710T100000
DTEND;TZID=Europe/Ljubljana:20200710T130000
DTSTAMP:20260423T233606Z
UID:fmf-AFLABS-URNIK:rezervacija:5849
CATEGORIES:Reservation
COLOR:royalblue
DESCRIPTION:Predmeti: \nLetniki: \nIzvajalci: Tomaž Košir\, Nika Novak\n
 Prostori: 2.05
LOCATION:2.05
ORGANIZER:Tomaž Košir, Nika Novak
X-WR-TIMEZONE:Europe/Ljubljana
END:VEVENT
BEGIN:VEVENT
SUMMARY:Rezervacija
DTSTART;TZID=Europe/Ljubljana:20200714T090000
DTEND;TZID=Europe/Ljubljana:20200714T120000
DTSTAMP:20260423T233606Z
UID:fmf-AFLABS-URNIK:rezervacija:5860
CATEGORIES:Reservation
COLOR:royalblue
DESCRIPTION:Predmeti: \nLetniki: \nIzvajalci: Tomaž Košir\nProstori: 3.0
 7
LOCATION:3.07
ORGANIZER:Tomaž Košir
X-WR-TIMEZONE:Europe/Ljubljana
END:VEVENT
BEGIN:VEVENT
SUMMARY:Rezervacija
DTSTART;TZID=Europe/Ljubljana:20200715T090000
DTEND;TZID=Europe/Ljubljana:20200715T110000
DTSTAMP:20260423T233606Z
UID:fmf-AFLABS-URNIK:rezervacija:5868
CATEGORIES:Reservation
COLOR:royalblue
DESCRIPTION:Predmeti: \nLetniki: \nIzvajalci: Tomaž Košir\nProstori: 3.0
 7
LOCATION:3.07
ORGANIZER:Tomaž Košir
X-WR-TIMEZONE:Europe/Ljubljana
END:VEVENT
BEGIN:VEVENT
SUMMARY:Rezervacija
DTSTART;TZID=Europe/Ljubljana:20200715T160000
DTEND;TZID=Europe/Ljubljana:20200715T170000
DTSTAMP:20260423T233606Z
UID:fmf-AFLABS-URNIK:rezervacija:5875
CATEGORIES:Reservation
COLOR:royalblue
DESCRIPTION:Predmeti: \nLetniki: \nIzvajalci: Tomaž Košir\nProstori: 3.0
 7
LOCATION:3.07
ORGANIZER:Tomaž Košir
X-WR-TIMEZONE:Europe/Ljubljana
END:VEVENT
BEGIN:VEVENT
SUMMARY:Rezervacija
DTSTART;TZID=Europe/Ljubljana:20200716T090000
DTEND;TZID=Europe/Ljubljana:20200716T120000
DTSTAMP:20260423T233606Z
UID:fmf-AFLABS-URNIK:rezervacija:5877
CATEGORIES:Reservation
COLOR:royalblue
DESCRIPTION:Predmeti: \nLetniki: \nIzvajalci: Tomaž Košir\nProstori: 3.0
 7
LOCATION:3.07
ORGANIZER:Tomaž Košir
X-WR-TIMEZONE:Europe/Ljubljana
END:VEVENT
BEGIN:VEVENT
SUMMARY:Rezervacija
DTSTART;TZID=Europe/Ljubljana:20200716T120000
DTEND;TZID=Europe/Ljubljana:20200716T130000
DTSTAMP:20260423T233606Z
UID:fmf-AFLABS-URNIK:rezervacija:5881
CATEGORIES:Reservation
COLOR:royalblue
DESCRIPTION:Predmeti: \nLetniki: \nIzvajalci: Tomaž Košir\nProstori: 3.0
 7
LOCATION:3.07
ORGANIZER:Tomaž Košir
X-WR-TIMEZONE:Europe/Ljubljana
END:VEVENT
BEGIN:VEVENT
SUMMARY:Rezervacija
DTSTART;TZID=Europe/Ljubljana:20200717T100000
DTEND;TZID=Europe/Ljubljana:20200717T130000
DTSTAMP:20260423T233606Z
UID:fmf-AFLABS-URNIK:rezervacija:5887
CATEGORIES:Reservation
COLOR:royalblue
DESCRIPTION:Predmeti: \nLetniki: \nIzvajalci: Tomaž Košir\nProstori: 3.0
 7
LOCATION:3.07
ORGANIZER:Tomaž Košir
X-WR-TIMEZONE:Europe/Ljubljana
END:VEVENT
BEGIN:VEVENT
SUMMARY:Rezervacija
DTSTART;TZID=Europe/Ljubljana:20200717T130000
DTEND;TZID=Europe/Ljubljana:20200717T150000
DTSTAMP:20260423T233606Z
UID:fmf-AFLABS-URNIK:rezervacija:5889
CATEGORIES:Reservation
COLOR:royalblue
DESCRIPTION:Predmeti: \nLetniki: \nIzvajalci: Tomaž Košir\nProstori: 3.0
 7
LOCATION:3.07
ORGANIZER:Tomaž Košir
X-WR-TIMEZONE:Europe/Ljubljana
END:VEVENT
END:VCALENDAR
