BEGIN:VCALENDAR
VERSION:2.0
PRODID:-//AFLabs urnik izvoz - fmf//aflabs.si//SI
DTSTAMP:20260422T221656Z
NAME:UL FMF urnik
REFRESH-INTERVAL:PT1H
SOURCE:https://urnik.fmf.uni-lj.si/teacher/13?day=2020-12-14&export=1
URL:https://urnik.fmf.uni-lj.si/teacher/13?day=2020-12-14&export=1
X-PUBLISHED-TTL:PT1H
X-WR-CALNAME:UL FMF urnik
X-WR-TIMEZONE:Europe/Ljubljana
BEGIN:VTIMEZONE
TZID:Europe/Ljubljana
BEGIN:DAYLIGHT
DTSTART:20260329T020000
RDATE:20260329T020000
RDATE:20270328T020000
TZNAME:CEST
TZOFFSETFROM:+0100
TZOFFSETTO:+0200
END:DAYLIGHT
BEGIN:STANDARD
DTSTART:20261025T030000
RDATE:20261025T030000
RDATE:20271031T030000
TZNAME:CET
TZOFFSETFROM:+0200
TZOFFSETTO:+0100
END:STANDARD
END:VTIMEZONE
BEGIN:VEVENT
SUMMARY:Verjetnost (APM-2)\, Predavanja (P)
DTSTART;TZID=Europe/Ljubljana:20201001T100000
DTEND;TZID=Europe/Ljubljana:20201001T120000
DTSTAMP:20260422T221656Z
UID:fmf-AFLABS-URNIK:premaknjeno-srecanje:118353
ATTENDEE:2. letnik (APM)
CATEGORIES:Entry,Standard
COLOR:darkgreen
DESCRIPTION:Predmet: Verjetnost (APM-2)\, Predavanja (P)\nLetniki: 2. letn
 ik (APM)\nIzvajalci: Tomaž Košir\nProstor: P.02
LOCATION:P.02
ORGANIZER:Tomaž Košir
RELATED-TO:fmf-AFLABS-URNIK:srecanje:5269
X-WR-TIMEZONE:Europe/Ljubljana
END:VEVENT
BEGIN:VEVENT
SUMMARY:Verjetnost (APM-2)\, Predavanja (P)
DTSTART;TZID=Europe/Ljubljana:20201008T100000
DTEND;TZID=Europe/Ljubljana:20201008T120000
DTSTAMP:20260422T221656Z
UID:fmf-AFLABS-URNIK:premaknjeno-srecanje:118354
ATTENDEE:2. letnik (APM)
CATEGORIES:Entry,Standard
COLOR:darkgreen
DESCRIPTION:Predmet: Verjetnost (APM-2)\, Predavanja (P)\nLetniki: 2. letn
 ik (APM)\nIzvajalci: Tomaž Košir\nProstor: P.02
LOCATION:P.02
ORGANIZER:Tomaž Košir
RELATED-TO:fmf-AFLABS-URNIK:srecanje:5269
X-WR-TIMEZONE:Europe/Ljubljana
END:VEVENT
BEGIN:VEVENT
SUMMARY:Verjetnost (APM-2)\, Predavanja (P)
DTSTART;TZID=Europe/Ljubljana:20201015T100000
DTEND;TZID=Europe/Ljubljana:20201015T120000
DTSTAMP:20260422T221656Z
UID:fmf-AFLABS-URNIK:premaknjeno-srecanje:118355
ATTENDEE:2. letnik (APM)
CATEGORIES:Entry,Standard
COLOR:darkgreen
DESCRIPTION:Predmet: Verjetnost (APM-2)\, Predavanja (P)\nLetniki: 2. letn
 ik (APM)\nIzvajalci: Tomaž Košir\nProstor: P.02
LOCATION:P.02
ORGANIZER:Tomaž Košir
RELATED-TO:fmf-AFLABS-URNIK:srecanje:5269
X-WR-TIMEZONE:Europe/Ljubljana
END:VEVENT
BEGIN:VEVENT
SUMMARY:Verjetnost (APM-2)\, Predavanja (P)
DTSTART;TZID=Europe/Ljubljana:20201022T100000
DTEND;TZID=Europe/Ljubljana:20201022T120000
DTSTAMP:20260422T221656Z
UID:fmf-AFLABS-URNIK:premaknjeno-srecanje:118356
ATTENDEE:2. letnik (APM)
CATEGORIES:Entry,Standard
COLOR:darkgreen
DESCRIPTION:Predmet: Verjetnost (APM-2)\, Predavanja (P)\nLetniki: 2. letn
 ik (APM)\nIzvajalci: Tomaž Košir\nProstor: P.02
LOCATION:P.02
ORGANIZER:Tomaž Košir
RELATED-TO:fmf-AFLABS-URNIK:srecanje:5269
X-WR-TIMEZONE:Europe/Ljubljana
END:VEVENT
BEGIN:VEVENT
SUMMARY:Verjetnost (APM-2)\, Predavanja (P)
DTSTART;TZID=Europe/Ljubljana:20201029T100000
DTEND;TZID=Europe/Ljubljana:20201029T120000
DTSTAMP:20260422T221656Z
UID:fmf-AFLABS-URNIK:premaknjeno-srecanje:118357
ATTENDEE:2. letnik (APM)
CATEGORIES:Entry,Standard
COLOR:darkgreen
DESCRIPTION:Predmet: Verjetnost (APM-2)\, Predavanja (P)\nLetniki: 2. letn
 ik (APM)\nIzvajalci: Tomaž Košir\nProstor: P.02
LOCATION:P.02
ORGANIZER:Tomaž Košir
RELATED-TO:fmf-AFLABS-URNIK:srecanje:5269
X-WR-TIMEZONE:Europe/Ljubljana
END:VEVENT
BEGIN:VEVENT
SUMMARY:Verjetnost (APM-2)\, Predavanja (P)
DTSTART;TZID=Europe/Ljubljana:20201105T100000
DTEND;TZID=Europe/Ljubljana:20201105T120000
DTSTAMP:20260422T221656Z
UID:fmf-AFLABS-URNIK:premaknjeno-srecanje:118358
ATTENDEE:2. letnik (APM)
CATEGORIES:Entry,Standard
COLOR:darkgreen
DESCRIPTION:Predmet: Verjetnost (APM-2)\, Predavanja (P)\nLetniki: 2. letn
 ik (APM)\nIzvajalci: Tomaž Košir\nProstor: P.02
LOCATION:P.02
ORGANIZER:Tomaž Košir
RELATED-TO:fmf-AFLABS-URNIK:srecanje:5269
X-WR-TIMEZONE:Europe/Ljubljana
END:VEVENT
BEGIN:VEVENT
SUMMARY:Verjetnost (APM-2)\, Predavanja (P)
DTSTART;TZID=Europe/Ljubljana:20201112T100000
DTEND;TZID=Europe/Ljubljana:20201112T120000
DTSTAMP:20260422T221656Z
UID:fmf-AFLABS-URNIK:premaknjeno-srecanje:118359
ATTENDEE:2. letnik (APM)
CATEGORIES:Entry,Standard
COLOR:darkgreen
DESCRIPTION:Predmet: Verjetnost (APM-2)\, Predavanja (P)\nLetniki: 2. letn
 ik (APM)\nIzvajalci: Tomaž Košir\nProstor: P.02
LOCATION:P.02
ORGANIZER:Tomaž Košir
RELATED-TO:fmf-AFLABS-URNIK:srecanje:5269
X-WR-TIMEZONE:Europe/Ljubljana
END:VEVENT
BEGIN:VEVENT
SUMMARY:Verjetnost (APM-2)\, Predavanja (P)
DTSTART;TZID=Europe/Ljubljana:20201119T100000
DTEND;TZID=Europe/Ljubljana:20201119T120000
DTSTAMP:20260422T221656Z
UID:fmf-AFLABS-URNIK:premaknjeno-srecanje:118360
ATTENDEE:2. letnik (APM)
CATEGORIES:Entry,Standard
COLOR:darkgreen
DESCRIPTION:Predmet: Verjetnost (APM-2)\, Predavanja (P)\nLetniki: 2. letn
 ik (APM)\nIzvajalci: Tomaž Košir\nProstor: P.02
LOCATION:P.02
ORGANIZER:Tomaž Košir
RELATED-TO:fmf-AFLABS-URNIK:srecanje:5269
X-WR-TIMEZONE:Europe/Ljubljana
END:VEVENT
BEGIN:VEVENT
SUMMARY:Verjetnost (APM-2)\, Predavanja (P)
DTSTART;TZID=Europe/Ljubljana:20201126T100000
DTEND;TZID=Europe/Ljubljana:20201126T120000
DTSTAMP:20260422T221656Z
UID:fmf-AFLABS-URNIK:premaknjeno-srecanje:118361
ATTENDEE:2. letnik (APM)
CATEGORIES:Entry,Standard
COLOR:darkgreen
DESCRIPTION:Predmet: Verjetnost (APM-2)\, Predavanja (P)\nLetniki: 2. letn
 ik (APM)\nIzvajalci: Tomaž Košir\nProstor: P.02
LOCATION:P.02
ORGANIZER:Tomaž Košir
RELATED-TO:fmf-AFLABS-URNIK:srecanje:5269
X-WR-TIMEZONE:Europe/Ljubljana
END:VEVENT
BEGIN:VEVENT
SUMMARY:Verjetnost (APM-2)\, Predavanja (P)
DTSTART;TZID=Europe/Ljubljana:20201203T100000
DTEND;TZID=Europe/Ljubljana:20201203T120000
DTSTAMP:20260422T221656Z
UID:fmf-AFLABS-URNIK:premaknjeno-srecanje:118362
ATTENDEE:2. letnik (APM)
CATEGORIES:Entry,Standard
COLOR:darkgreen
DESCRIPTION:Predmet: Verjetnost (APM-2)\, Predavanja (P)\nLetniki: 2. letn
 ik (APM)\nIzvajalci: Tomaž Košir\nProstor: P.02
LOCATION:P.02
ORGANIZER:Tomaž Košir
RELATED-TO:fmf-AFLABS-URNIK:srecanje:5269
X-WR-TIMEZONE:Europe/Ljubljana
END:VEVENT
BEGIN:VEVENT
SUMMARY:Verjetnost (APM-2)\, Predavanja (P)
DTSTART;TZID=Europe/Ljubljana:20201210T100000
DTEND;TZID=Europe/Ljubljana:20201210T120000
DTSTAMP:20260422T221656Z
UID:fmf-AFLABS-URNIK:premaknjeno-srecanje:118363
ATTENDEE:2. letnik (APM)
CATEGORIES:Entry,Standard
COLOR:darkgreen
DESCRIPTION:Predmet: Verjetnost (APM-2)\, Predavanja (P)\nLetniki: 2. letn
 ik (APM)\nIzvajalci: Tomaž Košir\nProstor: P.02
LOCATION:P.02
ORGANIZER:Tomaž Košir
RELATED-TO:fmf-AFLABS-URNIK:srecanje:5269
X-WR-TIMEZONE:Europe/Ljubljana
END:VEVENT
BEGIN:VEVENT
SUMMARY:Verjetnost (APM-2)\, Predavanja (P)
DTSTART;TZID=Europe/Ljubljana:20201217T100000
DTEND;TZID=Europe/Ljubljana:20201217T120000
DTSTAMP:20260422T221656Z
UID:fmf-AFLABS-URNIK:premaknjeno-srecanje:118364
ATTENDEE:2. letnik (APM)
CATEGORIES:Entry,Standard
COLOR:darkgreen
DESCRIPTION:Predmet: Verjetnost (APM-2)\, Predavanja (P)\nLetniki: 2. letn
 ik (APM)\nIzvajalci: Tomaž Košir\nProstor: P.02
LOCATION:P.02
ORGANIZER:Tomaž Košir
RELATED-TO:fmf-AFLABS-URNIK:srecanje:5269
X-WR-TIMEZONE:Europe/Ljubljana
END:VEVENT
BEGIN:VEVENT
SUMMARY:Verjetnost (APM-2)\, Predavanja (P)
DTSTART;TZID=Europe/Ljubljana:20201224T100000
DTEND;TZID=Europe/Ljubljana:20201224T120000
DTSTAMP:20260422T221656Z
UID:fmf-AFLABS-URNIK:premaknjeno-srecanje:118365
ATTENDEE:2. letnik (APM)
CATEGORIES:Entry,Standard
COLOR:darkgreen
DESCRIPTION:Predmet: Verjetnost (APM-2)\, Predavanja (P)\nLetniki: 2. letn
 ik (APM)\nIzvajalci: Tomaž Košir\nProstor: P.02
LOCATION:P.02
ORGANIZER:Tomaž Košir
RELATED-TO:fmf-AFLABS-URNIK:srecanje:5269
X-WR-TIMEZONE:Europe/Ljubljana
END:VEVENT
BEGIN:VEVENT
SUMMARY:Verjetnost (APM-2)\, Predavanja (P)
DTSTART;TZID=Europe/Ljubljana:20201231T100000
DTEND;TZID=Europe/Ljubljana:20201231T120000
DTSTAMP:20260422T221656Z
UID:fmf-AFLABS-URNIK:premaknjeno-srecanje:118366
ATTENDEE:2. letnik (APM)
CATEGORIES:Entry,Standard
COLOR:darkgreen
DESCRIPTION:Predmet: Verjetnost (APM-2)\, Predavanja (P)\nLetniki: 2. letn
 ik (APM)\nIzvajalci: Tomaž Košir\nProstor: P.02
LOCATION:P.02
ORGANIZER:Tomaž Košir
RELATED-TO:fmf-AFLABS-URNIK:srecanje:5269
X-WR-TIMEZONE:Europe/Ljubljana
END:VEVENT
BEGIN:VEVENT
SUMMARY:Verjetnost (APM-2)\, Predavanja (P)
DTSTART;TZID=Europe/Ljubljana:20210107T100000
DTEND;TZID=Europe/Ljubljana:20210107T120000
DTSTAMP:20260422T221656Z
UID:fmf-AFLABS-URNIK:premaknjeno-srecanje:118367
ATTENDEE:2. letnik (APM)
CATEGORIES:Entry,Standard
COLOR:darkgreen
DESCRIPTION:Predmet: Verjetnost (APM-2)\, Predavanja (P)\nLetniki: 2. letn
 ik (APM)\nIzvajalci: Tomaž Košir\nProstor: P.02
LOCATION:P.02
ORGANIZER:Tomaž Košir
RELATED-TO:fmf-AFLABS-URNIK:srecanje:5269
X-WR-TIMEZONE:Europe/Ljubljana
END:VEVENT
BEGIN:VEVENT
SUMMARY:Verjetnost (APM-2)\, Predavanja (P)
DTSTART;TZID=Europe/Ljubljana:20210114T100000
DTEND;TZID=Europe/Ljubljana:20210114T120000
DTSTAMP:20260422T221656Z
UID:fmf-AFLABS-URNIK:premaknjeno-srecanje:118368
ATTENDEE:2. letnik (APM)
CATEGORIES:Entry,Standard
COLOR:darkgreen
DESCRIPTION:Predmet: Verjetnost (APM-2)\, Predavanja (P)\nLetniki: 2. letn
 ik (APM)\nIzvajalci: Tomaž Košir\nProstor: P.02
LOCATION:P.02
ORGANIZER:Tomaž Košir
RELATED-TO:fmf-AFLABS-URNIK:srecanje:5269
X-WR-TIMEZONE:Europe/Ljubljana
END:VEVENT
BEGIN:VEVENT
SUMMARY:Diplomski seminar (FM-3)\, Predavanja (P)
DTSTART;TZID=Europe/Ljubljana:20201002T100000
DTEND;TZID=Europe/Ljubljana:20201002T130000
DTSTAMP:20260422T221656Z
UID:fmf-AFLABS-URNIK:premaknjeno-srecanje:15453
ATTENDEE:3. letnik (FM)
CATEGORIES:Entry,Standard
COLOR:darkgreen
DESCRIPTION:Predmet: Diplomski seminar (FM-3)\, Predavanja (P)\nLetniki: 3
 . letnik (FM)\nIzvajalci: Tomaž Košir\nProstor: 2.02
LOCATION:2.02
ORGANIZER:Tomaž Košir
RELATED-TO:fmf-AFLABS-URNIK:srecanje:4716
X-WR-TIMEZONE:Europe/Ljubljana
END:VEVENT
BEGIN:VEVENT
SUMMARY:Diplomski seminar (FM-3)\, Predavanja (P)
DTSTART;TZID=Europe/Ljubljana:20201009T100000
DTEND;TZID=Europe/Ljubljana:20201009T130000
DTSTAMP:20260422T221656Z
UID:fmf-AFLABS-URNIK:premaknjeno-srecanje:15454
ATTENDEE:3. letnik (FM)
CATEGORIES:Entry,Standard
COLOR:darkgreen
DESCRIPTION:Predmet: Diplomski seminar (FM-3)\, Predavanja (P)\nLetniki: 3
 . letnik (FM)\nIzvajalci: Tomaž Košir\nProstor: 2.02
LOCATION:2.02
ORGANIZER:Tomaž Košir
RELATED-TO:fmf-AFLABS-URNIK:srecanje:4716
X-WR-TIMEZONE:Europe/Ljubljana
END:VEVENT
BEGIN:VEVENT
SUMMARY:Diplomski seminar (FM-3)\, Predavanja (P)
DTSTART;TZID=Europe/Ljubljana:20201016T100000
DTEND;TZID=Europe/Ljubljana:20201016T130000
DTSTAMP:20260422T221656Z
UID:fmf-AFLABS-URNIK:premaknjeno-srecanje:15455
ATTENDEE:3. letnik (FM)
CATEGORIES:Entry,Standard
COLOR:darkgreen
DESCRIPTION:Predmet: Diplomski seminar (FM-3)\, Predavanja (P)\nLetniki: 3
 . letnik (FM)\nIzvajalci: Tomaž Košir\nProstor: 2.02
LOCATION:2.02
ORGANIZER:Tomaž Košir
RELATED-TO:fmf-AFLABS-URNIK:srecanje:4716
X-WR-TIMEZONE:Europe/Ljubljana
END:VEVENT
BEGIN:VEVENT
SUMMARY:Diplomski seminar (FM-3)\, Predavanja (P)
DTSTART;TZID=Europe/Ljubljana:20201023T100000
DTEND;TZID=Europe/Ljubljana:20201023T130000
DTSTAMP:20260422T221656Z
UID:fmf-AFLABS-URNIK:premaknjeno-srecanje:15456
ATTENDEE:3. letnik (FM)
CATEGORIES:Entry,Standard
COLOR:darkgreen
DESCRIPTION:Predmet: Diplomski seminar (FM-3)\, Predavanja (P)\nLetniki: 3
 . letnik (FM)\nIzvajalci: Tomaž Košir\nProstor: 2.02
LOCATION:2.02
ORGANIZER:Tomaž Košir
RELATED-TO:fmf-AFLABS-URNIK:srecanje:4716
X-WR-TIMEZONE:Europe/Ljubljana
END:VEVENT
BEGIN:VEVENT
SUMMARY:Diplomski seminar (FM-3)\, Predavanja (P)
DTSTART;TZID=Europe/Ljubljana:20201030T100000
DTEND;TZID=Europe/Ljubljana:20201030T130000
DTSTAMP:20260422T221656Z
UID:fmf-AFLABS-URNIK:premaknjeno-srecanje:15457
ATTENDEE:3. letnik (FM)
CATEGORIES:Entry,Standard
COLOR:darkgreen
DESCRIPTION:Predmet: Diplomski seminar (FM-3)\, Predavanja (P)\nLetniki: 3
 . letnik (FM)\nIzvajalci: Tomaž Košir\nProstor: 2.02
LOCATION:2.02
ORGANIZER:Tomaž Košir
RELATED-TO:fmf-AFLABS-URNIK:srecanje:4716
X-WR-TIMEZONE:Europe/Ljubljana
END:VEVENT
BEGIN:VEVENT
SUMMARY:Diplomski seminar (FM-3)\, Predavanja (P)
DTSTART;TZID=Europe/Ljubljana:20201106T100000
DTEND;TZID=Europe/Ljubljana:20201106T130000
DTSTAMP:20260422T221656Z
UID:fmf-AFLABS-URNIK:premaknjeno-srecanje:15458
ATTENDEE:3. letnik (FM)
CATEGORIES:Entry,Standard
COLOR:darkgreen
DESCRIPTION:Predmet: Diplomski seminar (FM-3)\, Predavanja (P)\nLetniki: 3
 . letnik (FM)\nIzvajalci: Tomaž Košir\nProstor: 2.02
LOCATION:2.02
ORGANIZER:Tomaž Košir
RELATED-TO:fmf-AFLABS-URNIK:srecanje:4716
X-WR-TIMEZONE:Europe/Ljubljana
END:VEVENT
BEGIN:VEVENT
SUMMARY:Diplomski seminar (FM-3)\, Predavanja (P)
DTSTART;TZID=Europe/Ljubljana:20201113T100000
DTEND;TZID=Europe/Ljubljana:20201113T130000
DTSTAMP:20260422T221656Z
UID:fmf-AFLABS-URNIK:premaknjeno-srecanje:15459
ATTENDEE:3. letnik (FM)
CATEGORIES:Entry,Standard
COLOR:darkgreen
DESCRIPTION:Predmet: Diplomski seminar (FM-3)\, Predavanja (P)\nLetniki: 3
 . letnik (FM)\nIzvajalci: Tomaž Košir\nProstor: 2.02
LOCATION:2.02
ORGANIZER:Tomaž Košir
RELATED-TO:fmf-AFLABS-URNIK:srecanje:4716
X-WR-TIMEZONE:Europe/Ljubljana
END:VEVENT
BEGIN:VEVENT
SUMMARY:Diplomski seminar (FM-3)\, Predavanja (P)
DTSTART;TZID=Europe/Ljubljana:20201120T100000
DTEND;TZID=Europe/Ljubljana:20201120T130000
DTSTAMP:20260422T221656Z
UID:fmf-AFLABS-URNIK:premaknjeno-srecanje:15460
ATTENDEE:3. letnik (FM)
CATEGORIES:Entry,Standard
COLOR:darkgreen
DESCRIPTION:Predmet: Diplomski seminar (FM-3)\, Predavanja (P)\nLetniki: 3
 . letnik (FM)\nIzvajalci: Tomaž Košir\nProstor: 2.02
LOCATION:2.02
ORGANIZER:Tomaž Košir
RELATED-TO:fmf-AFLABS-URNIK:srecanje:4716
X-WR-TIMEZONE:Europe/Ljubljana
END:VEVENT
BEGIN:VEVENT
SUMMARY:Diplomski seminar (FM-3)\, Predavanja (P)
DTSTART;TZID=Europe/Ljubljana:20201127T100000
DTEND;TZID=Europe/Ljubljana:20201127T130000
DTSTAMP:20260422T221656Z
UID:fmf-AFLABS-URNIK:premaknjeno-srecanje:15461
ATTENDEE:3. letnik (FM)
CATEGORIES:Entry,Standard
COLOR:darkgreen
DESCRIPTION:Predmet: Diplomski seminar (FM-3)\, Predavanja (P)\nLetniki: 3
 . letnik (FM)\nIzvajalci: Tomaž Košir\nProstor: 2.02
LOCATION:2.02
ORGANIZER:Tomaž Košir
RELATED-TO:fmf-AFLABS-URNIK:srecanje:4716
X-WR-TIMEZONE:Europe/Ljubljana
END:VEVENT
BEGIN:VEVENT
SUMMARY:Diplomski seminar (FM-3)\, Predavanja (P)
DTSTART;TZID=Europe/Ljubljana:20201204T100000
DTEND;TZID=Europe/Ljubljana:20201204T130000
DTSTAMP:20260422T221656Z
UID:fmf-AFLABS-URNIK:premaknjeno-srecanje:15462
ATTENDEE:3. letnik (FM)
CATEGORIES:Entry,Standard
COLOR:darkgreen
DESCRIPTION:Predmet: Diplomski seminar (FM-3)\, Predavanja (P)\nLetniki: 3
 . letnik (FM)\nIzvajalci: Tomaž Košir\nProstor: 2.02
LOCATION:2.02
ORGANIZER:Tomaž Košir
RELATED-TO:fmf-AFLABS-URNIK:srecanje:4716
X-WR-TIMEZONE:Europe/Ljubljana
END:VEVENT
BEGIN:VEVENT
SUMMARY:Diplomski seminar (FM-3)\, Predavanja (P)
DTSTART;TZID=Europe/Ljubljana:20201211T100000
DTEND;TZID=Europe/Ljubljana:20201211T130000
DTSTAMP:20260422T221656Z
UID:fmf-AFLABS-URNIK:premaknjeno-srecanje:15463
ATTENDEE:3. letnik (FM)
CATEGORIES:Entry,Standard
COLOR:darkgreen
DESCRIPTION:Predmet: Diplomski seminar (FM-3)\, Predavanja (P)\nLetniki: 3
 . letnik (FM)\nIzvajalci: Tomaž Košir\nProstor: 2.02
LOCATION:2.02
ORGANIZER:Tomaž Košir
RELATED-TO:fmf-AFLABS-URNIK:srecanje:4716
X-WR-TIMEZONE:Europe/Ljubljana
END:VEVENT
BEGIN:VEVENT
SUMMARY:Diplomski seminar (FM-3)\, Predavanja (P)
DTSTART;TZID=Europe/Ljubljana:20201218T100000
DTEND;TZID=Europe/Ljubljana:20201218T130000
DTSTAMP:20260422T221656Z
UID:fmf-AFLABS-URNIK:premaknjeno-srecanje:15464
ATTENDEE:3. letnik (FM)
CATEGORIES:Entry,Standard
COLOR:darkgreen
DESCRIPTION:Predmet: Diplomski seminar (FM-3)\, Predavanja (P)\nLetniki: 3
 . letnik (FM)\nIzvajalci: Tomaž Košir\nProstor: 2.02
LOCATION:2.02
ORGANIZER:Tomaž Košir
RELATED-TO:fmf-AFLABS-URNIK:srecanje:4716
X-WR-TIMEZONE:Europe/Ljubljana
END:VEVENT
BEGIN:VEVENT
SUMMARY:Diplomski seminar (FM-3)\, Predavanja (P)
DTSTART;TZID=Europe/Ljubljana:20201225T100000
DTEND;TZID=Europe/Ljubljana:20201225T130000
DTSTAMP:20260422T221656Z
UID:fmf-AFLABS-URNIK:premaknjeno-srecanje:15465
ATTENDEE:3. letnik (FM)
CATEGORIES:Entry,Standard
COLOR:darkgreen
DESCRIPTION:Predmet: Diplomski seminar (FM-3)\, Predavanja (P)\nLetniki: 3
 . letnik (FM)\nIzvajalci: Tomaž Košir\nProstor: 2.02
LOCATION:2.02
ORGANIZER:Tomaž Košir
RELATED-TO:fmf-AFLABS-URNIK:srecanje:4716
X-WR-TIMEZONE:Europe/Ljubljana
END:VEVENT
BEGIN:VEVENT
SUMMARY:Diplomski seminar (FM-3)\, Predavanja (P)
DTSTART;TZID=Europe/Ljubljana:20210101T100000
DTEND;TZID=Europe/Ljubljana:20210101T130000
DTSTAMP:20260422T221656Z
UID:fmf-AFLABS-URNIK:premaknjeno-srecanje:15466
ATTENDEE:3. letnik (FM)
CATEGORIES:Entry,Standard
COLOR:darkgreen
DESCRIPTION:Predmet: Diplomski seminar (FM-3)\, Predavanja (P)\nLetniki: 3
 . letnik (FM)\nIzvajalci: Tomaž Košir\nProstor: 2.02
LOCATION:2.02
ORGANIZER:Tomaž Košir
RELATED-TO:fmf-AFLABS-URNIK:srecanje:4716
X-WR-TIMEZONE:Europe/Ljubljana
END:VEVENT
BEGIN:VEVENT
SUMMARY:Diplomski seminar (FM-3)\, Predavanja (P)
DTSTART;TZID=Europe/Ljubljana:20210108T100000
DTEND;TZID=Europe/Ljubljana:20210108T130000
DTSTAMP:20260422T221656Z
UID:fmf-AFLABS-URNIK:premaknjeno-srecanje:15467
ATTENDEE:3. letnik (FM)
CATEGORIES:Entry,Standard
COLOR:darkgreen
DESCRIPTION:Predmet: Diplomski seminar (FM-3)\, Predavanja (P)\nLetniki: 3
 . letnik (FM)\nIzvajalci: Tomaž Košir\nProstor: 2.02
LOCATION:2.02
ORGANIZER:Tomaž Košir
RELATED-TO:fmf-AFLABS-URNIK:srecanje:4716
X-WR-TIMEZONE:Europe/Ljubljana
END:VEVENT
BEGIN:VEVENT
SUMMARY:Diplomski seminar (FM-3)\, Predavanja (P)
DTSTART;TZID=Europe/Ljubljana:20210115T100000
DTEND;TZID=Europe/Ljubljana:20210115T130000
DTSTAMP:20260422T221656Z
UID:fmf-AFLABS-URNIK:premaknjeno-srecanje:15468
ATTENDEE:3. letnik (FM)
CATEGORIES:Entry,Standard
COLOR:darkgreen
DESCRIPTION:Predmet: Diplomski seminar (FM-3)\, Predavanja (P)\nLetniki: 3
 . letnik (FM)\nIzvajalci: Tomaž Košir\nProstor: 2.02
LOCATION:2.02
ORGANIZER:Tomaž Košir
RELATED-TO:fmf-AFLABS-URNIK:srecanje:4716
X-WR-TIMEZONE:Europe/Ljubljana
END:VEVENT
BEGIN:VEVENT
SUMMARY:Rezervacija
DTSTART;TZID=Europe/Ljubljana:20201008T130000
DTEND;TZID=Europe/Ljubljana:20201008T140000
DTSTAMP:20260422T221656Z
UID:fmf-AFLABS-URNIK:rezervacija:6504
CATEGORIES:Reservation
COLOR:royalblue
DESCRIPTION:Predmeti: \nLetniki: \nIzvajalci: Tomaž Košir\nProstori: 3.1
 2
LOCATION:3.12
ORGANIZER:Tomaž Košir
X-WR-TIMEZONE:Europe/Ljubljana
END:VEVENT
BEGIN:VEVENT
SUMMARY:Rezervacija
DTSTART;TZID=Europe/Ljubljana:20201106T130000
DTEND;TZID=Europe/Ljubljana:20201106T160000
DTSTAMP:20260422T221656Z
UID:fmf-AFLABS-URNIK:rezervacija:6532
CATEGORIES:Reservation
COLOR:royalblue
DESCRIPTION:Predmeti: \nLetniki: \nIzvajalci: Tomaž Košir\nProstori: 2.0
 2
LOCATION:2.02
ORGANIZER:Tomaž Košir
X-WR-TIMEZONE:Europe/Ljubljana
END:VEVENT
END:VCALENDAR
