BEGIN:VCALENDAR
VERSION:2.0
PRODID:-//AFLabs urnik izvoz - fmf//aflabs.si//SI
DTSTAMP:20260421T054348Z
NAME:UL FMF urnik
REFRESH-INTERVAL:PT1H
SOURCE:https://urnik.fmf.uni-lj.si/teacher/13?day=2022-07-04&export=1
URL:https://urnik.fmf.uni-lj.si/teacher/13?day=2022-07-04&export=1
X-PUBLISHED-TTL:PT1H
X-WR-CALNAME:UL FMF urnik
X-WR-TIMEZONE:Europe/Ljubljana
BEGIN:VTIMEZONE
TZID:Europe/Ljubljana
BEGIN:DAYLIGHT
DTSTART:20260329T020000
RDATE:20260329T020000
RDATE:20270328T020000
TZNAME:CEST
TZOFFSETFROM:+0100
TZOFFSETTO:+0200
END:DAYLIGHT
BEGIN:STANDARD
DTSTART:20261025T030000
RDATE:20261025T030000
RDATE:20271031T030000
TZNAME:CET
TZOFFSETFROM:+0200
TZOFFSETTO:+0100
END:STANDARD
END:VTIMEZONE
BEGIN:VEVENT
SUMMARY:Seminar za geometrijo (MAT-D)\, Seminar (S)
DTSTART;TZID=Europe/Ljubljana:20220530T100000
DTEND;TZID=Europe/Ljubljana:20220530T120000
DTSTAMP:20260421T054348Z
UID:fmf-AFLABS-URNIK:premaknjeno-srecanje:102527
ATTENDEE:doktorski študij (M)
CATEGORIES:Entry,Standard
COLOR:darkgreen
DESCRIPTION:Predmet: Seminar za geometrijo (MAT-D)\, Seminar (S)\nLetniki:
  doktorski študij (M)\nIzvajalci: Tomaž Košir\nProstor: 3.06
LOCATION:3.06
ORGANIZER:Tomaž Košir
RELATED-TO:fmf-AFLABS-URNIK:srecanje:7278
X-WR-TIMEZONE:Europe/Ljubljana
END:VEVENT
BEGIN:VEVENT
SUMMARY:Finančna matematika 1 (FM-2\, IŠRM-3\, MAT-3\, PM-4)\, Predavanj
 a (P)
DTSTART;TZID=Europe/Ljubljana:20220531T100000
DTEND;TZID=Europe/Ljubljana:20220531T120000
DTSTAMP:20260421T054348Z
UID:fmf-AFLABS-URNIK:premaknjeno-srecanje:20610
ATTENDEE:2. letnik (FM)
ATTENDEE:3. letnik (IŠRM)
ATTENDEE:3. letnik (M)
ATTENDEE:4. letnik (PM)
CATEGORIES:Entry,Standard
COLOR:darkgreen
DESCRIPTION:Predmet: Finančna matematika 1 (FM-2\, IŠRM-3\, MAT-3\, PM-4
 )\, Predavanja (P)\nLetniki: 2. letnik (FM)\, 3. letnik (IŠRM)\, 3. letni
 k (M)\, 4. letnik (PM)\nIzvajalci: Tomaž Košir\nProstor: P.02
LOCATION:P.02
ORGANIZER:Tomaž Košir
RELATED-TO:fmf-AFLABS-URNIK:srecanje:6908
X-WR-TIMEZONE:Europe/Ljubljana
END:VEVENT
BEGIN:VEVENT
SUMMARY:Rezervacija
DTSTART;TZID=Europe/Ljubljana:20220531T120000
DTEND;TZID=Europe/Ljubljana:20220531T140000
DTSTAMP:20260421T054348Z
UID:fmf-AFLABS-URNIK:rezervacija:9120
CATEGORIES:Reservation
COLOR:royalblue
DESCRIPTION:Predmeti: \nLetniki: \nIzvajalci: Tomaž Košir\nProstori: 3.1
 2
LOCATION:3.12
ORGANIZER:Tomaž Košir
X-WR-TIMEZONE:Europe/Ljubljana
END:VEVENT
BEGIN:VEVENT
SUMMARY:Rezervacija
DTSTART;TZID=Europe/Ljubljana:20220603T130000
DTEND;TZID=Europe/Ljubljana:20220603T140000
DTSTAMP:20260421T054348Z
UID:fmf-AFLABS-URNIK:rezervacija:9175
CATEGORIES:Reservation
COLOR:royalblue
DESCRIPTION:Predmeti: \nLetniki: \nIzvajalci: Tomaž Košir\nProstori: Sej
 na soba J21
LOCATION:Sejna soba J21
ORGANIZER:Tomaž Košir
X-WR-TIMEZONE:Europe/Ljubljana
END:VEVENT
BEGIN:VEVENT
SUMMARY:Rezervacija
DTSTART;TZID=Europe/Ljubljana:20220607T120000
DTEND;TZID=Europe/Ljubljana:20220607T140000
DTSTAMP:20260421T054348Z
UID:fmf-AFLABS-URNIK:rezervacija:9220
CATEGORIES:Reservation
COLOR:royalblue
DESCRIPTION:Predmeti: \nLetniki: \nIzvajalci: Tomaž Košir\nProstori: 3.0
 4
LOCATION:3.04
ORGANIZER:Tomaž Košir
X-WR-TIMEZONE:Europe/Ljubljana
END:VEVENT
BEGIN:VEVENT
SUMMARY:Rezervacija
DTSTART;TZID=Europe/Ljubljana:20220608T140000
DTEND;TZID=Europe/Ljubljana:20220608T170000
DTSTAMP:20260421T054348Z
UID:fmf-AFLABS-URNIK:rezervacija:9246
CATEGORIES:Reservation
COLOR:royalblue
DESCRIPTION:Predmeti: \nLetniki: \nIzvajalci: Tomaž Košir\nProstori: P.0
 2
LOCATION:P.02
ORGANIZER:Tomaž Košir
X-WR-TIMEZONE:Europe/Ljubljana
END:VEVENT
BEGIN:VEVENT
SUMMARY:Rezervacija
DTSTART;TZID=Europe/Ljubljana:20220613T110000
DTEND;TZID=Europe/Ljubljana:20220613T130000
DTSTAMP:20260421T054348Z
UID:fmf-AFLABS-URNIK:rezervacija:9298
CATEGORIES:Reservation
COLOR:royalblue
DESCRIPTION:Predmeti: \nLetniki: \nIzvajalci: Tomaž Košir\nProstori: 3.0
 4
LOCATION:3.04
ORGANIZER:Tomaž Košir
X-WR-TIMEZONE:Europe/Ljubljana
END:VEVENT
BEGIN:VEVENT
SUMMARY:Rezervacija
DTSTART;TZID=Europe/Ljubljana:20220621T090000
DTEND;TZID=Europe/Ljubljana:20220621T130000
DTSTAMP:20260421T054348Z
UID:fmf-AFLABS-URNIK:rezervacija:9430
CATEGORIES:Reservation
COLOR:royalblue
DESCRIPTION:Predmeti: \nLetniki: \nIzvajalci: Tomaž Košir\nProstori: 3.0
 4
LOCATION:3.04
ORGANIZER:Tomaž Košir
X-WR-TIMEZONE:Europe/Ljubljana
END:VEVENT
BEGIN:VEVENT
SUMMARY:Rezervacija
DTSTART;TZID=Europe/Ljubljana:20220622T140000
DTEND;TZID=Europe/Ljubljana:20220622T170000
DTSTAMP:20260421T054348Z
UID:fmf-AFLABS-URNIK:rezervacija:9466
CATEGORIES:Reservation
COLOR:royalblue
DESCRIPTION:Predmeti: \nLetniki: \nIzvajalci: Tomaž Košir\nProstori: P.0
 2
LOCATION:P.02
ORGANIZER:Tomaž Košir
X-WR-TIMEZONE:Europe/Ljubljana
END:VEVENT
BEGIN:VEVENT
SUMMARY:Rezervacija
DTSTART;TZID=Europe/Ljubljana:20220627T090000
DTEND;TZID=Europe/Ljubljana:20220627T180000
DTSTAMP:20260421T054348Z
UID:fmf-AFLABS-URNIK:rezervacija:9518
CATEGORIES:Reservation
COLOR:royalblue
DESCRIPTION:Predmeti: \nLetniki: \nIzvajalci: Tomaž Košir\nProstori: P.0
 1
LOCATION:P.01
ORGANIZER:Tomaž Košir
X-WR-TIMEZONE:Europe/Ljubljana
END:VEVENT
BEGIN:VEVENT
SUMMARY:Rezervacija
DTSTART;TZID=Europe/Ljubljana:20220628T090000
DTEND;TZID=Europe/Ljubljana:20220628T180000
DTSTAMP:20260421T054348Z
UID:fmf-AFLABS-URNIK:rezervacija:9519
CATEGORIES:Reservation
COLOR:royalblue
DESCRIPTION:Predmeti: \nLetniki: \nIzvajalci: Tomaž Košir\nProstori: P.0
 1
LOCATION:P.01
ORGANIZER:Tomaž Košir
X-WR-TIMEZONE:Europe/Ljubljana
END:VEVENT
BEGIN:VEVENT
SUMMARY:Rezervacija
DTSTART;TZID=Europe/Ljubljana:20220629T090000
DTEND;TZID=Europe/Ljubljana:20220629T180000
DTSTAMP:20260421T054348Z
UID:fmf-AFLABS-URNIK:rezervacija:9520
CATEGORIES:Reservation
COLOR:royalblue
DESCRIPTION:Predmeti: \nLetniki: \nIzvajalci: Tomaž Košir\nProstori: P.0
 1
LOCATION:P.01
ORGANIZER:Tomaž Košir
X-WR-TIMEZONE:Europe/Ljubljana
END:VEVENT
BEGIN:VEVENT
SUMMARY:Rezervacija
DTSTART;TZID=Europe/Ljubljana:20220630T090000
DTEND;TZID=Europe/Ljubljana:20220630T180000
DTSTAMP:20260421T054348Z
UID:fmf-AFLABS-URNIK:rezervacija:9521
CATEGORIES:Reservation
COLOR:royalblue
DESCRIPTION:Predmeti: \nLetniki: \nIzvajalci: Tomaž Košir\nProstori: P.0
 1
LOCATION:P.01
ORGANIZER:Tomaž Košir
X-WR-TIMEZONE:Europe/Ljubljana
END:VEVENT
BEGIN:VEVENT
SUMMARY:Rezervacija
DTSTART;TZID=Europe/Ljubljana:20220712T090000
DTEND;TZID=Europe/Ljubljana:20220712T110000
DTSTAMP:20260421T054348Z
UID:fmf-AFLABS-URNIK:rezervacija:9737
CATEGORIES:Reservation
COLOR:royalblue
DESCRIPTION:Predmeti: \nLetniki: \nIzvajalci: Tomaž Košir\nProstori: P.0
 1
LOCATION:P.01
ORGANIZER:Tomaž Košir
X-WR-TIMEZONE:Europe/Ljubljana
END:VEVENT
END:VCALENDAR
