BEGIN:VCALENDAR
VERSION:2.0
PRODID:-//AFLabs urnik izvoz - fmf//aflabs.si//SI
DTSTAMP:20260423T011504Z
NAME:UL FMF urnik
REFRESH-INTERVAL:PT1H
SOURCE:https://urnik.fmf.uni-lj.si/teacher/1405?day=2024-09-23&export=1
URL:https://urnik.fmf.uni-lj.si/teacher/1405?day=2024-09-23&export=1
X-PUBLISHED-TTL:PT1H
X-WR-CALNAME:UL FMF urnik
X-WR-TIMEZONE:Europe/Ljubljana
BEGIN:VTIMEZONE
TZID:Europe/Ljubljana
BEGIN:DAYLIGHT
DTSTART:20260329T020000
RDATE:20260329T020000
RDATE:20270328T020000
TZNAME:CEST
TZOFFSETFROM:+0100
TZOFFSETTO:+0200
END:DAYLIGHT
BEGIN:STANDARD
DTSTART:20261025T030000
RDATE:20261025T030000
RDATE:20271031T030000
TZNAME:CET
TZOFFSETFROM:+0200
TZOFFSETTO:+0100
END:STANDARD
END:VTIMEZONE
BEGIN:VEVENT
SUMMARY:Matematika (NTF) ()\, Vaje (V)
DTSTART;TZID=Europe/Ljubljana:20241001T130000
DTEND;TZID=Europe/Ljubljana:20241001T160000
DTSTAMP:20260423T011504Z
UID:fmf-AFLABS-URNIK:premaknjeno-srecanje:194758
CATEGORIES:Entry,Standard
COLOR:darkgreen
DESCRIPTION:Predmet: Matematika (NTF) ()\, Vaje (V)\nLetniki: \nIzvajalci:
  Gregor Rus\nProstor: NTF
LOCATION:NTF
ORGANIZER:Gregor Rus
RELATED-TO:fmf-AFLABS-URNIK:srecanje:14452
X-WR-TIMEZONE:Europe/Ljubljana
END:VEVENT
BEGIN:VEVENT
SUMMARY:Matematika (NTF) ()\, Vaje (V)
DTSTART;TZID=Europe/Ljubljana:20241008T130000
DTEND;TZID=Europe/Ljubljana:20241008T160000
DTSTAMP:20260423T011504Z
UID:fmf-AFLABS-URNIK:premaknjeno-srecanje:194759
CATEGORIES:Entry,Standard
COLOR:darkgreen
DESCRIPTION:Predmet: Matematika (NTF) ()\, Vaje (V)\nLetniki: \nIzvajalci:
  Gregor Rus\nProstor: NTF
LOCATION:NTF
ORGANIZER:Gregor Rus
RELATED-TO:fmf-AFLABS-URNIK:srecanje:14452
X-WR-TIMEZONE:Europe/Ljubljana
END:VEVENT
BEGIN:VEVENT
SUMMARY:Matematika (NTF) ()\, Vaje (V)
DTSTART;TZID=Europe/Ljubljana:20241015T130000
DTEND;TZID=Europe/Ljubljana:20241015T160000
DTSTAMP:20260423T011504Z
UID:fmf-AFLABS-URNIK:premaknjeno-srecanje:194760
CATEGORIES:Entry,Standard
COLOR:darkgreen
DESCRIPTION:Predmet: Matematika (NTF) ()\, Vaje (V)\nLetniki: \nIzvajalci:
  Gregor Rus\nProstor: NTF
LOCATION:NTF
ORGANIZER:Gregor Rus
RELATED-TO:fmf-AFLABS-URNIK:srecanje:14452
X-WR-TIMEZONE:Europe/Ljubljana
END:VEVENT
BEGIN:VEVENT
SUMMARY:Matematika (NTF) ()\, Vaje (V)
DTSTART;TZID=Europe/Ljubljana:20241022T130000
DTEND;TZID=Europe/Ljubljana:20241022T160000
DTSTAMP:20260423T011504Z
UID:fmf-AFLABS-URNIK:premaknjeno-srecanje:194761
CATEGORIES:Entry,Standard
COLOR:darkgreen
DESCRIPTION:Predmet: Matematika (NTF) ()\, Vaje (V)\nLetniki: \nIzvajalci:
  Gregor Rus\nProstor: NTF
LOCATION:NTF
ORGANIZER:Gregor Rus
RELATED-TO:fmf-AFLABS-URNIK:srecanje:14452
X-WR-TIMEZONE:Europe/Ljubljana
END:VEVENT
BEGIN:VEVENT
SUMMARY:Matematika (FFA) ()\, Vaje (V)
DTSTART;TZID=Europe/Ljubljana:20241001T080000
DTEND;TZID=Europe/Ljubljana:20241001T100000
DTSTAMP:20260423T011504Z
UID:fmf-AFLABS-URNIK:premaknjeno-srecanje:194774
CATEGORIES:Entry,Standard
COLOR:darkgreen
DESCRIPTION:Predmet: Matematika (FFA) ()\, Vaje (V)\nLetniki: \nIzvajalci:
  Gregor Rus\nProstor: FFA
LOCATION:FFA
ORGANIZER:Gregor Rus
RELATED-TO:fmf-AFLABS-URNIK:srecanje:14453
X-WR-TIMEZONE:Europe/Ljubljana
END:VEVENT
BEGIN:VEVENT
SUMMARY:Matematika (FFA) ()\, Vaje (V)
DTSTART;TZID=Europe/Ljubljana:20241008T080000
DTEND;TZID=Europe/Ljubljana:20241008T100000
DTSTAMP:20260423T011504Z
UID:fmf-AFLABS-URNIK:premaknjeno-srecanje:194775
CATEGORIES:Entry,Standard
COLOR:darkgreen
DESCRIPTION:Predmet: Matematika (FFA) ()\, Vaje (V)\nLetniki: \nIzvajalci:
  Gregor Rus\nProstor: FFA
LOCATION:FFA
ORGANIZER:Gregor Rus
RELATED-TO:fmf-AFLABS-URNIK:srecanje:14453
X-WR-TIMEZONE:Europe/Ljubljana
END:VEVENT
BEGIN:VEVENT
SUMMARY:Matematika (FFA) ()\, Vaje (V)
DTSTART;TZID=Europe/Ljubljana:20241015T080000
DTEND;TZID=Europe/Ljubljana:20241015T100000
DTSTAMP:20260423T011504Z
UID:fmf-AFLABS-URNIK:premaknjeno-srecanje:194776
CATEGORIES:Entry,Standard
COLOR:darkgreen
DESCRIPTION:Predmet: Matematika (FFA) ()\, Vaje (V)\nLetniki: \nIzvajalci:
  Gregor Rus\nProstor: FFA
LOCATION:FFA
ORGANIZER:Gregor Rus
RELATED-TO:fmf-AFLABS-URNIK:srecanje:14453
X-WR-TIMEZONE:Europe/Ljubljana
END:VEVENT
BEGIN:VEVENT
SUMMARY:Matematika (FFA) ()\, Vaje (V)
DTSTART;TZID=Europe/Ljubljana:20241022T080000
DTEND;TZID=Europe/Ljubljana:20241022T100000
DTSTAMP:20260423T011504Z
UID:fmf-AFLABS-URNIK:premaknjeno-srecanje:194777
CATEGORIES:Entry,Standard
COLOR:darkgreen
DESCRIPTION:Predmet: Matematika (FFA) ()\, Vaje (V)\nLetniki: \nIzvajalci:
  Gregor Rus\nProstor: FFA
LOCATION:FFA
ORGANIZER:Gregor Rus
RELATED-TO:fmf-AFLABS-URNIK:srecanje:14453
X-WR-TIMEZONE:Europe/Ljubljana
END:VEVENT
BEGIN:VEVENT
SUMMARY:Matematika (FFA) ()\, Vaje (V)
DTSTART;TZID=Europe/Ljubljana:20241002T120000
DTEND;TZID=Europe/Ljubljana:20241002T140000
DTSTAMP:20260423T011504Z
UID:fmf-AFLABS-URNIK:premaknjeno-srecanje:194806
CATEGORIES:Entry,Standard
COLOR:darkgreen
DESCRIPTION:Predmet: Matematika (FFA) ()\, Vaje (V)\nLetniki: \nIzvajalci:
  Gregor Rus\nProstor: FFA
LOCATION:FFA
ORGANIZER:Gregor Rus
RELATED-TO:fmf-AFLABS-URNIK:srecanje:14455
X-WR-TIMEZONE:Europe/Ljubljana
END:VEVENT
BEGIN:VEVENT
SUMMARY:Matematika (FFA) ()\, Vaje (V)
DTSTART;TZID=Europe/Ljubljana:20241009T120000
DTEND;TZID=Europe/Ljubljana:20241009T140000
DTSTAMP:20260423T011504Z
UID:fmf-AFLABS-URNIK:premaknjeno-srecanje:194807
CATEGORIES:Entry,Standard
COLOR:darkgreen
DESCRIPTION:Predmet: Matematika (FFA) ()\, Vaje (V)\nLetniki: \nIzvajalci:
  Gregor Rus\nProstor: FFA
LOCATION:FFA
ORGANIZER:Gregor Rus
RELATED-TO:fmf-AFLABS-URNIK:srecanje:14455
X-WR-TIMEZONE:Europe/Ljubljana
END:VEVENT
BEGIN:VEVENT
SUMMARY:Matematika (FFA) ()\, Vaje (V)
DTSTART;TZID=Europe/Ljubljana:20241016T120000
DTEND;TZID=Europe/Ljubljana:20241016T140000
DTSTAMP:20260423T011504Z
UID:fmf-AFLABS-URNIK:premaknjeno-srecanje:194808
CATEGORIES:Entry,Standard
COLOR:darkgreen
DESCRIPTION:Predmet: Matematika (FFA) ()\, Vaje (V)\nLetniki: \nIzvajalci:
  Gregor Rus\nProstor: FFA
LOCATION:FFA
ORGANIZER:Gregor Rus
RELATED-TO:fmf-AFLABS-URNIK:srecanje:14455
X-WR-TIMEZONE:Europe/Ljubljana
END:VEVENT
BEGIN:VEVENT
SUMMARY:Matematika (FFA) ()\, Vaje (V)
DTSTART;TZID=Europe/Ljubljana:20241023T120000
DTEND;TZID=Europe/Ljubljana:20241023T140000
DTSTAMP:20260423T011504Z
UID:fmf-AFLABS-URNIK:premaknjeno-srecanje:194809
CATEGORIES:Entry,Standard
COLOR:darkgreen
DESCRIPTION:Predmet: Matematika (FFA) ()\, Vaje (V)\nLetniki: \nIzvajalci:
  Gregor Rus\nProstor: FFA
LOCATION:FFA
ORGANIZER:Gregor Rus
RELATED-TO:fmf-AFLABS-URNIK:srecanje:14455
X-WR-TIMEZONE:Europe/Ljubljana
END:VEVENT
BEGIN:VEVENT
SUMMARY:Bridge ()\, Ostalo (O)
DTSTART;TZID=Europe/Ljubljana:20241002T160000
DTEND;TZID=Europe/Ljubljana:20241002T190000
DTSTAMP:20260423T011504Z
UID:fmf-AFLABS-URNIK:premaknjeno-srecanje:194822
CATEGORIES:Entry,Standard
COLOR:darkgreen
DESCRIPTION:Predmet: Bridge ()\, Ostalo (O)\nLetniki: \nIzvajalci: Barbara
  Drinovec Drnovšek\, Gregor Rus\nProstor: 3.05
LOCATION:3.05
ORGANIZER:Barbara Drinovec Drnovšek, Gregor Rus
RELATED-TO:fmf-AFLABS-URNIK:srecanje:14194
X-WR-TIMEZONE:Europe/Ljubljana
END:VEVENT
BEGIN:VEVENT
SUMMARY:Bridge ()\, Ostalo (O)
DTSTART;TZID=Europe/Ljubljana:20241009T160000
DTEND;TZID=Europe/Ljubljana:20241009T190000
DTSTAMP:20260423T011504Z
UID:fmf-AFLABS-URNIK:premaknjeno-srecanje:194823
CATEGORIES:Entry,Standard
COLOR:darkgreen
DESCRIPTION:Predmet: Bridge ()\, Ostalo (O)\nLetniki: \nIzvajalci: Barbara
  Drinovec Drnovšek\, Gregor Rus\nProstor: 3.05
LOCATION:3.05
ORGANIZER:Barbara Drinovec Drnovšek, Gregor Rus
RELATED-TO:fmf-AFLABS-URNIK:srecanje:14194
X-WR-TIMEZONE:Europe/Ljubljana
END:VEVENT
BEGIN:VEVENT
SUMMARY:Bridge ()\, Ostalo (O)
DTSTART;TZID=Europe/Ljubljana:20241016T160000
DTEND;TZID=Europe/Ljubljana:20241016T190000
DTSTAMP:20260423T011504Z
UID:fmf-AFLABS-URNIK:premaknjeno-srecanje:194824
CATEGORIES:Entry,Standard
COLOR:darkgreen
DESCRIPTION:Predmet: Bridge ()\, Ostalo (O)\nLetniki: \nIzvajalci: Barbara
  Drinovec Drnovšek\, Gregor Rus\nProstor: 3.05
LOCATION:3.05
ORGANIZER:Barbara Drinovec Drnovšek, Gregor Rus
RELATED-TO:fmf-AFLABS-URNIK:srecanje:14194
X-WR-TIMEZONE:Europe/Ljubljana
END:VEVENT
BEGIN:VEVENT
SUMMARY:Bridge ()\, Ostalo (O)
DTSTART;TZID=Europe/Ljubljana:20241023T160000
DTEND;TZID=Europe/Ljubljana:20241023T190000
DTSTAMP:20260423T011504Z
UID:fmf-AFLABS-URNIK:premaknjeno-srecanje:194825
CATEGORIES:Entry,Standard
COLOR:darkgreen
DESCRIPTION:Predmet: Bridge ()\, Ostalo (O)\nLetniki: \nIzvajalci: Barbara
  Drinovec Drnovšek\, Gregor Rus\nProstor: 3.05
LOCATION:3.05
ORGANIZER:Barbara Drinovec Drnovšek, Gregor Rus
RELATED-TO:fmf-AFLABS-URNIK:srecanje:14194
X-WR-TIMEZONE:Europe/Ljubljana
END:VEVENT
BEGIN:VEVENT
SUMMARY:Matematika (FFA) ()\, Vaje (V)
DTSTART;TZID=Europe/Ljubljana:20241007T100000
DTEND;TZID=Europe/Ljubljana:20241007T120000
DTSTAMP:20260423T011504Z
UID:fmf-AFLABS-URNIK:premaknjeno-srecanje:194678
CATEGORIES:Entry,Standard
COLOR:darkgreen
DESCRIPTION:Predmet: Matematika (FFA) ()\, Vaje (V)\nLetniki: \nIzvajalci:
  Gregor Rus\nProstor: FFA
LOCATION:FFA
ORGANIZER:Gregor Rus
RELATED-TO:fmf-AFLABS-URNIK:srecanje:14449
X-WR-TIMEZONE:Europe/Ljubljana
END:VEVENT
BEGIN:VEVENT
SUMMARY:Matematika (FFA) ()\, Vaje (V)
DTSTART;TZID=Europe/Ljubljana:20241014T100000
DTEND;TZID=Europe/Ljubljana:20241014T120000
DTSTAMP:20260423T011504Z
UID:fmf-AFLABS-URNIK:premaknjeno-srecanje:194679
CATEGORIES:Entry,Standard
COLOR:darkgreen
DESCRIPTION:Predmet: Matematika (FFA) ()\, Vaje (V)\nLetniki: \nIzvajalci:
  Gregor Rus\nProstor: FFA
LOCATION:FFA
ORGANIZER:Gregor Rus
RELATED-TO:fmf-AFLABS-URNIK:srecanje:14449
X-WR-TIMEZONE:Europe/Ljubljana
END:VEVENT
BEGIN:VEVENT
SUMMARY:Matematika (FFA) ()\, Vaje (V)
DTSTART;TZID=Europe/Ljubljana:20241021T100000
DTEND;TZID=Europe/Ljubljana:20241021T120000
DTSTAMP:20260423T011504Z
UID:fmf-AFLABS-URNIK:premaknjeno-srecanje:194680
CATEGORIES:Entry,Standard
COLOR:darkgreen
DESCRIPTION:Predmet: Matematika (FFA) ()\, Vaje (V)\nLetniki: \nIzvajalci:
  Gregor Rus\nProstor: FFA
LOCATION:FFA
ORGANIZER:Gregor Rus
RELATED-TO:fmf-AFLABS-URNIK:srecanje:14449
X-WR-TIMEZONE:Europe/Ljubljana
END:VEVENT
BEGIN:VEVENT
SUMMARY:Matematika (FFA) ()\, Vaje (V)
DTSTART;TZID=Europe/Ljubljana:20241028T100000
DTEND;TZID=Europe/Ljubljana:20241028T120000
DTSTAMP:20260423T011504Z
UID:fmf-AFLABS-URNIK:premaknjeno-srecanje:194681
CATEGORIES:Entry,Standard
COLOR:darkgreen
DESCRIPTION:Predmet: Matematika (FFA) ()\, Vaje (V)\nLetniki: \nIzvajalci:
  Gregor Rus\nProstor: FFA
LOCATION:FFA
ORGANIZER:Gregor Rus
RELATED-TO:fmf-AFLABS-URNIK:srecanje:14449
X-WR-TIMEZONE:Europe/Ljubljana
END:VEVENT
BEGIN:VEVENT
SUMMARY:Matematika (NTF) ()\, Vaje (V)
DTSTART;TZID=Europe/Ljubljana:20241007T140000
DTEND;TZID=Europe/Ljubljana:20241007T170000
DTSTAMP:20260423T011504Z
UID:fmf-AFLABS-URNIK:premaknjeno-srecanje:194726
CATEGORIES:Entry,Standard
COLOR:darkgreen
DESCRIPTION:Predmet: Matematika (NTF) ()\, Vaje (V)\nLetniki: \nIzvajalci:
  Gregor Rus\nProstor: NTF
LOCATION:NTF
ORGANIZER:Gregor Rus
RELATED-TO:fmf-AFLABS-URNIK:srecanje:14451
X-WR-TIMEZONE:Europe/Ljubljana
END:VEVENT
BEGIN:VEVENT
SUMMARY:Matematika (NTF) ()\, Vaje (V)
DTSTART;TZID=Europe/Ljubljana:20241014T140000
DTEND;TZID=Europe/Ljubljana:20241014T170000
DTSTAMP:20260423T011504Z
UID:fmf-AFLABS-URNIK:premaknjeno-srecanje:194727
CATEGORIES:Entry,Standard
COLOR:darkgreen
DESCRIPTION:Predmet: Matematika (NTF) ()\, Vaje (V)\nLetniki: \nIzvajalci:
  Gregor Rus\nProstor: NTF
LOCATION:NTF
ORGANIZER:Gregor Rus
RELATED-TO:fmf-AFLABS-URNIK:srecanje:14451
X-WR-TIMEZONE:Europe/Ljubljana
END:VEVENT
BEGIN:VEVENT
SUMMARY:Matematika (NTF) ()\, Vaje (V)
DTSTART;TZID=Europe/Ljubljana:20241021T140000
DTEND;TZID=Europe/Ljubljana:20241021T170000
DTSTAMP:20260423T011504Z
UID:fmf-AFLABS-URNIK:premaknjeno-srecanje:194728
CATEGORIES:Entry,Standard
COLOR:darkgreen
DESCRIPTION:Predmet: Matematika (NTF) ()\, Vaje (V)\nLetniki: \nIzvajalci:
  Gregor Rus\nProstor: NTF
LOCATION:NTF
ORGANIZER:Gregor Rus
RELATED-TO:fmf-AFLABS-URNIK:srecanje:14451
X-WR-TIMEZONE:Europe/Ljubljana
END:VEVENT
BEGIN:VEVENT
SUMMARY:Matematika (NTF) ()\, Vaje (V)
DTSTART;TZID=Europe/Ljubljana:20241028T140000
DTEND;TZID=Europe/Ljubljana:20241028T170000
DTSTAMP:20260423T011504Z
UID:fmf-AFLABS-URNIK:premaknjeno-srecanje:194729
CATEGORIES:Entry,Standard
COLOR:darkgreen
DESCRIPTION:Predmet: Matematika (NTF) ()\, Vaje (V)\nLetniki: \nIzvajalci:
  Gregor Rus\nProstor: NTF
LOCATION:NTF
ORGANIZER:Gregor Rus
RELATED-TO:fmf-AFLABS-URNIK:srecanje:14451
X-WR-TIMEZONE:Europe/Ljubljana
END:VEVENT
BEGIN:VEVENT
SUMMARY:Matematika (FFA) ()\, Vaje (V)
DTSTART;TZID=Europe/Ljubljana:20241007T120000
DTEND;TZID=Europe/Ljubljana:20241007T140000
DTSTAMP:20260423T011504Z
UID:fmf-AFLABS-URNIK:premaknjeno-srecanje:195077
CATEGORIES:Entry,Standard
COLOR:darkgreen
DESCRIPTION:Predmet: Matematika (FFA) ()\, Vaje (V)\nLetniki: \nIzvajalci:
  Gregor Rus\nProstor: FFA
LOCATION:FFA
ORGANIZER:Gregor Rus
RELATED-TO:fmf-AFLABS-URNIK:srecanje:14450
X-WR-TIMEZONE:Europe/Ljubljana
END:VEVENT
BEGIN:VEVENT
SUMMARY:Matematika (FFA) ()\, Vaje (V)
DTSTART;TZID=Europe/Ljubljana:20241014T120000
DTEND;TZID=Europe/Ljubljana:20241014T140000
DTSTAMP:20260423T011504Z
UID:fmf-AFLABS-URNIK:premaknjeno-srecanje:195078
CATEGORIES:Entry,Standard
COLOR:darkgreen
DESCRIPTION:Predmet: Matematika (FFA) ()\, Vaje (V)\nLetniki: \nIzvajalci:
  Gregor Rus\nProstor: FFA
LOCATION:FFA
ORGANIZER:Gregor Rus
RELATED-TO:fmf-AFLABS-URNIK:srecanje:14450
X-WR-TIMEZONE:Europe/Ljubljana
END:VEVENT
BEGIN:VEVENT
SUMMARY:Matematika (FFA) ()\, Vaje (V)
DTSTART;TZID=Europe/Ljubljana:20241021T120000
DTEND;TZID=Europe/Ljubljana:20241021T140000
DTSTAMP:20260423T011504Z
UID:fmf-AFLABS-URNIK:premaknjeno-srecanje:195079
CATEGORIES:Entry,Standard
COLOR:darkgreen
DESCRIPTION:Predmet: Matematika (FFA) ()\, Vaje (V)\nLetniki: \nIzvajalci:
  Gregor Rus\nProstor: FFA
LOCATION:FFA
ORGANIZER:Gregor Rus
RELATED-TO:fmf-AFLABS-URNIK:srecanje:14450
X-WR-TIMEZONE:Europe/Ljubljana
END:VEVENT
BEGIN:VEVENT
SUMMARY:Matematika (FFA) ()\, Vaje (V)
DTSTART;TZID=Europe/Ljubljana:20241028T120000
DTEND;TZID=Europe/Ljubljana:20241028T140000
DTSTAMP:20260423T011504Z
UID:fmf-AFLABS-URNIK:premaknjeno-srecanje:195080
CATEGORIES:Entry,Standard
COLOR:darkgreen
DESCRIPTION:Predmet: Matematika (FFA) ()\, Vaje (V)\nLetniki: \nIzvajalci:
  Gregor Rus\nProstor: FFA
LOCATION:FFA
ORGANIZER:Gregor Rus
RELATED-TO:fmf-AFLABS-URNIK:srecanje:14450
X-WR-TIMEZONE:Europe/Ljubljana
END:VEVENT
BEGIN:VEVENT
SUMMARY:Izpit Matematika (FFA)
DTSTART;TZID=Europe/Ljubljana:20240823T120000
DTEND;TZID=Europe/Ljubljana:20240823T150000
DTSTAMP:20260423T011504Z
UID:fmf-AFLABS-URNIK:rezervacija:16099
CATEGORIES:Reservation
COLOR:royalblue
DESCRIPTION:Predmeti: \nLetniki: \nIzvajalci: David Dolžan\, Boštjan Lem
 ež\, Gregor Rus\, Gašper Žajdela\nProstori: VFP
LOCATION:VFP
ORGANIZER:David Dolžan, Boštjan Lemež, Gregor Rus, Gašper Žajdela
X-WR-TIMEZONE:Europe/Ljubljana
END:VEVENT
BEGIN:VEVENT
SUMMARY:DS2 izpit
DTSTART;TZID=Europe/Ljubljana:20240829T130000
DTEND;TZID=Europe/Ljubljana:20240829T160000
DTSTAMP:20260423T011504Z
UID:fmf-AFLABS-URNIK:rezervacija:16486
ATTENDEE:1. letnik (IŠRM)
CATEGORIES:Reservation
COLOR:royalblue
DESCRIPTION:Predmeti: Diskretne strukture 2 (IŠRM-1)\nLetniki: 1. letnik 
 (IŠRM)\nIzvajalci: Sandi Klavžar\, Gregor Rus\nProstori: 2.01
LOCATION:2.01
ORGANIZER:Sandi Klavžar, Gregor Rus
X-WR-TIMEZONE:Europe/Ljubljana
END:VEVENT
BEGIN:VEVENT
SUMMARY:izpit LBM in KOZ
DTSTART;TZID=Europe/Ljubljana:20240903T160000
DTEND;TZID=Europe/Ljubljana:20240903T190000
DTSTAMP:20260423T011504Z
UID:fmf-AFLABS-URNIK:rezervacija:17214
CATEGORIES:Reservation
COLOR:royalblue
DESCRIPTION:Predmeti: \nLetniki: \nIzvajalci: Roman Drnovšek\, Gregor Rus
 \nProstori: 2.01
LOCATION:2.01
ORGANIZER:Roman Drnovšek, Gregor Rus
X-WR-TIMEZONE:Europe/Ljubljana
END:VEVENT
BEGIN:VEVENT
SUMMARY:NTF izpit
DTSTART;TZID=Europe/Ljubljana:20240827T160000
DTEND;TZID=Europe/Ljubljana:20240827T180000
DTSTAMP:20260423T011504Z
UID:fmf-AFLABS-URNIK:rezervacija:17935
CATEGORIES:Reservation
COLOR:royalblue
DESCRIPTION:Predmeti: \nLetniki: \nIzvajalci: Gregor Rus\nProstori: 2.04
LOCATION:2.04
ORGANIZER:Gregor Rus
X-WR-TIMEZONE:Europe/Ljubljana
END:VEVENT
END:VCALENDAR
