BEGIN:VCALENDAR
VERSION:2.0
PRODID:-//AFLabs urnik izvoz - fmf//aflabs.si//SI
DTSTAMP:20260425T031946Z
NAME:UL FMF urnik
REFRESH-INTERVAL:PT1H
SOURCE:https://urnik.fmf.uni-lj.si/teacher/1408?day=2023-08-21&export=1
URL:https://urnik.fmf.uni-lj.si/teacher/1408?day=2023-08-21&export=1
X-PUBLISHED-TTL:PT1H
X-WR-CALNAME:UL FMF urnik
X-WR-TIMEZONE:Europe/Ljubljana
BEGIN:VTIMEZONE
TZID:Europe/Ljubljana
BEGIN:DAYLIGHT
DTSTART:20260329T020000
RDATE:20260329T020000
RDATE:20270328T020000
TZNAME:CEST
TZOFFSETFROM:+0100
TZOFFSETTO:+0200
END:DAYLIGHT
BEGIN:STANDARD
DTSTART:20261025T030000
RDATE:20261025T030000
RDATE:20271031T030000
TZNAME:CET
TZOFFSETFROM:+0200
TZOFFSETTO:+0100
END:STANDARD
END:VTIMEZONE
BEGIN:VEVENT
SUMMARY:Rezervacija
DTSTART;TZID=Europe/Ljubljana:20230731T100000
DTEND;TZID=Europe/Ljubljana:20230731T120000
DTSTAMP:20260425T031946Z
UID:fmf-AFLABS-URNIK:rezervacija:12760
CATEGORIES:Reservation
COLOR:royalblue
DESCRIPTION:Predmeti: \nLetniki: \nIzvajalci: Anja Godec-Milinković\nPros
 tori: P.02
LOCATION:P.02
ORGANIZER:Anja Godec-Milinković
X-WR-TIMEZONE:Europe/Ljubljana
END:VEVENT
BEGIN:VEVENT
SUMMARY:Rezervacija
DTSTART;TZID=Europe/Ljubljana:20230804T120000
DTEND;TZID=Europe/Ljubljana:20230804T130000
DTSTAMP:20260425T031946Z
UID:fmf-AFLABS-URNIK:rezervacija:12769
CATEGORIES:Reservation
COLOR:royalblue
DESCRIPTION:Predmeti: \nLetniki: \nIzvajalci: Anja Godec-Milinković\nPros
 tori: 3.07
LOCATION:3.07
ORGANIZER:Anja Godec-Milinković
X-WR-TIMEZONE:Europe/Ljubljana
END:VEVENT
BEGIN:VEVENT
SUMMARY:Rezervacija
DTSTART;TZID=Europe/Ljubljana:20230824T110000
DTEND;TZID=Europe/Ljubljana:20230824T130000
DTSTAMP:20260425T031946Z
UID:fmf-AFLABS-URNIK:rezervacija:12907
CATEGORIES:Reservation
COLOR:royalblue
DESCRIPTION:Predmeti: \nLetniki: \nIzvajalci: Anja Godec-Milinković\nPros
 tori: 3.06
LOCATION:3.06
ORGANIZER:Anja Godec-Milinković
X-WR-TIMEZONE:Europe/Ljubljana
END:VEVENT
BEGIN:VEVENT
SUMMARY:Rezervacija
DTSTART;TZID=Europe/Ljubljana:20230906T090000
DTEND;TZID=Europe/Ljubljana:20230906T100000
DTSTAMP:20260425T031946Z
UID:fmf-AFLABS-URNIK:rezervacija:13166
CATEGORIES:Reservation
COLOR:royalblue
DESCRIPTION:Predmeti: \nLetniki: \nIzvajalci: Anja Godec-Milinković\nPros
 tori: 3.04
LOCATION:3.04
ORGANIZER:Anja Godec-Milinković
X-WR-TIMEZONE:Europe/Ljubljana
END:VEVENT
BEGIN:VEVENT
SUMMARY:Rezervacija
DTSTART;TZID=Europe/Ljubljana:20230906T100000
DTEND;TZID=Europe/Ljubljana:20230906T120000
DTSTAMP:20260425T031946Z
UID:fmf-AFLABS-URNIK:rezervacija:13174
CATEGORIES:Reservation
COLOR:royalblue
DESCRIPTION:Predmeti: \nLetniki: \nIzvajalci: Anja Godec-Milinković\nPros
 tori: 3.07
LOCATION:3.07
ORGANIZER:Anja Godec-Milinković
X-WR-TIMEZONE:Europe/Ljubljana
END:VEVENT
BEGIN:VEVENT
SUMMARY:Rezervacija
DTSTART;TZID=Europe/Ljubljana:20230907T100000
DTEND;TZID=Europe/Ljubljana:20230907T120000
DTSTAMP:20260425T031946Z
UID:fmf-AFLABS-URNIK:rezervacija:13209
CATEGORIES:Reservation
COLOR:royalblue
DESCRIPTION:Predmeti: \nLetniki: \nIzvajalci: Anja Godec-Milinković\nPros
 tori: 3.06
LOCATION:3.06
ORGANIZER:Anja Godec-Milinković
X-WR-TIMEZONE:Europe/Ljubljana
END:VEVENT
BEGIN:VEVENT
SUMMARY:Rezervacija
DTSTART;TZID=Europe/Ljubljana:20230907T110000
DTEND;TZID=Europe/Ljubljana:20230907T130000
DTSTAMP:20260425T031946Z
UID:fmf-AFLABS-URNIK:rezervacija:13214
CATEGORIES:Reservation
COLOR:royalblue
DESCRIPTION:Predmeti: \nLetniki: \nIzvajalci: Anja Godec-Milinković\nPros
 tori: 3.07
LOCATION:3.07
ORGANIZER:Anja Godec-Milinković
X-WR-TIMEZONE:Europe/Ljubljana
END:VEVENT
BEGIN:VEVENT
SUMMARY:Rezervacija
DTSTART;TZID=Europe/Ljubljana:20230908T100000
DTEND;TZID=Europe/Ljubljana:20230908T110000
DTSTAMP:20260425T031946Z
UID:fmf-AFLABS-URNIK:rezervacija:13234
CATEGORIES:Reservation
COLOR:royalblue
DESCRIPTION:Predmeti: \nLetniki: \nIzvajalci: Anja Godec-Milinković\nPros
 tori: 3.07
LOCATION:3.07
ORGANIZER:Anja Godec-Milinković
X-WR-TIMEZONE:Europe/Ljubljana
END:VEVENT
BEGIN:VEVENT
SUMMARY:Rezervacija
DTSTART;TZID=Europe/Ljubljana:20230908T100000
DTEND;TZID=Europe/Ljubljana:20230908T120000
DTSTAMP:20260425T031946Z
UID:fmf-AFLABS-URNIK:rezervacija:13238
CATEGORIES:Reservation
COLOR:royalblue
DESCRIPTION:Predmeti: \nLetniki: \nIzvajalci: Anja Godec-Milinković\nPros
 tori: 3.06
LOCATION:3.06
ORGANIZER:Anja Godec-Milinković
X-WR-TIMEZONE:Europe/Ljubljana
END:VEVENT
BEGIN:VEVENT
SUMMARY:Rezervacija
DTSTART;TZID=Europe/Ljubljana:20230908T110000
DTEND;TZID=Europe/Ljubljana:20230908T130000
DTSTAMP:20260425T031946Z
UID:fmf-AFLABS-URNIK:rezervacija:13241
CATEGORIES:Reservation
COLOR:royalblue
DESCRIPTION:Predmeti: \nLetniki: \nIzvajalci: Anja Godec-Milinković\nPros
 tori: 3.07
LOCATION:3.07
ORGANIZER:Anja Godec-Milinković
X-WR-TIMEZONE:Europe/Ljubljana
END:VEVENT
BEGIN:VEVENT
SUMMARY:Rezervacija
DTSTART;TZID=Europe/Ljubljana:20230911T100000
DTEND;TZID=Europe/Ljubljana:20230911T120000
DTSTAMP:20260425T031946Z
UID:fmf-AFLABS-URNIK:rezervacija:13251
CATEGORIES:Reservation
COLOR:royalblue
DESCRIPTION:Predmeti: \nLetniki: \nIzvajalci: Anja Godec-Milinković\nPros
 tori: 3.06
LOCATION:3.06
ORGANIZER:Anja Godec-Milinković
X-WR-TIMEZONE:Europe/Ljubljana
END:VEVENT
BEGIN:VEVENT
SUMMARY:Rezervacija
DTSTART;TZID=Europe/Ljubljana:20230911T100000
DTEND;TZID=Europe/Ljubljana:20230911T120000
DTSTAMP:20260425T031946Z
UID:fmf-AFLABS-URNIK:rezervacija:13252
CATEGORIES:Reservation
COLOR:royalblue
DESCRIPTION:Predmeti: \nLetniki: \nIzvajalci: Anja Godec-Milinković\nPros
 tori: 3.05
LOCATION:3.05
ORGANIZER:Anja Godec-Milinković
X-WR-TIMEZONE:Europe/Ljubljana
END:VEVENT
BEGIN:VEVENT
SUMMARY:Rezervacija
DTSTART;TZID=Europe/Ljubljana:20230912T080000
DTEND;TZID=Europe/Ljubljana:20230912T090000
DTSTAMP:20260425T031946Z
UID:fmf-AFLABS-URNIK:rezervacija:13262
CATEGORIES:Reservation
COLOR:royalblue
DESCRIPTION:Predmeti: \nLetniki: \nIzvajalci: Anja Godec-Milinković\nPros
 tori: 3.06
LOCATION:3.06
ORGANIZER:Anja Godec-Milinković
X-WR-TIMEZONE:Europe/Ljubljana
END:VEVENT
BEGIN:VEVENT
SUMMARY:Rezervacija
DTSTART;TZID=Europe/Ljubljana:20230912T090000
DTEND;TZID=Europe/Ljubljana:20230912T130000
DTSTAMP:20260425T031946Z
UID:fmf-AFLABS-URNIK:rezervacija:13267
CATEGORIES:Reservation
COLOR:royalblue
DESCRIPTION:Predmeti: \nLetniki: \nIzvajalci: Anja Godec-Milinković\nPros
 tori: 3.06
LOCATION:3.06
ORGANIZER:Anja Godec-Milinković
X-WR-TIMEZONE:Europe/Ljubljana
END:VEVENT
BEGIN:VEVENT
SUMMARY:Rezervacija
DTSTART;TZID=Europe/Ljubljana:20230912T090000
DTEND;TZID=Europe/Ljubljana:20230912T130000
DTSTAMP:20260425T031946Z
UID:fmf-AFLABS-URNIK:rezervacija:13268
CATEGORIES:Reservation
COLOR:royalblue
DESCRIPTION:Predmeti: \nLetniki: \nIzvajalci: Anja Godec-Milinković\nPros
 tori: 3.05
LOCATION:3.05
ORGANIZER:Anja Godec-Milinković
X-WR-TIMEZONE:Europe/Ljubljana
END:VEVENT
BEGIN:VEVENT
SUMMARY:Rezervacija
DTSTART;TZID=Europe/Ljubljana:20230912T110000
DTEND;TZID=Europe/Ljubljana:20230912T120000
DTSTAMP:20260425T031946Z
UID:fmf-AFLABS-URNIK:rezervacija:13272
CATEGORIES:Reservation
COLOR:royalblue
DESCRIPTION:Predmeti: \nLetniki: \nIzvajalci: Anja Godec-Milinković\nPros
 tori: 3.04
LOCATION:3.04
ORGANIZER:Anja Godec-Milinković
X-WR-TIMEZONE:Europe/Ljubljana
END:VEVENT
BEGIN:VEVENT
SUMMARY:Rezervacija
DTSTART;TZID=Europe/Ljubljana:20230913T110000
DTEND;TZID=Europe/Ljubljana:20230913T130000
DTSTAMP:20260425T031946Z
UID:fmf-AFLABS-URNIK:rezervacija:13283
CATEGORIES:Reservation
COLOR:royalblue
DESCRIPTION:Predmeti: \nLetniki: \nIzvajalci: Anja Godec-Milinković\nPros
 tori: 3.07
LOCATION:3.07
ORGANIZER:Anja Godec-Milinković
X-WR-TIMEZONE:Europe/Ljubljana
END:VEVENT
BEGIN:VEVENT
SUMMARY:Rezervacija
DTSTART;TZID=Europe/Ljubljana:20230914T090000
DTEND;TZID=Europe/Ljubljana:20230914T110000
DTSTAMP:20260425T031946Z
UID:fmf-AFLABS-URNIK:rezervacija:13291
CATEGORIES:Reservation
COLOR:royalblue
DESCRIPTION:Predmeti: \nLetniki: \nIzvajalci: Anja Godec-Milinković\nPros
 tori: 3.07
LOCATION:3.07
ORGANIZER:Anja Godec-Milinković
X-WR-TIMEZONE:Europe/Ljubljana
END:VEVENT
BEGIN:VEVENT
SUMMARY:Rezervacija
DTSTART;TZID=Europe/Ljubljana:20230922T110000
DTEND;TZID=Europe/Ljubljana:20230922T130000
DTSTAMP:20260425T031946Z
UID:fmf-AFLABS-URNIK:rezervacija:13342
CATEGORIES:Reservation
COLOR:royalblue
DESCRIPTION:Predmeti: \nLetniki: \nIzvajalci: Anja Godec-Milinković\nPros
 tori: 3.07
LOCATION:3.07
ORGANIZER:Anja Godec-Milinković
X-WR-TIMEZONE:Europe/Ljubljana
END:VEVENT
BEGIN:VEVENT
SUMMARY:Rezervacija
DTSTART;TZID=Europe/Ljubljana:20230925T080000
DTEND;TZID=Europe/Ljubljana:20230925T120000
DTSTAMP:20260425T031946Z
UID:fmf-AFLABS-URNIK:rezervacija:13345
CATEGORIES:Reservation
COLOR:royalblue
DESCRIPTION:Predmeti: \nLetniki: \nIzvajalci: Anja Godec-Milinković\nPros
 tori: 3.06
LOCATION:3.06
ORGANIZER:Anja Godec-Milinković
X-WR-TIMEZONE:Europe/Ljubljana
END:VEVENT
END:VCALENDAR
