BEGIN:VCALENDAR
VERSION:2.0
PRODID:-//AFLabs urnik izvoz - fmf//aflabs.si//SI
DTSTAMP:20260426T010211Z
NAME:UL FMF urnik
REFRESH-INTERVAL:PT1H
SOURCE:https://urnik.fmf.uni-lj.si/teacher/1408?day=2024-02-05&export=1
URL:https://urnik.fmf.uni-lj.si/teacher/1408?day=2024-02-05&export=1
X-PUBLISHED-TTL:PT1H
X-WR-CALNAME:UL FMF urnik
X-WR-TIMEZONE:Europe/Ljubljana
BEGIN:VTIMEZONE
TZID:Europe/Ljubljana
BEGIN:DAYLIGHT
DTSTART:20260329T020000
RDATE:20260329T020000
RDATE:20270328T020000
TZNAME:CEST
TZOFFSETFROM:+0100
TZOFFSETTO:+0200
END:DAYLIGHT
BEGIN:STANDARD
DTSTART:20261025T030000
RDATE:20261025T030000
RDATE:20271031T030000
TZNAME:CET
TZOFFSETFROM:+0200
TZOFFSETTO:+0100
END:STANDARD
END:VTIMEZONE
BEGIN:VEVENT
SUMMARY:Zagovor mag. dela\, Finančna matematika\, Erker
DTSTART;TZID=Europe/Ljubljana:20240103T140000
DTEND;TZID=Europe/Ljubljana:20240103T150000
DTSTAMP:20260426T010211Z
UID:fmf-AFLABS-URNIK:rezervacija:14184
CATEGORIES:Reservation
COLOR:royalblue
DESCRIPTION:Predmeti: \nLetniki: \nIzvajalci: Anja Godec-Milinković\nPros
 tori: Kuščerjev seminar
LOCATION:Kuščerjev seminar
ORGANIZER:Anja Godec-Milinković
X-WR-TIMEZONE:Europe/Ljubljana
END:VEVENT
BEGIN:VEVENT
SUMMARY:Zagovor magisterija\, Finančna matematika\, Vidmar
DTSTART;TZID=Europe/Ljubljana:20240103T150000
DTEND;TZID=Europe/Ljubljana:20240103T160000
DTSTAMP:20260426T010211Z
UID:fmf-AFLABS-URNIK:rezervacija:14251
CATEGORIES:Reservation
COLOR:royalblue
DESCRIPTION:Predmeti: \nLetniki: \nIzvajalci: Anja Godec-Milinković\nPros
 tori: Kuščerjev seminar
LOCATION:Kuščerjev seminar
ORGANIZER:Anja Godec-Milinković
X-WR-TIMEZONE:Europe/Ljubljana
END:VEVENT
BEGIN:VEVENT
SUMMARY:Magistrski izpit\, Matematika\, Neumann
DTSTART;TZID=Europe/Ljubljana:20240123T120000
DTEND;TZID=Europe/Ljubljana:20240123T140000
DTSTAMP:20260426T010211Z
UID:fmf-AFLABS-URNIK:rezervacija:14298
CATEGORIES:Reservation
COLOR:royalblue
DESCRIPTION:Predmeti: \nLetniki: \nIzvajalci: Anja Godec-Milinković\nPros
 tori: Kuščerjev seminar
LOCATION:Kuščerjev seminar
ORGANIZER:Anja Godec-Milinković
X-WR-TIMEZONE:Europe/Ljubljana
END:VEVENT
BEGIN:VEVENT
SUMMARY:Zagovor mag. dela\, Matematika\, Neumann
DTSTART;TZID=Europe/Ljubljana:20240124T120000
DTEND;TZID=Europe/Ljubljana:20240124T140000
DTSTAMP:20260426T010211Z
UID:fmf-AFLABS-URNIK:rezervacija:14299
CATEGORIES:Reservation
COLOR:royalblue
DESCRIPTION:Predmeti: \nLetniki: \nIzvajalci: Anja Godec-Milinković\nPros
 tori: 3.06
LOCATION:3.06
ORGANIZER:Anja Godec-Milinković
X-WR-TIMEZONE:Europe/Ljubljana
END:VEVENT
BEGIN:VEVENT
SUMMARY:Zagovor mag. dela\, Cör\, IŠRM
DTSTART;TZID=Europe/Ljubljana:20240124T130000
DTEND;TZID=Europe/Ljubljana:20240124T150000
DTSTAMP:20260426T010211Z
UID:fmf-AFLABS-URNIK:rezervacija:14538
CATEGORIES:Reservation
COLOR:royalblue
DESCRIPTION:Predmeti: \nLetniki: \nIzvajalci: Anja Godec-Milinković\nPros
 tori: 3.07
LOCATION:3.07
ORGANIZER:Anja Godec-Milinković
X-WR-TIMEZONE:Europe/Ljubljana
END:VEVENT
BEGIN:VEVENT
SUMMARY:Zagovor mag. dela\, Rode\, Fin MAT
DTSTART;TZID=Europe/Ljubljana:20240126T110000
DTEND;TZID=Europe/Ljubljana:20240126T130000
DTSTAMP:20260426T010211Z
UID:fmf-AFLABS-URNIK:rezervacija:14539
CATEGORIES:Reservation
COLOR:royalblue
DESCRIPTION:Predmeti: \nLetniki: \nIzvajalci: Anja Godec-Milinković\nPros
 tori: 3.07
LOCATION:3.07
ORGANIZER:Anja Godec-Milinković
X-WR-TIMEZONE:Europe/Ljubljana
END:VEVENT
BEGIN:VEVENT
SUMMARY:Zagovor mag. dela\, Mramor\, Fin Mat
DTSTART;TZID=Europe/Ljubljana:20240129T110000
DTEND;TZID=Europe/Ljubljana:20240129T130000
DTSTAMP:20260426T010211Z
UID:fmf-AFLABS-URNIK:rezervacija:14586
CATEGORIES:Reservation
COLOR:royalblue
DESCRIPTION:Predmeti: \nLetniki: \nIzvajalci: Anja Godec-Milinković\nPros
 tori: 3.06
LOCATION:3.06
ORGANIZER:Anja Godec-Milinković
X-WR-TIMEZONE:Europe/Ljubljana
END:VEVENT
BEGIN:VEVENT
SUMMARY:Mag. izpit in zagovor\, Mulej\, Matematika
DTSTART;TZID=Europe/Ljubljana:20240201T090000
DTEND;TZID=Europe/Ljubljana:20240201T130000
DTSTAMP:20260426T010211Z
UID:fmf-AFLABS-URNIK:rezervacija:14588
CATEGORIES:Reservation
COLOR:royalblue
DESCRIPTION:Predmeti: \nLetniki: \nIzvajalci: Anja Godec-Milinković\nPros
 tori: 3.05
LOCATION:3.05
ORGANIZER:Anja Godec-Milinković
X-WR-TIMEZONE:Europe/Ljubljana
END:VEVENT
BEGIN:VEVENT
SUMMARY:Knjižni klub FMF
DTSTART;TZID=Europe/Ljubljana:20240129T180000
DTEND;TZID=Europe/Ljubljana:20240129T200000
DTSTAMP:20260426T010211Z
UID:fmf-AFLABS-URNIK:rezervacija:14589
CATEGORIES:Reservation
COLOR:royalblue
DESCRIPTION:Predmeti: \nLetniki: \nIzvajalci: Anja Godec-Milinković\nPros
 tori: 3.07
LOCATION:3.07
ORGANIZER:Anja Godec-Milinković
X-WR-TIMEZONE:Europe/Ljubljana
END:VEVENT
BEGIN:VEVENT
SUMMARY:B2
DTSTART;TZID=Europe/Ljubljana:20240205T170000
DTEND;TZID=Europe/Ljubljana:20240205T190000
DTSTAMP:20260426T010211Z
UID:fmf-AFLABS-URNIK:rezervacija:14640
CATEGORIES:Reservation
COLOR:royalblue
DESCRIPTION:Predmeti: \nLetniki: \nIzvajalci: Anja Godec-Milinković\nPros
 tori: 2.03\, 3.05
LOCATION:2.03\, 3.05
ORGANIZER:Anja Godec-Milinković
X-WR-TIMEZONE:Europe/Ljubljana
END:VEVENT
BEGIN:VEVENT
SUMMARY:B2
DTSTART;TZID=Europe/Ljubljana:20240212T170000
DTEND;TZID=Europe/Ljubljana:20240212T190000
DTSTAMP:20260426T010211Z
UID:fmf-AFLABS-URNIK:rezervacija:14641
CATEGORIES:Reservation
COLOR:royalblue
DESCRIPTION:Predmeti: \nLetniki: \nIzvajalci: Anja Godec-Milinković\nPros
 tori: 2.03
LOCATION:2.03
ORGANIZER:Anja Godec-Milinković
X-WR-TIMEZONE:Europe/Ljubljana
END:VEVENT
BEGIN:VEVENT
SUMMARY:B2
DTSTART;TZID=Europe/Ljubljana:20240214T170000
DTEND;TZID=Europe/Ljubljana:20240214T200000
DTSTAMP:20260426T010211Z
UID:fmf-AFLABS-URNIK:rezervacija:14642
CATEGORIES:Reservation
COLOR:royalblue
DESCRIPTION:Predmeti: \nLetniki: \nIzvajalci: Anja Godec-Milinković\nPros
 tori: 2.03
LOCATION:2.03
ORGANIZER:Anja Godec-Milinković
X-WR-TIMEZONE:Europe/Ljubljana
END:VEVENT
BEGIN:VEVENT
SUMMARY:B2
DTSTART;TZID=Europe/Ljubljana:20240205T170000
DTEND;TZID=Europe/Ljubljana:20240205T190000
DTSTAMP:20260426T010211Z
UID:fmf-AFLABS-URNIK:rezervacija:14660
CATEGORIES:Reservation
COLOR:royalblue
DESCRIPTION:Predmeti: \nLetniki: \nIzvajalci: Anja Godec-Milinković\nPros
 tori: 2.01
LOCATION:2.01
ORGANIZER:Anja Godec-Milinković
X-WR-TIMEZONE:Europe/Ljubljana
END:VEVENT
BEGIN:VEVENT
SUMMARY:B2
DTSTART;TZID=Europe/Ljubljana:20240205T170000
DTEND;TZID=Europe/Ljubljana:20240205T180000
DTSTAMP:20260426T010211Z
UID:fmf-AFLABS-URNIK:rezervacija:14661
CATEGORIES:Reservation
COLOR:royalblue
DESCRIPTION:Predmeti: \nLetniki: \nIzvajalci: Anja Godec-Milinković\nPros
 tori: 2.04
LOCATION:2.04
ORGANIZER:Anja Godec-Milinković
X-WR-TIMEZONE:Europe/Ljubljana
END:VEVENT
BEGIN:VEVENT
SUMMARY:Priprave za informativni dan
DTSTART;TZID=Europe/Ljubljana:20240215T140000
DTEND;TZID=Europe/Ljubljana:20240215T200000
DTSTAMP:20260426T010211Z
UID:fmf-AFLABS-URNIK:rezervacija:14729
CATEGORIES:Reservation
COLOR:royalblue
DESCRIPTION:Predmeti: \nLetniki: \nIzvajalci: Anja Godec-Milinković\nPros
 tori: 2.01\, 2.05
LOCATION:2.01\, 2.05
ORGANIZER:Anja Godec-Milinković
X-WR-TIMEZONE:Europe/Ljubljana
END:VEVENT
BEGIN:VEVENT
SUMMARY:EL.NET (elektro)
DTSTART;TZID=Europe/Ljubljana:20240202T070000
DTEND;TZID=Europe/Ljubljana:20240202T200000
DTSTAMP:20260426T010211Z
UID:fmf-AFLABS-URNIK:rezervacija:14731
CATEGORIES:Reservation
COLOR:royalblue
DESCRIPTION:Predmeti: \nLetniki: \nIzvajalci: Anja Godec-Milinković\nPros
 tori: P.01\, P.02
LOCATION:P.01\, P.02
ORGANIZER:Anja Godec-Milinković
X-WR-TIMEZONE:Europe/Ljubljana
END:VEVENT
BEGIN:VEVENT
SUMMARY:Zagovor magistrskega dela\, Gornik\, IŠRM
DTSTART;TZID=Europe/Ljubljana:20240212T090000
DTEND;TZID=Europe/Ljubljana:20240212T110000
DTSTAMP:20260426T010211Z
UID:fmf-AFLABS-URNIK:rezervacija:14785
CATEGORIES:Reservation
COLOR:royalblue
DESCRIPTION:Predmeti: \nLetniki: \nIzvajalci: Anja Godec-Milinković\nPros
 tori: 3.06
LOCATION:3.06
ORGANIZER:Anja Godec-Milinković
X-WR-TIMEZONE:Europe/Ljubljana
END:VEVENT
BEGIN:VEVENT
SUMMARY:Zagovor mag. dela\, Kramar\, Fin. mat.
DTSTART;TZID=Europe/Ljubljana:20240215T070000
DTEND;TZID=Europe/Ljubljana:20240215T090000
DTSTAMP:20260426T010211Z
UID:fmf-AFLABS-URNIK:rezervacija:14892
CATEGORIES:Reservation
COLOR:royalblue
DESCRIPTION:Predmeti: \nLetniki: \nIzvajalci: Anja Godec-Milinković\nPros
 tori: 3.06
LOCATION:3.06
ORGANIZER:Anja Godec-Milinković
X-WR-TIMEZONE:Europe/Ljubljana
END:VEVENT
BEGIN:VEVENT
SUMMARY:Zagovor mag. dela\, Jordan\, Finančna matematika
DTSTART;TZID=Europe/Ljubljana:20240306T090000
DTEND;TZID=Europe/Ljubljana:20240306T110000
DTSTAMP:20260426T010211Z
UID:fmf-AFLABS-URNIK:rezervacija:15556
CATEGORIES:Reservation
COLOR:royalblue
DESCRIPTION:Predmeti: \nLetniki: \nIzvajalci: Anja Godec-Milinković\nPros
 tori: F3
LOCATION:F3
ORGANIZER:Anja Godec-Milinković
X-WR-TIMEZONE:Europe/Ljubljana
END:VEVENT
BEGIN:VEVENT
SUMMARY:Rezervacija B2 (izjema)
DTSTART;TZID=Europe/Ljubljana:20240306T170000
DTEND;TZID=Europe/Ljubljana:20240306T190000
DTSTAMP:20260426T010211Z
UID:fmf-AFLABS-URNIK:rezervacija:15674
CATEGORIES:Reservation
COLOR:royalblue
DESCRIPTION:Predmeti: \nLetniki: \nIzvajalci: Anja Godec-Milinković\nPros
 tori: 3.04
LOCATION:3.04
ORGANIZER:Anja Godec-Milinković
X-WR-TIMEZONE:Europe/Ljubljana
END:VEVENT
END:VCALENDAR
