BEGIN:VCALENDAR
VERSION:2.0
PRODID:-//AFLabs urnik izvoz - fmf//aflabs.si//SI
DTSTAMP:20260426T041047Z
NAME:UL FMF urnik
REFRESH-INTERVAL:PT1H
SOURCE:https://urnik.fmf.uni-lj.si/teacher/1409?day=2025-06-23&export=1
URL:https://urnik.fmf.uni-lj.si/teacher/1409?day=2025-06-23&export=1
X-PUBLISHED-TTL:PT1H
X-WR-CALNAME:UL FMF urnik
X-WR-TIMEZONE:Europe/Ljubljana
BEGIN:VTIMEZONE
TZID:Europe/Ljubljana
BEGIN:DAYLIGHT
DTSTART:20260329T020000
RDATE:20260329T020000
RDATE:20270328T020000
TZNAME:CEST
TZOFFSETFROM:+0100
TZOFFSETTO:+0200
END:DAYLIGHT
BEGIN:STANDARD
DTSTART:20261025T030000
RDATE:20261025T030000
RDATE:20271031T030000
TZNAME:CET
TZOFFSETFROM:+0200
TZOFFSETTO:+0100
END:STANDARD
END:VTIMEZONE
BEGIN:VEVENT
SUMMARY:Final Exam (2) Riemann Surfaces
DTSTART;TZID=Europe/Ljubljana:20250819T130000
DTEND;TZID=Europe/Ljubljana:20250819T170000
DTSTAMP:20260426T041047Z
UID:fmf-AFLABS-URNIK:rezervacija:23338
ATTENDEE:magistrski študij (FM)
ATTENDEE:magistrski študij (M)
CATEGORIES:Reservation
COLOR:royalblue
DESCRIPTION:Predmeti: Riemannove ploskve (FM-M\, MAT-M)\nLetniki: magistrs
 ki študij (FM)\, magistrski študij (M)\nIzvajalci: Rafael Benedikt Andri
 st\nProstori: 1.01
LOCATION:1.01
ORGANIZER:Rafael Benedikt Andrist
X-WR-TIMEZONE:Europe/Ljubljana
END:VEVENT
BEGIN:VEVENT
SUMMARY:Final Exam Riemann Surfaces
DTSTART;TZID=Europe/Ljubljana:20250626T130000
DTEND;TZID=Europe/Ljubljana:20250626T170000
DTSTAMP:20260426T041047Z
UID:fmf-AFLABS-URNIK:rezervacija:21466
ATTENDEE:magistrski študij (FM)
ATTENDEE:magistrski študij (M)
CATEGORIES:Reservation
COLOR:royalblue
DESCRIPTION:Predmeti: Riemannove ploskve (FM-M\, MAT-M)\nLetniki: magistrs
 ki študij (FM)\, magistrski študij (M)\nIzvajalci: Rafael Benedikt Andri
 st\nProstori: 1.01
LOCATION:1.01
ORGANIZER:Rafael Benedikt Andrist
X-WR-TIMEZONE:Europe/Ljubljana
END:VEVENT
BEGIN:VEVENT
SUMMARY:Final Exam (3) Riemann Surfaces
DTSTART;TZID=Europe/Ljubljana:20250908T130000
DTEND;TZID=Europe/Ljubljana:20250908T170000
DTSTAMP:20260426T041047Z
UID:fmf-AFLABS-URNIK:rezervacija:23339
ATTENDEE:magistrski študij (FM)
ATTENDEE:magistrski študij (M)
CATEGORIES:Reservation
COLOR:royalblue
DESCRIPTION:Predmeti: Riemannove ploskve (FM-M\, MAT-M)\nLetniki: magistrs
 ki študij (FM)\, magistrski študij (M)\nIzvajalci: Rafael Benedikt Andri
 st\nProstori: 1.01
LOCATION:1.01
ORGANIZER:Rafael Benedikt Andrist
X-WR-TIMEZONE:Europe/Ljubljana
END:VEVENT
END:VCALENDAR
