BEGIN:VCALENDAR
VERSION:2.0
PRODID:-//AFLabs urnik izvoz - fmf//aflabs.si//SI
DTSTAMP:20260425T135111Z
NAME:UL FMF urnik
REFRESH-INTERVAL:PT1H
SOURCE:https://urnik.fmf.uni-lj.si/teacher/140?day=2021-03-08&export=1
URL:https://urnik.fmf.uni-lj.si/teacher/140?day=2021-03-08&export=1
X-PUBLISHED-TTL:PT1H
X-WR-CALNAME:UL FMF urnik
X-WR-TIMEZONE:Europe/Ljubljana
BEGIN:VTIMEZONE
TZID:Europe/Ljubljana
BEGIN:DAYLIGHT
DTSTART:20260329T020000
RDATE:20260329T020000
RDATE:20270328T020000
TZNAME:CEST
TZOFFSETFROM:+0100
TZOFFSETTO:+0200
END:DAYLIGHT
BEGIN:STANDARD
DTSTART:20261025T030000
RDATE:20261025T030000
RDATE:20271031T030000
TZNAME:CET
TZOFFSETFROM:+0200
TZOFFSETTO:+0100
END:STANDARD
END:VTIMEZONE
BEGIN:VEVENT
SUMMARY:Klasična fizika (FIZ-1)\, Vaje (V)\, [3]
DTSTART;TZID=Europe/Ljubljana:20210216T080000
DTEND;TZID=Europe/Ljubljana:20210216T100000
DTSTAMP:20260425T135111Z
UID:fmf-AFLABS-URNIK:premaknjeno-srecanje:51221
ATTENDEE:1. letnik (Fizika, 1. stopnja)
CATEGORIES:Entry,Standard
COLOR:darkgreen
DESCRIPTION:Predmet: Klasična fizika (FIZ-1)\, Vaje (V)\, [3]\nLetniki: 1
 . letnik (Fizika\, 1. stopnja)\nIzvajalci: Nejc Košnik\nProstor: F5
LOCATION:F5
ORGANIZER:Nejc Košnik
RELATED-TO:fmf-AFLABS-URNIK:srecanje:5646
X-WR-TIMEZONE:Europe/Ljubljana
END:VEVENT
BEGIN:VEVENT
SUMMARY:Klasična fizika (FIZ-1)\, Vaje (V)\, [3]
DTSTART;TZID=Europe/Ljubljana:20210223T080000
DTEND;TZID=Europe/Ljubljana:20210223T100000
DTSTAMP:20260425T135111Z
UID:fmf-AFLABS-URNIK:premaknjeno-srecanje:51222
ATTENDEE:1. letnik (Fizika, 1. stopnja)
CATEGORIES:Entry,Standard
COLOR:darkgreen
DESCRIPTION:Predmet: Klasična fizika (FIZ-1)\, Vaje (V)\, [3]\nLetniki: 1
 . letnik (Fizika\, 1. stopnja)\nIzvajalci: Nejc Košnik\nProstor: F5
LOCATION:F5
ORGANIZER:Nejc Košnik
RELATED-TO:fmf-AFLABS-URNIK:srecanje:5646
X-WR-TIMEZONE:Europe/Ljubljana
END:VEVENT
BEGIN:VEVENT
SUMMARY:Klasična fizika (FIZ-1)\, Vaje (V)\, [3]
DTSTART;TZID=Europe/Ljubljana:20210302T080000
DTEND;TZID=Europe/Ljubljana:20210302T100000
DTSTAMP:20260425T135111Z
UID:fmf-AFLABS-URNIK:premaknjeno-srecanje:51223
ATTENDEE:1. letnik (Fizika, 1. stopnja)
CATEGORIES:Entry,Standard
COLOR:darkgreen
DESCRIPTION:Predmet: Klasična fizika (FIZ-1)\, Vaje (V)\, [3]\nLetniki: 1
 . letnik (Fizika\, 1. stopnja)\nIzvajalci: Nejc Košnik\nProstor: F5
LOCATION:F5
ORGANIZER:Nejc Košnik
RELATED-TO:fmf-AFLABS-URNIK:srecanje:5646
X-WR-TIMEZONE:Europe/Ljubljana
END:VEVENT
BEGIN:VEVENT
SUMMARY:Klasična fizika (FIZ-1)\, Vaje (V)\, [3]
DTSTART;TZID=Europe/Ljubljana:20210309T080000
DTEND;TZID=Europe/Ljubljana:20210309T100000
DTSTAMP:20260425T135111Z
UID:fmf-AFLABS-URNIK:premaknjeno-srecanje:51224
ATTENDEE:1. letnik (Fizika, 1. stopnja)
CATEGORIES:Entry,Standard
COLOR:darkgreen
DESCRIPTION:Predmet: Klasična fizika (FIZ-1)\, Vaje (V)\, [3]\nLetniki: 1
 . letnik (Fizika\, 1. stopnja)\nIzvajalci: Nejc Košnik\nProstor: F5
LOCATION:F5
ORGANIZER:Nejc Košnik
RELATED-TO:fmf-AFLABS-URNIK:srecanje:5646
X-WR-TIMEZONE:Europe/Ljubljana
END:VEVENT
BEGIN:VEVENT
SUMMARY:Klasična fizika (FIZ-1)\, Vaje (V)\, [3]
DTSTART;TZID=Europe/Ljubljana:20210316T080000
DTEND;TZID=Europe/Ljubljana:20210316T100000
DTSTAMP:20260425T135111Z
UID:fmf-AFLABS-URNIK:premaknjeno-srecanje:51225
ATTENDEE:1. letnik (Fizika, 1. stopnja)
CATEGORIES:Entry,Standard
COLOR:darkgreen
DESCRIPTION:Predmet: Klasična fizika (FIZ-1)\, Vaje (V)\, [3]\nLetniki: 1
 . letnik (Fizika\, 1. stopnja)\nIzvajalci: Nejc Košnik\nProstor: F5
LOCATION:F5
ORGANIZER:Nejc Košnik
RELATED-TO:fmf-AFLABS-URNIK:srecanje:5646
X-WR-TIMEZONE:Europe/Ljubljana
END:VEVENT
BEGIN:VEVENT
SUMMARY:Klasična fizika (FIZ-1)\, Vaje (V)\, [3]
DTSTART;TZID=Europe/Ljubljana:20210323T080000
DTEND;TZID=Europe/Ljubljana:20210323T100000
DTSTAMP:20260425T135111Z
UID:fmf-AFLABS-URNIK:premaknjeno-srecanje:51226
ATTENDEE:1. letnik (Fizika, 1. stopnja)
CATEGORIES:Entry,Standard
COLOR:darkgreen
DESCRIPTION:Predmet: Klasična fizika (FIZ-1)\, Vaje (V)\, [3]\nLetniki: 1
 . letnik (Fizika\, 1. stopnja)\nIzvajalci: Nejc Košnik\nProstor: F5
LOCATION:F5
ORGANIZER:Nejc Košnik
RELATED-TO:fmf-AFLABS-URNIK:srecanje:5646
X-WR-TIMEZONE:Europe/Ljubljana
END:VEVENT
BEGIN:VEVENT
SUMMARY:Klasična fizika (FIZ-1)\, Vaje (V)\, [3]
DTSTART;TZID=Europe/Ljubljana:20210330T080000
DTEND;TZID=Europe/Ljubljana:20210330T100000
DTSTAMP:20260425T135111Z
UID:fmf-AFLABS-URNIK:premaknjeno-srecanje:51227
ATTENDEE:1. letnik (Fizika, 1. stopnja)
CATEGORIES:Entry,Standard
COLOR:darkgreen
DESCRIPTION:Predmet: Klasična fizika (FIZ-1)\, Vaje (V)\, [3]\nLetniki: 1
 . letnik (Fizika\, 1. stopnja)\nIzvajalci: Nejc Košnik\nProstor: F5
LOCATION:F5
ORGANIZER:Nejc Košnik
RELATED-TO:fmf-AFLABS-URNIK:srecanje:5646
X-WR-TIMEZONE:Europe/Ljubljana
END:VEVENT
BEGIN:VEVENT
SUMMARY:Klasična fizika (FIZ-1)\, Vaje (V)\, [3]
DTSTART;TZID=Europe/Ljubljana:20210406T080000
DTEND;TZID=Europe/Ljubljana:20210406T100000
DTSTAMP:20260425T135111Z
UID:fmf-AFLABS-URNIK:premaknjeno-srecanje:51228
ATTENDEE:1. letnik (Fizika, 1. stopnja)
CATEGORIES:Entry,Standard
COLOR:darkgreen
DESCRIPTION:Predmet: Klasična fizika (FIZ-1)\, Vaje (V)\, [3]\nLetniki: 1
 . letnik (Fizika\, 1. stopnja)\nIzvajalci: Nejc Košnik\nProstor: F5
LOCATION:F5
ORGANIZER:Nejc Košnik
RELATED-TO:fmf-AFLABS-URNIK:srecanje:5646
X-WR-TIMEZONE:Europe/Ljubljana
END:VEVENT
BEGIN:VEVENT
SUMMARY:Klasična fizika (FIZ-1)\, Vaje (V)\, [3]
DTSTART;TZID=Europe/Ljubljana:20210413T080000
DTEND;TZID=Europe/Ljubljana:20210413T100000
DTSTAMP:20260425T135111Z
UID:fmf-AFLABS-URNIK:premaknjeno-srecanje:51229
ATTENDEE:1. letnik (Fizika, 1. stopnja)
CATEGORIES:Entry,Standard
COLOR:darkgreen
DESCRIPTION:Predmet: Klasična fizika (FIZ-1)\, Vaje (V)\, [3]\nLetniki: 1
 . letnik (Fizika\, 1. stopnja)\nIzvajalci: Nejc Košnik\nProstor: F5
LOCATION:F5
ORGANIZER:Nejc Košnik
RELATED-TO:fmf-AFLABS-URNIK:srecanje:5646
X-WR-TIMEZONE:Europe/Ljubljana
END:VEVENT
BEGIN:VEVENT
SUMMARY:Klasična fizika (FIZ-1)\, Vaje (V)\, [3]
DTSTART;TZID=Europe/Ljubljana:20210420T080000
DTEND;TZID=Europe/Ljubljana:20210420T100000
DTSTAMP:20260425T135111Z
UID:fmf-AFLABS-URNIK:premaknjeno-srecanje:51230
ATTENDEE:1. letnik (Fizika, 1. stopnja)
CATEGORIES:Entry,Standard
COLOR:darkgreen
DESCRIPTION:Predmet: Klasična fizika (FIZ-1)\, Vaje (V)\, [3]\nLetniki: 1
 . letnik (Fizika\, 1. stopnja)\nIzvajalci: Nejc Košnik\nProstor: F5
LOCATION:F5
ORGANIZER:Nejc Košnik
RELATED-TO:fmf-AFLABS-URNIK:srecanje:5646
X-WR-TIMEZONE:Europe/Ljubljana
END:VEVENT
BEGIN:VEVENT
SUMMARY:Klasična fizika (FIZ-1)\, Vaje (V)\, [3]
DTSTART;TZID=Europe/Ljubljana:20210427T080000
DTEND;TZID=Europe/Ljubljana:20210427T100000
DTSTAMP:20260425T135111Z
UID:fmf-AFLABS-URNIK:premaknjeno-srecanje:51231
ATTENDEE:1. letnik (Fizika, 1. stopnja)
CATEGORIES:Entry,Standard
COLOR:darkgreen
DESCRIPTION:Predmet: Klasična fizika (FIZ-1)\, Vaje (V)\, [3]\nLetniki: 1
 . letnik (Fizika\, 1. stopnja)\nIzvajalci: Nejc Košnik\nProstor: F5
LOCATION:F5
ORGANIZER:Nejc Košnik
RELATED-TO:fmf-AFLABS-URNIK:srecanje:5646
X-WR-TIMEZONE:Europe/Ljubljana
END:VEVENT
BEGIN:VEVENT
SUMMARY:Klasična fizika (FIZ-1)\, Vaje (V)\, [3]
DTSTART;TZID=Europe/Ljubljana:20210504T080000
DTEND;TZID=Europe/Ljubljana:20210504T100000
DTSTAMP:20260425T135111Z
UID:fmf-AFLABS-URNIK:premaknjeno-srecanje:51232
ATTENDEE:1. letnik (Fizika, 1. stopnja)
CATEGORIES:Entry,Standard
COLOR:darkgreen
DESCRIPTION:Predmet: Klasična fizika (FIZ-1)\, Vaje (V)\, [3]\nLetniki: 1
 . letnik (Fizika\, 1. stopnja)\nIzvajalci: Nejc Košnik\nProstor: F5
LOCATION:F5
ORGANIZER:Nejc Košnik
RELATED-TO:fmf-AFLABS-URNIK:srecanje:5646
X-WR-TIMEZONE:Europe/Ljubljana
END:VEVENT
BEGIN:VEVENT
SUMMARY:Klasična fizika (FIZ-1)\, Vaje (V)\, [3]
DTSTART;TZID=Europe/Ljubljana:20210511T080000
DTEND;TZID=Europe/Ljubljana:20210511T100000
DTSTAMP:20260425T135111Z
UID:fmf-AFLABS-URNIK:premaknjeno-srecanje:51233
ATTENDEE:1. letnik (Fizika, 1. stopnja)
CATEGORIES:Entry,Standard
COLOR:darkgreen
DESCRIPTION:Predmet: Klasična fizika (FIZ-1)\, Vaje (V)\, [3]\nLetniki: 1
 . letnik (Fizika\, 1. stopnja)\nIzvajalci: Nejc Košnik\nProstor: F5
LOCATION:F5
ORGANIZER:Nejc Košnik
RELATED-TO:fmf-AFLABS-URNIK:srecanje:5646
X-WR-TIMEZONE:Europe/Ljubljana
END:VEVENT
BEGIN:VEVENT
SUMMARY:Klasična fizika (FIZ-1)\, Vaje (V)\, [3]
DTSTART;TZID=Europe/Ljubljana:20210518T080000
DTEND;TZID=Europe/Ljubljana:20210518T100000
DTSTAMP:20260425T135111Z
UID:fmf-AFLABS-URNIK:premaknjeno-srecanje:51234
ATTENDEE:1. letnik (Fizika, 1. stopnja)
CATEGORIES:Entry,Standard
COLOR:darkgreen
DESCRIPTION:Predmet: Klasična fizika (FIZ-1)\, Vaje (V)\, [3]\nLetniki: 1
 . letnik (Fizika\, 1. stopnja)\nIzvajalci: Nejc Košnik\nProstor: F5
LOCATION:F5
ORGANIZER:Nejc Košnik
RELATED-TO:fmf-AFLABS-URNIK:srecanje:5646
X-WR-TIMEZONE:Europe/Ljubljana
END:VEVENT
BEGIN:VEVENT
SUMMARY:Klasična fizika (FIZ-1)\, Vaje (V)\, [3]
DTSTART;TZID=Europe/Ljubljana:20210525T080000
DTEND;TZID=Europe/Ljubljana:20210525T100000
DTSTAMP:20260425T135111Z
UID:fmf-AFLABS-URNIK:premaknjeno-srecanje:51235
ATTENDEE:1. letnik (Fizika, 1. stopnja)
CATEGORIES:Entry,Standard
COLOR:darkgreen
DESCRIPTION:Predmet: Klasična fizika (FIZ-1)\, Vaje (V)\, [3]\nLetniki: 1
 . letnik (Fizika\, 1. stopnja)\nIzvajalci: Nejc Košnik\nProstor: F5
LOCATION:F5
ORGANIZER:Nejc Košnik
RELATED-TO:fmf-AFLABS-URNIK:srecanje:5646
X-WR-TIMEZONE:Europe/Ljubljana
END:VEVENT
BEGIN:VEVENT
SUMMARY:Fizika jedra in osnovnih delcev (FIZ-3\, MEF-1)\, Vaje (V)
DTSTART;TZID=Europe/Ljubljana:20210218T110000
DTEND;TZID=Europe/Ljubljana:20210218T130000
DTSTAMP:20260425T135111Z
UID:fmf-AFLABS-URNIK:premaknjeno-srecanje:31159
ATTENDEE:1. letnik (Medicinska fizika, 2. stopnja)
ATTENDEE:3. letnik (Fizika, 1. stopnja)
CATEGORIES:Entry,Standard
COLOR:darkgreen
DESCRIPTION:Predmet: Fizika jedra in osnovnih delcev (FIZ-3\, MEF-1)\, Vaj
 e (V)\nLetniki: 3. letnik (Fizika\, 1. stopnja)\, 1. letnik (Medicinska fi
 zika\, 2. stopnja)\nIzvajalci: Nejc Košnik\nProstor: F1
LOCATION:F1
ORGANIZER:Nejc Košnik
RELATED-TO:fmf-AFLABS-URNIK:srecanje:5551
X-WR-TIMEZONE:Europe/Ljubljana
END:VEVENT
BEGIN:VEVENT
SUMMARY:Fizika jedra in osnovnih delcev (FIZ-3\, MEF-1)\, Vaje (V)
DTSTART;TZID=Europe/Ljubljana:20210225T110000
DTEND;TZID=Europe/Ljubljana:20210225T130000
DTSTAMP:20260425T135111Z
UID:fmf-AFLABS-URNIK:premaknjeno-srecanje:31160
ATTENDEE:1. letnik (Medicinska fizika, 2. stopnja)
ATTENDEE:3. letnik (Fizika, 1. stopnja)
CATEGORIES:Entry,Standard
COLOR:darkgreen
DESCRIPTION:Predmet: Fizika jedra in osnovnih delcev (FIZ-3\, MEF-1)\, Vaj
 e (V)\nLetniki: 3. letnik (Fizika\, 1. stopnja)\, 1. letnik (Medicinska fi
 zika\, 2. stopnja)\nIzvajalci: Nejc Košnik\nProstor: F1
LOCATION:F1
ORGANIZER:Nejc Košnik
RELATED-TO:fmf-AFLABS-URNIK:srecanje:5551
X-WR-TIMEZONE:Europe/Ljubljana
END:VEVENT
BEGIN:VEVENT
SUMMARY:Fizika jedra in osnovnih delcev (FIZ-3\, MEF-1)\, Vaje (V)
DTSTART;TZID=Europe/Ljubljana:20210304T110000
DTEND;TZID=Europe/Ljubljana:20210304T130000
DTSTAMP:20260425T135111Z
UID:fmf-AFLABS-URNIK:premaknjeno-srecanje:31161
ATTENDEE:1. letnik (Medicinska fizika, 2. stopnja)
ATTENDEE:3. letnik (Fizika, 1. stopnja)
CATEGORIES:Entry,Standard
COLOR:darkgreen
DESCRIPTION:Predmet: Fizika jedra in osnovnih delcev (FIZ-3\, MEF-1)\, Vaj
 e (V)\nLetniki: 3. letnik (Fizika\, 1. stopnja)\, 1. letnik (Medicinska fi
 zika\, 2. stopnja)\nIzvajalci: Nejc Košnik\nProstor: F1
LOCATION:F1
ORGANIZER:Nejc Košnik
RELATED-TO:fmf-AFLABS-URNIK:srecanje:5551
X-WR-TIMEZONE:Europe/Ljubljana
END:VEVENT
BEGIN:VEVENT
SUMMARY:Fizika jedra in osnovnih delcev (FIZ-3\, MEF-1)\, Vaje (V)
DTSTART;TZID=Europe/Ljubljana:20210311T110000
DTEND;TZID=Europe/Ljubljana:20210311T130000
DTSTAMP:20260425T135111Z
UID:fmf-AFLABS-URNIK:premaknjeno-srecanje:31162
ATTENDEE:1. letnik (Medicinska fizika, 2. stopnja)
ATTENDEE:3. letnik (Fizika, 1. stopnja)
CATEGORIES:Entry,Standard
COLOR:darkgreen
DESCRIPTION:Predmet: Fizika jedra in osnovnih delcev (FIZ-3\, MEF-1)\, Vaj
 e (V)\nLetniki: 3. letnik (Fizika\, 1. stopnja)\, 1. letnik (Medicinska fi
 zika\, 2. stopnja)\nIzvajalci: Nejc Košnik\nProstor: F1
LOCATION:F1
ORGANIZER:Nejc Košnik
RELATED-TO:fmf-AFLABS-URNIK:srecanje:5551
X-WR-TIMEZONE:Europe/Ljubljana
END:VEVENT
BEGIN:VEVENT
SUMMARY:Fizika jedra in osnovnih delcev (FIZ-3\, MEF-1)\, Vaje (V)
DTSTART;TZID=Europe/Ljubljana:20210318T110000
DTEND;TZID=Europe/Ljubljana:20210318T130000
DTSTAMP:20260425T135111Z
UID:fmf-AFLABS-URNIK:premaknjeno-srecanje:31163
ATTENDEE:1. letnik (Medicinska fizika, 2. stopnja)
ATTENDEE:3. letnik (Fizika, 1. stopnja)
CATEGORIES:Entry,Standard
COLOR:darkgreen
DESCRIPTION:Predmet: Fizika jedra in osnovnih delcev (FIZ-3\, MEF-1)\, Vaj
 e (V)\nLetniki: 3. letnik (Fizika\, 1. stopnja)\, 1. letnik (Medicinska fi
 zika\, 2. stopnja)\nIzvajalci: Nejc Košnik\nProstor: F1
LOCATION:F1
ORGANIZER:Nejc Košnik
RELATED-TO:fmf-AFLABS-URNIK:srecanje:5551
X-WR-TIMEZONE:Europe/Ljubljana
END:VEVENT
BEGIN:VEVENT
SUMMARY:Fizika jedra in osnovnih delcev (FIZ-3\, MEF-1)\, Vaje (V)
DTSTART;TZID=Europe/Ljubljana:20210325T110000
DTEND;TZID=Europe/Ljubljana:20210325T130000
DTSTAMP:20260425T135111Z
UID:fmf-AFLABS-URNIK:premaknjeno-srecanje:31164
ATTENDEE:1. letnik (Medicinska fizika, 2. stopnja)
ATTENDEE:3. letnik (Fizika, 1. stopnja)
CATEGORIES:Entry,Standard
COLOR:darkgreen
DESCRIPTION:Predmet: Fizika jedra in osnovnih delcev (FIZ-3\, MEF-1)\, Vaj
 e (V)\nLetniki: 3. letnik (Fizika\, 1. stopnja)\, 1. letnik (Medicinska fi
 zika\, 2. stopnja)\nIzvajalci: Nejc Košnik\nProstor: F1
LOCATION:F1
ORGANIZER:Nejc Košnik
RELATED-TO:fmf-AFLABS-URNIK:srecanje:5551
X-WR-TIMEZONE:Europe/Ljubljana
END:VEVENT
BEGIN:VEVENT
SUMMARY:Fizika jedra in osnovnih delcev (FIZ-3\, MEF-1)\, Vaje (V)
DTSTART;TZID=Europe/Ljubljana:20210401T110000
DTEND;TZID=Europe/Ljubljana:20210401T130000
DTSTAMP:20260425T135111Z
UID:fmf-AFLABS-URNIK:premaknjeno-srecanje:31165
ATTENDEE:1. letnik (Medicinska fizika, 2. stopnja)
ATTENDEE:3. letnik (Fizika, 1. stopnja)
CATEGORIES:Entry,Standard
COLOR:darkgreen
DESCRIPTION:Predmet: Fizika jedra in osnovnih delcev (FIZ-3\, MEF-1)\, Vaj
 e (V)\nLetniki: 3. letnik (Fizika\, 1. stopnja)\, 1. letnik (Medicinska fi
 zika\, 2. stopnja)\nIzvajalci: Nejc Košnik\nProstor: F1
LOCATION:F1
ORGANIZER:Nejc Košnik
RELATED-TO:fmf-AFLABS-URNIK:srecanje:5551
X-WR-TIMEZONE:Europe/Ljubljana
END:VEVENT
BEGIN:VEVENT
SUMMARY:Fizika jedra in osnovnih delcev (FIZ-3\, MEF-1)\, Vaje (V)
DTSTART;TZID=Europe/Ljubljana:20210408T110000
DTEND;TZID=Europe/Ljubljana:20210408T130000
DTSTAMP:20260425T135111Z
UID:fmf-AFLABS-URNIK:premaknjeno-srecanje:31166
ATTENDEE:1. letnik (Medicinska fizika, 2. stopnja)
ATTENDEE:3. letnik (Fizika, 1. stopnja)
CATEGORIES:Entry,Standard
COLOR:darkgreen
DESCRIPTION:Predmet: Fizika jedra in osnovnih delcev (FIZ-3\, MEF-1)\, Vaj
 e (V)\nLetniki: 3. letnik (Fizika\, 1. stopnja)\, 1. letnik (Medicinska fi
 zika\, 2. stopnja)\nIzvajalci: Nejc Košnik\nProstor: F1
LOCATION:F1
ORGANIZER:Nejc Košnik
RELATED-TO:fmf-AFLABS-URNIK:srecanje:5551
X-WR-TIMEZONE:Europe/Ljubljana
END:VEVENT
BEGIN:VEVENT
SUMMARY:Fizika jedra in osnovnih delcev (FIZ-3\, MEF-1)\, Vaje (V)
DTSTART;TZID=Europe/Ljubljana:20210415T110000
DTEND;TZID=Europe/Ljubljana:20210415T130000
DTSTAMP:20260425T135111Z
UID:fmf-AFLABS-URNIK:premaknjeno-srecanje:31167
ATTENDEE:1. letnik (Medicinska fizika, 2. stopnja)
ATTENDEE:3. letnik (Fizika, 1. stopnja)
CATEGORIES:Entry,Standard
COLOR:darkgreen
DESCRIPTION:Predmet: Fizika jedra in osnovnih delcev (FIZ-3\, MEF-1)\, Vaj
 e (V)\nLetniki: 3. letnik (Fizika\, 1. stopnja)\, 1. letnik (Medicinska fi
 zika\, 2. stopnja)\nIzvajalci: Nejc Košnik\nProstor: F1
LOCATION:F1
ORGANIZER:Nejc Košnik
RELATED-TO:fmf-AFLABS-URNIK:srecanje:5551
X-WR-TIMEZONE:Europe/Ljubljana
END:VEVENT
BEGIN:VEVENT
SUMMARY:Fizika jedra in osnovnih delcev (FIZ-3\, MEF-1)\, Vaje (V)
DTSTART;TZID=Europe/Ljubljana:20210422T110000
DTEND;TZID=Europe/Ljubljana:20210422T130000
DTSTAMP:20260425T135111Z
UID:fmf-AFLABS-URNIK:premaknjeno-srecanje:31168
ATTENDEE:1. letnik (Medicinska fizika, 2. stopnja)
ATTENDEE:3. letnik (Fizika, 1. stopnja)
CATEGORIES:Entry,Standard
COLOR:darkgreen
DESCRIPTION:Predmet: Fizika jedra in osnovnih delcev (FIZ-3\, MEF-1)\, Vaj
 e (V)\nLetniki: 3. letnik (Fizika\, 1. stopnja)\, 1. letnik (Medicinska fi
 zika\, 2. stopnja)\nIzvajalci: Nejc Košnik\nProstor: F1
LOCATION:F1
ORGANIZER:Nejc Košnik
RELATED-TO:fmf-AFLABS-URNIK:srecanje:5551
X-WR-TIMEZONE:Europe/Ljubljana
END:VEVENT
BEGIN:VEVENT
SUMMARY:Fizika jedra in osnovnih delcev (FIZ-3\, MEF-1)\, Vaje (V)
DTSTART;TZID=Europe/Ljubljana:20210429T110000
DTEND;TZID=Europe/Ljubljana:20210429T130000
DTSTAMP:20260425T135111Z
UID:fmf-AFLABS-URNIK:premaknjeno-srecanje:31169
ATTENDEE:1. letnik (Medicinska fizika, 2. stopnja)
ATTENDEE:3. letnik (Fizika, 1. stopnja)
CATEGORIES:Entry,Standard
COLOR:darkgreen
DESCRIPTION:Predmet: Fizika jedra in osnovnih delcev (FIZ-3\, MEF-1)\, Vaj
 e (V)\nLetniki: 3. letnik (Fizika\, 1. stopnja)\, 1. letnik (Medicinska fi
 zika\, 2. stopnja)\nIzvajalci: Nejc Košnik\nProstor: F1
LOCATION:F1
ORGANIZER:Nejc Košnik
RELATED-TO:fmf-AFLABS-URNIK:srecanje:5551
X-WR-TIMEZONE:Europe/Ljubljana
END:VEVENT
BEGIN:VEVENT
SUMMARY:Fizika jedra in osnovnih delcev (FIZ-3\, MEF-1)\, Vaje (V)
DTSTART;TZID=Europe/Ljubljana:20210506T110000
DTEND;TZID=Europe/Ljubljana:20210506T130000
DTSTAMP:20260425T135111Z
UID:fmf-AFLABS-URNIK:premaknjeno-srecanje:31170
ATTENDEE:1. letnik (Medicinska fizika, 2. stopnja)
ATTENDEE:3. letnik (Fizika, 1. stopnja)
CATEGORIES:Entry,Standard
COLOR:darkgreen
DESCRIPTION:Predmet: Fizika jedra in osnovnih delcev (FIZ-3\, MEF-1)\, Vaj
 e (V)\nLetniki: 3. letnik (Fizika\, 1. stopnja)\, 1. letnik (Medicinska fi
 zika\, 2. stopnja)\nIzvajalci: Nejc Košnik\nProstor: F1
LOCATION:F1
ORGANIZER:Nejc Košnik
RELATED-TO:fmf-AFLABS-URNIK:srecanje:5551
X-WR-TIMEZONE:Europe/Ljubljana
END:VEVENT
BEGIN:VEVENT
SUMMARY:Fizika jedra in osnovnih delcev (FIZ-3\, MEF-1)\, Vaje (V)
DTSTART;TZID=Europe/Ljubljana:20210513T110000
DTEND;TZID=Europe/Ljubljana:20210513T130000
DTSTAMP:20260425T135111Z
UID:fmf-AFLABS-URNIK:premaknjeno-srecanje:31171
ATTENDEE:1. letnik (Medicinska fizika, 2. stopnja)
ATTENDEE:3. letnik (Fizika, 1. stopnja)
CATEGORIES:Entry,Standard
COLOR:darkgreen
DESCRIPTION:Predmet: Fizika jedra in osnovnih delcev (FIZ-3\, MEF-1)\, Vaj
 e (V)\nLetniki: 3. letnik (Fizika\, 1. stopnja)\, 1. letnik (Medicinska fi
 zika\, 2. stopnja)\nIzvajalci: Nejc Košnik\nProstor: F1
LOCATION:F1
ORGANIZER:Nejc Košnik
RELATED-TO:fmf-AFLABS-URNIK:srecanje:5551
X-WR-TIMEZONE:Europe/Ljubljana
END:VEVENT
BEGIN:VEVENT
SUMMARY:Fizika jedra in osnovnih delcev (FIZ-3\, MEF-1)\, Vaje (V)
DTSTART;TZID=Europe/Ljubljana:20210520T110000
DTEND;TZID=Europe/Ljubljana:20210520T130000
DTSTAMP:20260425T135111Z
UID:fmf-AFLABS-URNIK:premaknjeno-srecanje:31172
ATTENDEE:1. letnik (Medicinska fizika, 2. stopnja)
ATTENDEE:3. letnik (Fizika, 1. stopnja)
CATEGORIES:Entry,Standard
COLOR:darkgreen
DESCRIPTION:Predmet: Fizika jedra in osnovnih delcev (FIZ-3\, MEF-1)\, Vaj
 e (V)\nLetniki: 3. letnik (Fizika\, 1. stopnja)\, 1. letnik (Medicinska fi
 zika\, 2. stopnja)\nIzvajalci: Nejc Košnik\nProstor: F1
LOCATION:F1
ORGANIZER:Nejc Košnik
RELATED-TO:fmf-AFLABS-URNIK:srecanje:5551
X-WR-TIMEZONE:Europe/Ljubljana
END:VEVENT
BEGIN:VEVENT
SUMMARY:Fizika jedra in osnovnih delcev (FIZ-3\, MEF-1)\, Vaje (V)
DTSTART;TZID=Europe/Ljubljana:20210527T110000
DTEND;TZID=Europe/Ljubljana:20210527T130000
DTSTAMP:20260425T135111Z
UID:fmf-AFLABS-URNIK:premaknjeno-srecanje:31173
ATTENDEE:1. letnik (Medicinska fizika, 2. stopnja)
ATTENDEE:3. letnik (Fizika, 1. stopnja)
CATEGORIES:Entry,Standard
COLOR:darkgreen
DESCRIPTION:Predmet: Fizika jedra in osnovnih delcev (FIZ-3\, MEF-1)\, Vaj
 e (V)\nLetniki: 3. letnik (Fizika\, 1. stopnja)\, 1. letnik (Medicinska fi
 zika\, 2. stopnja)\nIzvajalci: Nejc Košnik\nProstor: F1
LOCATION:F1
ORGANIZER:Nejc Košnik
RELATED-TO:fmf-AFLABS-URNIK:srecanje:5551
X-WR-TIMEZONE:Europe/Ljubljana
END:VEVENT
BEGIN:VEVENT
SUMMARY:Klasična fizika (FIZ-1)\, Vaje (V)\, [3]
DTSTART;TZID=Europe/Ljubljana:20210219T080000
DTEND;TZID=Europe/Ljubljana:20210219T110000
DTSTAMP:20260425T135111Z
UID:fmf-AFLABS-URNIK:premaknjeno-srecanje:51518
ATTENDEE:1. letnik (Fizika, 1. stopnja)
CATEGORIES:Entry,Standard
COLOR:darkgreen
DESCRIPTION:Predmet: Klasična fizika (FIZ-1)\, Vaje (V)\, [3]\nLetniki: 1
 . letnik (Fizika\, 1. stopnja)\nIzvajalci: Nejc Košnik\nProstor: F4
LOCATION:F4
ORGANIZER:Nejc Košnik
RELATED-TO:fmf-AFLABS-URNIK:srecanje:5647
X-WR-TIMEZONE:Europe/Ljubljana
END:VEVENT
BEGIN:VEVENT
SUMMARY:Klasična fizika (FIZ-1)\, Vaje (V)\, [3]
DTSTART;TZID=Europe/Ljubljana:20210226T080000
DTEND;TZID=Europe/Ljubljana:20210226T110000
DTSTAMP:20260425T135111Z
UID:fmf-AFLABS-URNIK:premaknjeno-srecanje:51519
ATTENDEE:1. letnik (Fizika, 1. stopnja)
CATEGORIES:Entry,Standard
COLOR:darkgreen
DESCRIPTION:Predmet: Klasična fizika (FIZ-1)\, Vaje (V)\, [3]\nLetniki: 1
 . letnik (Fizika\, 1. stopnja)\nIzvajalci: Nejc Košnik\nProstor: F4
LOCATION:F4
ORGANIZER:Nejc Košnik
RELATED-TO:fmf-AFLABS-URNIK:srecanje:5647
X-WR-TIMEZONE:Europe/Ljubljana
END:VEVENT
BEGIN:VEVENT
SUMMARY:Klasična fizika (FIZ-1)\, Vaje (V)\, [3]
DTSTART;TZID=Europe/Ljubljana:20210305T080000
DTEND;TZID=Europe/Ljubljana:20210305T110000
DTSTAMP:20260425T135111Z
UID:fmf-AFLABS-URNIK:premaknjeno-srecanje:51520
ATTENDEE:1. letnik (Fizika, 1. stopnja)
CATEGORIES:Entry,Standard
COLOR:darkgreen
DESCRIPTION:Predmet: Klasična fizika (FIZ-1)\, Vaje (V)\, [3]\nLetniki: 1
 . letnik (Fizika\, 1. stopnja)\nIzvajalci: Nejc Košnik\nProstor: F4
LOCATION:F4
ORGANIZER:Nejc Košnik
RELATED-TO:fmf-AFLABS-URNIK:srecanje:5647
X-WR-TIMEZONE:Europe/Ljubljana
END:VEVENT
BEGIN:VEVENT
SUMMARY:Klasična fizika (FIZ-1)\, Vaje (V)\, [3]
DTSTART;TZID=Europe/Ljubljana:20210312T080000
DTEND;TZID=Europe/Ljubljana:20210312T110000
DTSTAMP:20260425T135111Z
UID:fmf-AFLABS-URNIK:premaknjeno-srecanje:51521
ATTENDEE:1. letnik (Fizika, 1. stopnja)
CATEGORIES:Entry,Standard
COLOR:darkgreen
DESCRIPTION:Predmet: Klasična fizika (FIZ-1)\, Vaje (V)\, [3]\nLetniki: 1
 . letnik (Fizika\, 1. stopnja)\nIzvajalci: Nejc Košnik\nProstor: F4
LOCATION:F4
ORGANIZER:Nejc Košnik
RELATED-TO:fmf-AFLABS-URNIK:srecanje:5647
X-WR-TIMEZONE:Europe/Ljubljana
END:VEVENT
BEGIN:VEVENT
SUMMARY:Klasična fizika (FIZ-1)\, Vaje (V)\, [3]
DTSTART;TZID=Europe/Ljubljana:20210319T080000
DTEND;TZID=Europe/Ljubljana:20210319T110000
DTSTAMP:20260425T135111Z
UID:fmf-AFLABS-URNIK:premaknjeno-srecanje:51522
ATTENDEE:1. letnik (Fizika, 1. stopnja)
CATEGORIES:Entry,Standard
COLOR:darkgreen
DESCRIPTION:Predmet: Klasična fizika (FIZ-1)\, Vaje (V)\, [3]\nLetniki: 1
 . letnik (Fizika\, 1. stopnja)\nIzvajalci: Nejc Košnik\nProstor: F4
LOCATION:F4
ORGANIZER:Nejc Košnik
RELATED-TO:fmf-AFLABS-URNIK:srecanje:5647
X-WR-TIMEZONE:Europe/Ljubljana
END:VEVENT
BEGIN:VEVENT
SUMMARY:Klasična fizika (FIZ-1)\, Vaje (V)\, [3]
DTSTART;TZID=Europe/Ljubljana:20210326T080000
DTEND;TZID=Europe/Ljubljana:20210326T110000
DTSTAMP:20260425T135111Z
UID:fmf-AFLABS-URNIK:premaknjeno-srecanje:51523
ATTENDEE:1. letnik (Fizika, 1. stopnja)
CATEGORIES:Entry,Standard
COLOR:darkgreen
DESCRIPTION:Predmet: Klasična fizika (FIZ-1)\, Vaje (V)\, [3]\nLetniki: 1
 . letnik (Fizika\, 1. stopnja)\nIzvajalci: Nejc Košnik\nProstor: F4
LOCATION:F4
ORGANIZER:Nejc Košnik
RELATED-TO:fmf-AFLABS-URNIK:srecanje:5647
X-WR-TIMEZONE:Europe/Ljubljana
END:VEVENT
BEGIN:VEVENT
SUMMARY:Klasična fizika (FIZ-1)\, Vaje (V)\, [3]
DTSTART;TZID=Europe/Ljubljana:20210402T080000
DTEND;TZID=Europe/Ljubljana:20210402T110000
DTSTAMP:20260425T135111Z
UID:fmf-AFLABS-URNIK:premaknjeno-srecanje:51524
ATTENDEE:1. letnik (Fizika, 1. stopnja)
CATEGORIES:Entry,Standard
COLOR:darkgreen
DESCRIPTION:Predmet: Klasična fizika (FIZ-1)\, Vaje (V)\, [3]\nLetniki: 1
 . letnik (Fizika\, 1. stopnja)\nIzvajalci: Nejc Košnik\nProstor: F4
LOCATION:F4
ORGANIZER:Nejc Košnik
RELATED-TO:fmf-AFLABS-URNIK:srecanje:5647
X-WR-TIMEZONE:Europe/Ljubljana
END:VEVENT
BEGIN:VEVENT
SUMMARY:Klasična fizika (FIZ-1)\, Vaje (V)\, [3]
DTSTART;TZID=Europe/Ljubljana:20210409T080000
DTEND;TZID=Europe/Ljubljana:20210409T110000
DTSTAMP:20260425T135111Z
UID:fmf-AFLABS-URNIK:premaknjeno-srecanje:51525
ATTENDEE:1. letnik (Fizika, 1. stopnja)
CATEGORIES:Entry,Standard
COLOR:darkgreen
DESCRIPTION:Predmet: Klasična fizika (FIZ-1)\, Vaje (V)\, [3]\nLetniki: 1
 . letnik (Fizika\, 1. stopnja)\nIzvajalci: Nejc Košnik\nProstor: F4
LOCATION:F4
ORGANIZER:Nejc Košnik
RELATED-TO:fmf-AFLABS-URNIK:srecanje:5647
X-WR-TIMEZONE:Europe/Ljubljana
END:VEVENT
BEGIN:VEVENT
SUMMARY:Klasična fizika (FIZ-1)\, Vaje (V)\, [3]
DTSTART;TZID=Europe/Ljubljana:20210416T080000
DTEND;TZID=Europe/Ljubljana:20210416T110000
DTSTAMP:20260425T135111Z
UID:fmf-AFLABS-URNIK:premaknjeno-srecanje:51526
ATTENDEE:1. letnik (Fizika, 1. stopnja)
CATEGORIES:Entry,Standard
COLOR:darkgreen
DESCRIPTION:Predmet: Klasična fizika (FIZ-1)\, Vaje (V)\, [3]\nLetniki: 1
 . letnik (Fizika\, 1. stopnja)\nIzvajalci: Nejc Košnik\nProstor: F4
LOCATION:F4
ORGANIZER:Nejc Košnik
RELATED-TO:fmf-AFLABS-URNIK:srecanje:5647
X-WR-TIMEZONE:Europe/Ljubljana
END:VEVENT
BEGIN:VEVENT
SUMMARY:Klasična fizika (FIZ-1)\, Vaje (V)\, [3]
DTSTART;TZID=Europe/Ljubljana:20210423T080000
DTEND;TZID=Europe/Ljubljana:20210423T110000
DTSTAMP:20260425T135111Z
UID:fmf-AFLABS-URNIK:premaknjeno-srecanje:51527
ATTENDEE:1. letnik (Fizika, 1. stopnja)
CATEGORIES:Entry,Standard
COLOR:darkgreen
DESCRIPTION:Predmet: Klasična fizika (FIZ-1)\, Vaje (V)\, [3]\nLetniki: 1
 . letnik (Fizika\, 1. stopnja)\nIzvajalci: Nejc Košnik\nProstor: F4
LOCATION:F4
ORGANIZER:Nejc Košnik
RELATED-TO:fmf-AFLABS-URNIK:srecanje:5647
X-WR-TIMEZONE:Europe/Ljubljana
END:VEVENT
BEGIN:VEVENT
SUMMARY:Klasična fizika (FIZ-1)\, Vaje (V)\, [3]
DTSTART;TZID=Europe/Ljubljana:20210430T080000
DTEND;TZID=Europe/Ljubljana:20210430T110000
DTSTAMP:20260425T135111Z
UID:fmf-AFLABS-URNIK:premaknjeno-srecanje:51528
ATTENDEE:1. letnik (Fizika, 1. stopnja)
CATEGORIES:Entry,Standard
COLOR:darkgreen
DESCRIPTION:Predmet: Klasična fizika (FIZ-1)\, Vaje (V)\, [3]\nLetniki: 1
 . letnik (Fizika\, 1. stopnja)\nIzvajalci: Nejc Košnik\nProstor: F4
LOCATION:F4
ORGANIZER:Nejc Košnik
RELATED-TO:fmf-AFLABS-URNIK:srecanje:5647
X-WR-TIMEZONE:Europe/Ljubljana
END:VEVENT
BEGIN:VEVENT
SUMMARY:Klasična fizika (FIZ-1)\, Vaje (V)\, [3]
DTSTART;TZID=Europe/Ljubljana:20210507T080000
DTEND;TZID=Europe/Ljubljana:20210507T110000
DTSTAMP:20260425T135111Z
UID:fmf-AFLABS-URNIK:premaknjeno-srecanje:51529
ATTENDEE:1. letnik (Fizika, 1. stopnja)
CATEGORIES:Entry,Standard
COLOR:darkgreen
DESCRIPTION:Predmet: Klasična fizika (FIZ-1)\, Vaje (V)\, [3]\nLetniki: 1
 . letnik (Fizika\, 1. stopnja)\nIzvajalci: Nejc Košnik\nProstor: F4
LOCATION:F4
ORGANIZER:Nejc Košnik
RELATED-TO:fmf-AFLABS-URNIK:srecanje:5647
X-WR-TIMEZONE:Europe/Ljubljana
END:VEVENT
BEGIN:VEVENT
SUMMARY:Klasična fizika (FIZ-1)\, Vaje (V)\, [3]
DTSTART;TZID=Europe/Ljubljana:20210514T080000
DTEND;TZID=Europe/Ljubljana:20210514T110000
DTSTAMP:20260425T135111Z
UID:fmf-AFLABS-URNIK:premaknjeno-srecanje:51530
ATTENDEE:1. letnik (Fizika, 1. stopnja)
CATEGORIES:Entry,Standard
COLOR:darkgreen
DESCRIPTION:Predmet: Klasična fizika (FIZ-1)\, Vaje (V)\, [3]\nLetniki: 1
 . letnik (Fizika\, 1. stopnja)\nIzvajalci: Nejc Košnik\nProstor: F4
LOCATION:F4
ORGANIZER:Nejc Košnik
RELATED-TO:fmf-AFLABS-URNIK:srecanje:5647
X-WR-TIMEZONE:Europe/Ljubljana
END:VEVENT
BEGIN:VEVENT
SUMMARY:Klasična fizika (FIZ-1)\, Vaje (V)\, [3]
DTSTART;TZID=Europe/Ljubljana:20210521T080000
DTEND;TZID=Europe/Ljubljana:20210521T110000
DTSTAMP:20260425T135111Z
UID:fmf-AFLABS-URNIK:premaknjeno-srecanje:51531
ATTENDEE:1. letnik (Fizika, 1. stopnja)
CATEGORIES:Entry,Standard
COLOR:darkgreen
DESCRIPTION:Predmet: Klasična fizika (FIZ-1)\, Vaje (V)\, [3]\nLetniki: 1
 . letnik (Fizika\, 1. stopnja)\nIzvajalci: Nejc Košnik\nProstor: F4
LOCATION:F4
ORGANIZER:Nejc Košnik
RELATED-TO:fmf-AFLABS-URNIK:srecanje:5647
X-WR-TIMEZONE:Europe/Ljubljana
END:VEVENT
BEGIN:VEVENT
SUMMARY:Klasična fizika (FIZ-1)\, Vaje (V)\, [3]
DTSTART;TZID=Europe/Ljubljana:20210528T080000
DTEND;TZID=Europe/Ljubljana:20210528T110000
DTSTAMP:20260425T135111Z
UID:fmf-AFLABS-URNIK:premaknjeno-srecanje:51532
ATTENDEE:1. letnik (Fizika, 1. stopnja)
CATEGORIES:Entry,Standard
COLOR:darkgreen
DESCRIPTION:Predmet: Klasična fizika (FIZ-1)\, Vaje (V)\, [3]\nLetniki: 1
 . letnik (Fizika\, 1. stopnja)\nIzvajalci: Nejc Košnik\nProstor: F4
LOCATION:F4
ORGANIZER:Nejc Košnik
RELATED-TO:fmf-AFLABS-URNIK:srecanje:5647
X-WR-TIMEZONE:Europe/Ljubljana
END:VEVENT
END:VCALENDAR
