BEGIN:VCALENDAR
VERSION:2.0
PRODID:-//AFLabs urnik izvoz - fmf//aflabs.si//SI
DTSTAMP:20260425T113107Z
NAME:UL FMF urnik
REFRESH-INTERVAL:PT1H
SOURCE:https://urnik.fmf.uni-lj.si/teacher/140?day=2021-09-27&export=1
URL:https://urnik.fmf.uni-lj.si/teacher/140?day=2021-09-27&export=1
X-PUBLISHED-TTL:PT1H
X-WR-CALNAME:UL FMF urnik
X-WR-TIMEZONE:Europe/Ljubljana
BEGIN:VTIMEZONE
TZID:Europe/Ljubljana
BEGIN:DAYLIGHT
DTSTART:20260329T020000
RDATE:20260329T020000
RDATE:20270328T020000
TZNAME:CEST
TZOFFSETFROM:+0100
TZOFFSETTO:+0200
END:DAYLIGHT
BEGIN:STANDARD
DTSTART:20261025T030000
RDATE:20261025T030000
RDATE:20271031T030000
TZNAME:CET
TZOFFSETFROM:+0200
TZOFFSETTO:+0100
END:STANDARD
END:VTIMEZONE
BEGIN:VEVENT
SUMMARY:Klasična fizika (FIZ-1)\, Vaje (V)\, [2]
DTSTART;TZID=Europe/Ljubljana:20211005T120000
DTEND;TZID=Europe/Ljubljana:20211005T140000
DTSTAMP:20260425T113107Z
UID:fmf-AFLABS-URNIK:premaknjeno-srecanje:50894
ATTENDEE:1. letnik (Fizika, 1. stopnja)
CATEGORIES:Entry,Standard
COLOR:darkgreen
DESCRIPTION:Predmet: Klasična fizika (FIZ-1)\, Vaje (V)\, [2]\nLetniki: 1
 . letnik (Fizika\, 1. stopnja)\nIzvajalci: Nejc Košnik\nProstor: P.01
LOCATION:P.01
ORGANIZER:Nejc Košnik
RELATED-TO:fmf-AFLABS-URNIK:srecanje:6345
X-WR-TIMEZONE:Europe/Ljubljana
END:VEVENT
BEGIN:VEVENT
SUMMARY:Klasična fizika (FIZ-1)\, Vaje (V)\, [2]
DTSTART;TZID=Europe/Ljubljana:20211012T120000
DTEND;TZID=Europe/Ljubljana:20211012T140000
DTSTAMP:20260425T113107Z
UID:fmf-AFLABS-URNIK:premaknjeno-srecanje:50895
ATTENDEE:1. letnik (Fizika, 1. stopnja)
CATEGORIES:Entry,Standard
COLOR:darkgreen
DESCRIPTION:Predmet: Klasična fizika (FIZ-1)\, Vaje (V)\, [2]\nLetniki: 1
 . letnik (Fizika\, 1. stopnja)\nIzvajalci: Nejc Košnik\nProstor: P.01
LOCATION:P.01
ORGANIZER:Nejc Košnik
RELATED-TO:fmf-AFLABS-URNIK:srecanje:6345
X-WR-TIMEZONE:Europe/Ljubljana
END:VEVENT
BEGIN:VEVENT
SUMMARY:Klasična fizika (FIZ-1)\, Vaje (V)\, [2]
DTSTART;TZID=Europe/Ljubljana:20211019T120000
DTEND;TZID=Europe/Ljubljana:20211019T140000
DTSTAMP:20260425T113107Z
UID:fmf-AFLABS-URNIK:premaknjeno-srecanje:50896
ATTENDEE:1. letnik (Fizika, 1. stopnja)
CATEGORIES:Entry,Standard
COLOR:darkgreen
DESCRIPTION:Predmet: Klasična fizika (FIZ-1)\, Vaje (V)\, [2]\nLetniki: 1
 . letnik (Fizika\, 1. stopnja)\nIzvajalci: Nejc Košnik\nProstor: P.01
LOCATION:P.01
ORGANIZER:Nejc Košnik
RELATED-TO:fmf-AFLABS-URNIK:srecanje:6345
X-WR-TIMEZONE:Europe/Ljubljana
END:VEVENT
BEGIN:VEVENT
SUMMARY:Klasična fizika (FIZ-1)\, Vaje (V)\, [2]
DTSTART;TZID=Europe/Ljubljana:20211026T120000
DTEND;TZID=Europe/Ljubljana:20211026T140000
DTSTAMP:20260425T113107Z
UID:fmf-AFLABS-URNIK:premaknjeno-srecanje:50897
ATTENDEE:1. letnik (Fizika, 1. stopnja)
CATEGORIES:Entry,Standard
COLOR:darkgreen
DESCRIPTION:Predmet: Klasična fizika (FIZ-1)\, Vaje (V)\, [2]\nLetniki: 1
 . letnik (Fizika\, 1. stopnja)\nIzvajalci: Nejc Košnik\nProstor: P.01
LOCATION:P.01
ORGANIZER:Nejc Košnik
RELATED-TO:fmf-AFLABS-URNIK:srecanje:6345
X-WR-TIMEZONE:Europe/Ljubljana
END:VEVENT
BEGIN:VEVENT
SUMMARY:Jedra\, kvarki in leptoni (FIZ-M1)\, Vaje (V)
DTSTART;TZID=Europe/Ljubljana:20211006T140000
DTEND;TZID=Europe/Ljubljana:20211006T160000
DTSTAMP:20260425T113107Z
UID:fmf-AFLABS-URNIK:premaknjeno-srecanje:45136
ATTENDEE:1. letnik (Fizika, 2. stopnja)
CATEGORIES:Entry,Standard
COLOR:darkgreen
DESCRIPTION:Predmet: Jedra\, kvarki in leptoni (FIZ-M1)\, Vaje (V)\nLetnik
 i: 1. letnik (Fizika\, 2. stopnja)\nIzvajalci: Nejc Košnik\nProstor: F2
LOCATION:F2
ORGANIZER:Nejc Košnik
RELATED-TO:fmf-AFLABS-URNIK:srecanje:6315
X-WR-TIMEZONE:Europe/Ljubljana
END:VEVENT
BEGIN:VEVENT
SUMMARY:Jedra\, kvarki in leptoni (FIZ-M1)\, Vaje (V)
DTSTART;TZID=Europe/Ljubljana:20211013T140000
DTEND;TZID=Europe/Ljubljana:20211013T160000
DTSTAMP:20260425T113107Z
UID:fmf-AFLABS-URNIK:premaknjeno-srecanje:45137
ATTENDEE:1. letnik (Fizika, 2. stopnja)
CATEGORIES:Entry,Standard
COLOR:darkgreen
DESCRIPTION:Predmet: Jedra\, kvarki in leptoni (FIZ-M1)\, Vaje (V)\nLetnik
 i: 1. letnik (Fizika\, 2. stopnja)\nIzvajalci: Nejc Košnik\nProstor: F2
LOCATION:F2
ORGANIZER:Nejc Košnik
RELATED-TO:fmf-AFLABS-URNIK:srecanje:6315
X-WR-TIMEZONE:Europe/Ljubljana
END:VEVENT
BEGIN:VEVENT
SUMMARY:Jedra\, kvarki in leptoni (FIZ-M1)\, Vaje (V)
DTSTART;TZID=Europe/Ljubljana:20211020T140000
DTEND;TZID=Europe/Ljubljana:20211020T160000
DTSTAMP:20260425T113107Z
UID:fmf-AFLABS-URNIK:premaknjeno-srecanje:45138
ATTENDEE:1. letnik (Fizika, 2. stopnja)
CATEGORIES:Entry,Standard
COLOR:darkgreen
DESCRIPTION:Predmet: Jedra\, kvarki in leptoni (FIZ-M1)\, Vaje (V)\nLetnik
 i: 1. letnik (Fizika\, 2. stopnja)\nIzvajalci: Nejc Košnik\nProstor: F2
LOCATION:F2
ORGANIZER:Nejc Košnik
RELATED-TO:fmf-AFLABS-URNIK:srecanje:6315
X-WR-TIMEZONE:Europe/Ljubljana
END:VEVENT
BEGIN:VEVENT
SUMMARY:Jedra\, kvarki in leptoni (FIZ-M1)\, Vaje (V)
DTSTART;TZID=Europe/Ljubljana:20211027T140000
DTEND;TZID=Europe/Ljubljana:20211027T160000
DTSTAMP:20260425T113107Z
UID:fmf-AFLABS-URNIK:premaknjeno-srecanje:45139
ATTENDEE:1. letnik (Fizika, 2. stopnja)
CATEGORIES:Entry,Standard
COLOR:darkgreen
DESCRIPTION:Predmet: Jedra\, kvarki in leptoni (FIZ-M1)\, Vaje (V)\nLetnik
 i: 1. letnik (Fizika\, 2. stopnja)\nIzvajalci: Nejc Košnik\nProstor: F2
LOCATION:F2
ORGANIZER:Nejc Košnik
RELATED-TO:fmf-AFLABS-URNIK:srecanje:6315
X-WR-TIMEZONE:Europe/Ljubljana
END:VEVENT
BEGIN:VEVENT
SUMMARY:Klasična fizika (FIZ-1)\, Vaje (V)\, [2]
DTSTART;TZID=Europe/Ljubljana:20211007T080000
DTEND;TZID=Europe/Ljubljana:20211007T100000
DTSTAMP:20260425T113107Z
UID:fmf-AFLABS-URNIK:premaknjeno-srecanje:51005
ATTENDEE:1. letnik (Fizika, 1. stopnja)
CATEGORIES:Entry,Standard
COLOR:darkgreen
DESCRIPTION:Predmet: Klasična fizika (FIZ-1)\, Vaje (V)\, [2]\nLetniki: 1
 . letnik (Fizika\, 1. stopnja)\nIzvajalci: Nejc Košnik\nProstor: P.01
LOCATION:P.01
ORGANIZER:Nejc Košnik
RELATED-TO:fmf-AFLABS-URNIK:srecanje:6346
X-WR-TIMEZONE:Europe/Ljubljana
END:VEVENT
BEGIN:VEVENT
SUMMARY:Klasična fizika (FIZ-1)\, Vaje (V)\, [2]
DTSTART;TZID=Europe/Ljubljana:20211014T080000
DTEND;TZID=Europe/Ljubljana:20211014T100000
DTSTAMP:20260425T113107Z
UID:fmf-AFLABS-URNIK:premaknjeno-srecanje:51006
ATTENDEE:1. letnik (Fizika, 1. stopnja)
CATEGORIES:Entry,Standard
COLOR:darkgreen
DESCRIPTION:Predmet: Klasična fizika (FIZ-1)\, Vaje (V)\, [2]\nLetniki: 1
 . letnik (Fizika\, 1. stopnja)\nIzvajalci: Nejc Košnik\nProstor: P.01
LOCATION:P.01
ORGANIZER:Nejc Košnik
RELATED-TO:fmf-AFLABS-URNIK:srecanje:6346
X-WR-TIMEZONE:Europe/Ljubljana
END:VEVENT
BEGIN:VEVENT
SUMMARY:Klasična fizika (FIZ-1)\, Vaje (V)\, [2]
DTSTART;TZID=Europe/Ljubljana:20211021T080000
DTEND;TZID=Europe/Ljubljana:20211021T100000
DTSTAMP:20260425T113107Z
UID:fmf-AFLABS-URNIK:premaknjeno-srecanje:51007
ATTENDEE:1. letnik (Fizika, 1. stopnja)
CATEGORIES:Entry,Standard
COLOR:darkgreen
DESCRIPTION:Predmet: Klasična fizika (FIZ-1)\, Vaje (V)\, [2]\nLetniki: 1
 . letnik (Fizika\, 1. stopnja)\nIzvajalci: Nejc Košnik\nProstor: P.01
LOCATION:P.01
ORGANIZER:Nejc Košnik
RELATED-TO:fmf-AFLABS-URNIK:srecanje:6346
X-WR-TIMEZONE:Europe/Ljubljana
END:VEVENT
BEGIN:VEVENT
SUMMARY:Klasična fizika (FIZ-1)\, Vaje (V)\, [2]
DTSTART;TZID=Europe/Ljubljana:20211028T080000
DTEND;TZID=Europe/Ljubljana:20211028T100000
DTSTAMP:20260425T113107Z
UID:fmf-AFLABS-URNIK:premaknjeno-srecanje:51008
ATTENDEE:1. letnik (Fizika, 1. stopnja)
CATEGORIES:Entry,Standard
COLOR:darkgreen
DESCRIPTION:Predmet: Klasična fizika (FIZ-1)\, Vaje (V)\, [2]\nLetniki: 1
 . letnik (Fizika\, 1. stopnja)\nIzvajalci: Nejc Košnik\nProstor: P.01
LOCATION:P.01
ORGANIZER:Nejc Košnik
RELATED-TO:fmf-AFLABS-URNIK:srecanje:6346
X-WR-TIMEZONE:Europe/Ljubljana
END:VEVENT
BEGIN:VEVENT
SUMMARY:Rezervacija
DTSTART;TZID=Europe/Ljubljana:20210830T130000
DTEND;TZID=Europe/Ljubljana:20210830T150000
DTSTAMP:20260425T113107Z
UID:fmf-AFLABS-URNIK:rezervacija:7574
CATEGORIES:Reservation
COLOR:royalblue
DESCRIPTION:Predmeti: \nLetniki: \nIzvajalci: Nejc Košnik\nProstori: VFP
LOCATION:VFP
ORGANIZER:Nejc Košnik
X-WR-TIMEZONE:Europe/Ljubljana
END:VEVENT
BEGIN:VEVENT
SUMMARY:Rezervacija
DTSTART;TZID=Europe/Ljubljana:20210910T090000
DTEND;TZID=Europe/Ljubljana:20210910T110000
DTSTAMP:20260425T113107Z
UID:fmf-AFLABS-URNIK:rezervacija:7811
ATTENDEE:1. letnik (Fizika, 2. stopnja)
ATTENDEE:3. letnik (FM)
ATTENDEE:3. letnik (M)
ATTENDEE:3. letnik (PM)
CATEGORIES:Reservation
COLOR:royalblue
DESCRIPTION:Predmeti: Jedra\, kvarki in leptoni (FIZ-M1)\, Analiza 3 (FM-3
 \, MAT-3\, PM-3)\nLetniki: 1. letnik (Fizika\, 2. stopnja)\, 3. letnik (FM
 )\, 3. letnik (M)\, 3. letnik (PM)\nIzvajalci: Nejc Košnik\nProstori: P.0
 1
LOCATION:P.01
ORGANIZER:Nejc Košnik
X-WR-TIMEZONE:Europe/Ljubljana
END:VEVENT
END:VCALENDAR
