BEGIN:VCALENDAR
VERSION:2.0
PRODID:-//AFLabs urnik izvoz - fmf//aflabs.si//SI
DTSTAMP:20260425T175116Z
NAME:UL FMF urnik
REFRESH-INTERVAL:PT1H
SOURCE:https://urnik.fmf.uni-lj.si/teacher/1426?day=2023-10-02&export=1
URL:https://urnik.fmf.uni-lj.si/teacher/1426?day=2023-10-02&export=1
X-PUBLISHED-TTL:PT1H
X-WR-CALNAME:UL FMF urnik
X-WR-TIMEZONE:Europe/Ljubljana
BEGIN:VTIMEZONE
TZID:Europe/Ljubljana
BEGIN:DAYLIGHT
DTSTART:20260329T020000
RDATE:20260329T020000
RDATE:20270328T020000
TZNAME:CEST
TZOFFSETFROM:+0100
TZOFFSETTO:+0200
END:DAYLIGHT
BEGIN:STANDARD
DTSTART:20261025T030000
RDATE:20261025T030000
RDATE:20271031T030000
TZNAME:CET
TZOFFSETFROM:+0200
TZOFFSETTO:+0100
END:STANDARD
END:VTIMEZONE
BEGIN:VEVENT
SUMMARY:Fizika (FRI) ()\, Vaje (V)\, [2]
DTSTART;TZID=Europe/Ljubljana:20231005T090000
DTEND;TZID=Europe/Ljubljana:20231005T110000
DTSTAMP:20260425T175116Z
UID:fmf-AFLABS-URNIK:premaknjeno-srecanje:26496
CATEGORIES:Entry,Standard
COLOR:darkgreen
DESCRIPTION:Predmet: Fizika (FRI) ()\, Vaje (V)\, [2]\nLetniki: \nIzvajalc
 i: Luka Leskovec\nProstor: FRI
LOCATION:FRI
ORGANIZER:Luka Leskovec
RELATED-TO:fmf-AFLABS-URNIK:srecanje:9096
X-WR-TIMEZONE:Europe/Ljubljana
END:VEVENT
BEGIN:VEVENT
SUMMARY:Fizika (FRI) ()\, Vaje (V)\, [2]
DTSTART;TZID=Europe/Ljubljana:20231012T090000
DTEND;TZID=Europe/Ljubljana:20231012T110000
DTSTAMP:20260425T175116Z
UID:fmf-AFLABS-URNIK:premaknjeno-srecanje:26497
CATEGORIES:Entry,Standard
COLOR:darkgreen
DESCRIPTION:Predmet: Fizika (FRI) ()\, Vaje (V)\, [2]\nLetniki: \nIzvajalc
 i: Luka Leskovec\nProstor: FRI
LOCATION:FRI
ORGANIZER:Luka Leskovec
RELATED-TO:fmf-AFLABS-URNIK:srecanje:9096
X-WR-TIMEZONE:Europe/Ljubljana
END:VEVENT
BEGIN:VEVENT
SUMMARY:Fizika (FRI) ()\, Vaje (V)\, [2]
DTSTART;TZID=Europe/Ljubljana:20231019T090000
DTEND;TZID=Europe/Ljubljana:20231019T110000
DTSTAMP:20260425T175116Z
UID:fmf-AFLABS-URNIK:premaknjeno-srecanje:26498
CATEGORIES:Entry,Standard
COLOR:darkgreen
DESCRIPTION:Predmet: Fizika (FRI) ()\, Vaje (V)\, [2]\nLetniki: \nIzvajalc
 i: Luka Leskovec\nProstor: FRI
LOCATION:FRI
ORGANIZER:Luka Leskovec
RELATED-TO:fmf-AFLABS-URNIK:srecanje:9096
X-WR-TIMEZONE:Europe/Ljubljana
END:VEVENT
BEGIN:VEVENT
SUMMARY:Fizika (FRI) ()\, Vaje (V)\, [2]
DTSTART;TZID=Europe/Ljubljana:20231026T090000
DTEND;TZID=Europe/Ljubljana:20231026T110000
DTSTAMP:20260425T175116Z
UID:fmf-AFLABS-URNIK:premaknjeno-srecanje:26499
CATEGORIES:Entry,Standard
COLOR:darkgreen
DESCRIPTION:Predmet: Fizika (FRI) ()\, Vaje (V)\, [2]\nLetniki: \nIzvajalc
 i: Luka Leskovec\nProstor: FRI
LOCATION:FRI
ORGANIZER:Luka Leskovec
RELATED-TO:fmf-AFLABS-URNIK:srecanje:9096
X-WR-TIMEZONE:Europe/Ljubljana
END:VEVENT
BEGIN:VEVENT
SUMMARY:Fizika (FRI) ()\, Vaje (V)\, [2]
DTSTART;TZID=Europe/Ljubljana:20231102T090000
DTEND;TZID=Europe/Ljubljana:20231102T110000
DTSTAMP:20260425T175116Z
UID:fmf-AFLABS-URNIK:premaknjeno-srecanje:26500
CATEGORIES:Entry,Standard
COLOR:darkgreen
DESCRIPTION:Predmet: Fizika (FRI) ()\, Vaje (V)\, [2]\nLetniki: \nIzvajalc
 i: Luka Leskovec\nProstor: FRI
LOCATION:FRI
ORGANIZER:Luka Leskovec
RELATED-TO:fmf-AFLABS-URNIK:srecanje:9096
X-WR-TIMEZONE:Europe/Ljubljana
END:VEVENT
BEGIN:VEVENT
SUMMARY:Fizika (FRI) ()\, Vaje (V)\, [2]
DTSTART;TZID=Europe/Ljubljana:20231109T090000
DTEND;TZID=Europe/Ljubljana:20231109T110000
DTSTAMP:20260425T175116Z
UID:fmf-AFLABS-URNIK:premaknjeno-srecanje:26501
CATEGORIES:Entry,Standard
COLOR:darkgreen
DESCRIPTION:Predmet: Fizika (FRI) ()\, Vaje (V)\, [2]\nLetniki: \nIzvajalc
 i: Luka Leskovec\nProstor: FRI
LOCATION:FRI
ORGANIZER:Luka Leskovec
RELATED-TO:fmf-AFLABS-URNIK:srecanje:9096
X-WR-TIMEZONE:Europe/Ljubljana
END:VEVENT
BEGIN:VEVENT
SUMMARY:Fizika (FRI) ()\, Vaje (V)\, [2]
DTSTART;TZID=Europe/Ljubljana:20231116T090000
DTEND;TZID=Europe/Ljubljana:20231116T110000
DTSTAMP:20260425T175116Z
UID:fmf-AFLABS-URNIK:premaknjeno-srecanje:26502
CATEGORIES:Entry,Standard
COLOR:darkgreen
DESCRIPTION:Predmet: Fizika (FRI) ()\, Vaje (V)\, [2]\nLetniki: \nIzvajalc
 i: Luka Leskovec\nProstor: FRI
LOCATION:FRI
ORGANIZER:Luka Leskovec
RELATED-TO:fmf-AFLABS-URNIK:srecanje:9096
X-WR-TIMEZONE:Europe/Ljubljana
END:VEVENT
BEGIN:VEVENT
SUMMARY:Fizika (FRI) ()\, Vaje (V)\, [2]
DTSTART;TZID=Europe/Ljubljana:20231123T090000
DTEND;TZID=Europe/Ljubljana:20231123T110000
DTSTAMP:20260425T175116Z
UID:fmf-AFLABS-URNIK:premaknjeno-srecanje:26503
CATEGORIES:Entry,Standard
COLOR:darkgreen
DESCRIPTION:Predmet: Fizika (FRI) ()\, Vaje (V)\, [2]\nLetniki: \nIzvajalc
 i: Luka Leskovec\nProstor: FRI
LOCATION:FRI
ORGANIZER:Luka Leskovec
RELATED-TO:fmf-AFLABS-URNIK:srecanje:9096
X-WR-TIMEZONE:Europe/Ljubljana
END:VEVENT
BEGIN:VEVENT
SUMMARY:Fizika (FRI) ()\, Vaje (V)\, [2]
DTSTART;TZID=Europe/Ljubljana:20231130T090000
DTEND;TZID=Europe/Ljubljana:20231130T110000
DTSTAMP:20260425T175116Z
UID:fmf-AFLABS-URNIK:premaknjeno-srecanje:26504
CATEGORIES:Entry,Standard
COLOR:darkgreen
DESCRIPTION:Predmet: Fizika (FRI) ()\, Vaje (V)\, [2]\nLetniki: \nIzvajalc
 i: Luka Leskovec\nProstor: FRI
LOCATION:FRI
ORGANIZER:Luka Leskovec
RELATED-TO:fmf-AFLABS-URNIK:srecanje:9096
X-WR-TIMEZONE:Europe/Ljubljana
END:VEVENT
BEGIN:VEVENT
SUMMARY:Fizika (FRI) ()\, Vaje (V)\, [2]
DTSTART;TZID=Europe/Ljubljana:20231207T090000
DTEND;TZID=Europe/Ljubljana:20231207T110000
DTSTAMP:20260425T175116Z
UID:fmf-AFLABS-URNIK:premaknjeno-srecanje:26505
CATEGORIES:Entry,Standard
COLOR:darkgreen
DESCRIPTION:Predmet: Fizika (FRI) ()\, Vaje (V)\, [2]\nLetniki: \nIzvajalc
 i: Luka Leskovec\nProstor: FRI
LOCATION:FRI
ORGANIZER:Luka Leskovec
RELATED-TO:fmf-AFLABS-URNIK:srecanje:9096
X-WR-TIMEZONE:Europe/Ljubljana
END:VEVENT
BEGIN:VEVENT
SUMMARY:Fizika (FRI) ()\, Vaje (V)\, [2]
DTSTART;TZID=Europe/Ljubljana:20231214T090000
DTEND;TZID=Europe/Ljubljana:20231214T110000
DTSTAMP:20260425T175116Z
UID:fmf-AFLABS-URNIK:premaknjeno-srecanje:26506
CATEGORIES:Entry,Standard
COLOR:darkgreen
DESCRIPTION:Predmet: Fizika (FRI) ()\, Vaje (V)\, [2]\nLetniki: \nIzvajalc
 i: Luka Leskovec\nProstor: FRI
LOCATION:FRI
ORGANIZER:Luka Leskovec
RELATED-TO:fmf-AFLABS-URNIK:srecanje:9096
X-WR-TIMEZONE:Europe/Ljubljana
END:VEVENT
BEGIN:VEVENT
SUMMARY:Fizika (FRI) ()\, Vaje (V)\, [2]
DTSTART;TZID=Europe/Ljubljana:20231221T090000
DTEND;TZID=Europe/Ljubljana:20231221T110000
DTSTAMP:20260425T175116Z
UID:fmf-AFLABS-URNIK:premaknjeno-srecanje:26507
CATEGORIES:Entry,Standard
COLOR:darkgreen
DESCRIPTION:Predmet: Fizika (FRI) ()\, Vaje (V)\, [2]\nLetniki: \nIzvajalc
 i: Luka Leskovec\nProstor: FRI
LOCATION:FRI
ORGANIZER:Luka Leskovec
RELATED-TO:fmf-AFLABS-URNIK:srecanje:9096
X-WR-TIMEZONE:Europe/Ljubljana
END:VEVENT
BEGIN:VEVENT
SUMMARY:Fizika (FRI) ()\, Vaje (V)\, [2]
DTSTART;TZID=Europe/Ljubljana:20231228T090000
DTEND;TZID=Europe/Ljubljana:20231228T110000
DTSTAMP:20260425T175116Z
UID:fmf-AFLABS-URNIK:premaknjeno-srecanje:26508
CATEGORIES:Entry,Standard
COLOR:darkgreen
DESCRIPTION:Predmet: Fizika (FRI) ()\, Vaje (V)\, [2]\nLetniki: \nIzvajalc
 i: Luka Leskovec\nProstor: FRI
LOCATION:FRI
ORGANIZER:Luka Leskovec
RELATED-TO:fmf-AFLABS-URNIK:srecanje:9096
X-WR-TIMEZONE:Europe/Ljubljana
END:VEVENT
BEGIN:VEVENT
SUMMARY:Fizika (FRI) ()\, Vaje (V)\, [2]
DTSTART;TZID=Europe/Ljubljana:20240104T090000
DTEND;TZID=Europe/Ljubljana:20240104T110000
DTSTAMP:20260425T175116Z
UID:fmf-AFLABS-URNIK:premaknjeno-srecanje:26509
CATEGORIES:Entry,Standard
COLOR:darkgreen
DESCRIPTION:Predmet: Fizika (FRI) ()\, Vaje (V)\, [2]\nLetniki: \nIzvajalc
 i: Luka Leskovec\nProstor: FRI
LOCATION:FRI
ORGANIZER:Luka Leskovec
RELATED-TO:fmf-AFLABS-URNIK:srecanje:9096
X-WR-TIMEZONE:Europe/Ljubljana
END:VEVENT
BEGIN:VEVENT
SUMMARY:Fizika (FRI) ()\, Vaje (V)\, [2]
DTSTART;TZID=Europe/Ljubljana:20240111T090000
DTEND;TZID=Europe/Ljubljana:20240111T110000
DTSTAMP:20260425T175116Z
UID:fmf-AFLABS-URNIK:premaknjeno-srecanje:26510
CATEGORIES:Entry,Standard
COLOR:darkgreen
DESCRIPTION:Predmet: Fizika (FRI) ()\, Vaje (V)\, [2]\nLetniki: \nIzvajalc
 i: Luka Leskovec\nProstor: FRI
LOCATION:FRI
ORGANIZER:Luka Leskovec
RELATED-TO:fmf-AFLABS-URNIK:srecanje:9096
X-WR-TIMEZONE:Europe/Ljubljana
END:VEVENT
BEGIN:VEVENT
SUMMARY:Fizika (FRI) ()\, Vaje (V)\, [2]
DTSTART;TZID=Europe/Ljubljana:20240118T090000
DTEND;TZID=Europe/Ljubljana:20240118T110000
DTSTAMP:20260425T175116Z
UID:fmf-AFLABS-URNIK:premaknjeno-srecanje:26511
CATEGORIES:Entry,Standard
COLOR:darkgreen
DESCRIPTION:Predmet: Fizika (FRI) ()\, Vaje (V)\, [2]\nLetniki: \nIzvajalc
 i: Luka Leskovec\nProstor: FRI
LOCATION:FRI
ORGANIZER:Luka Leskovec
RELATED-TO:fmf-AFLABS-URNIK:srecanje:9096
X-WR-TIMEZONE:Europe/Ljubljana
END:VEVENT
BEGIN:VEVENT
SUMMARY:Fizika (FRI) ()\, Vaje (V)\, [5]
DTSTART;TZID=Europe/Ljubljana:20231006T140000
DTEND;TZID=Europe/Ljubljana:20231006T160000
DTSTAMP:20260425T175116Z
UID:fmf-AFLABS-URNIK:premaknjeno-srecanje:26844
CATEGORIES:Entry,Standard
COLOR:darkgreen
DESCRIPTION:Predmet: Fizika (FRI) ()\, Vaje (V)\, [5]\nLetniki: \nIzvajalc
 i: Luka Leskovec\nProstor: FRI
LOCATION:FRI
ORGANIZER:Luka Leskovec
RELATED-TO:fmf-AFLABS-URNIK:srecanje:9099
X-WR-TIMEZONE:Europe/Ljubljana
END:VEVENT
BEGIN:VEVENT
SUMMARY:Fizika (FRI) ()\, Vaje (V)\, [5]
DTSTART;TZID=Europe/Ljubljana:20231013T140000
DTEND;TZID=Europe/Ljubljana:20231013T160000
DTSTAMP:20260425T175116Z
UID:fmf-AFLABS-URNIK:premaknjeno-srecanje:26845
CATEGORIES:Entry,Standard
COLOR:darkgreen
DESCRIPTION:Predmet: Fizika (FRI) ()\, Vaje (V)\, [5]\nLetniki: \nIzvajalc
 i: Luka Leskovec\nProstor: FRI
LOCATION:FRI
ORGANIZER:Luka Leskovec
RELATED-TO:fmf-AFLABS-URNIK:srecanje:9099
X-WR-TIMEZONE:Europe/Ljubljana
END:VEVENT
BEGIN:VEVENT
SUMMARY:Fizika (FRI) ()\, Vaje (V)\, [5]
DTSTART;TZID=Europe/Ljubljana:20231020T140000
DTEND;TZID=Europe/Ljubljana:20231020T160000
DTSTAMP:20260425T175116Z
UID:fmf-AFLABS-URNIK:premaknjeno-srecanje:26846
CATEGORIES:Entry,Standard
COLOR:darkgreen
DESCRIPTION:Predmet: Fizika (FRI) ()\, Vaje (V)\, [5]\nLetniki: \nIzvajalc
 i: Luka Leskovec\nProstor: FRI
LOCATION:FRI
ORGANIZER:Luka Leskovec
RELATED-TO:fmf-AFLABS-URNIK:srecanje:9099
X-WR-TIMEZONE:Europe/Ljubljana
END:VEVENT
BEGIN:VEVENT
SUMMARY:Fizika (FRI) ()\, Vaje (V)\, [5]
DTSTART;TZID=Europe/Ljubljana:20231027T140000
DTEND;TZID=Europe/Ljubljana:20231027T160000
DTSTAMP:20260425T175116Z
UID:fmf-AFLABS-URNIK:premaknjeno-srecanje:26847
CATEGORIES:Entry,Standard
COLOR:darkgreen
DESCRIPTION:Predmet: Fizika (FRI) ()\, Vaje (V)\, [5]\nLetniki: \nIzvajalc
 i: Luka Leskovec\nProstor: FRI
LOCATION:FRI
ORGANIZER:Luka Leskovec
RELATED-TO:fmf-AFLABS-URNIK:srecanje:9099
X-WR-TIMEZONE:Europe/Ljubljana
END:VEVENT
BEGIN:VEVENT
SUMMARY:Fizika (FRI) ()\, Vaje (V)\, [5]
DTSTART;TZID=Europe/Ljubljana:20231103T140000
DTEND;TZID=Europe/Ljubljana:20231103T160000
DTSTAMP:20260425T175116Z
UID:fmf-AFLABS-URNIK:premaknjeno-srecanje:26848
CATEGORIES:Entry,Standard
COLOR:darkgreen
DESCRIPTION:Predmet: Fizika (FRI) ()\, Vaje (V)\, [5]\nLetniki: \nIzvajalc
 i: Luka Leskovec\nProstor: FRI
LOCATION:FRI
ORGANIZER:Luka Leskovec
RELATED-TO:fmf-AFLABS-URNIK:srecanje:9099
X-WR-TIMEZONE:Europe/Ljubljana
END:VEVENT
BEGIN:VEVENT
SUMMARY:Fizika (FRI) ()\, Vaje (V)\, [5]
DTSTART;TZID=Europe/Ljubljana:20231110T140000
DTEND;TZID=Europe/Ljubljana:20231110T160000
DTSTAMP:20260425T175116Z
UID:fmf-AFLABS-URNIK:premaknjeno-srecanje:26849
CATEGORIES:Entry,Standard
COLOR:darkgreen
DESCRIPTION:Predmet: Fizika (FRI) ()\, Vaje (V)\, [5]\nLetniki: \nIzvajalc
 i: Luka Leskovec\nProstor: FRI
LOCATION:FRI
ORGANIZER:Luka Leskovec
RELATED-TO:fmf-AFLABS-URNIK:srecanje:9099
X-WR-TIMEZONE:Europe/Ljubljana
END:VEVENT
BEGIN:VEVENT
SUMMARY:Fizika (FRI) ()\, Vaje (V)\, [5]
DTSTART;TZID=Europe/Ljubljana:20231117T140000
DTEND;TZID=Europe/Ljubljana:20231117T160000
DTSTAMP:20260425T175116Z
UID:fmf-AFLABS-URNIK:premaknjeno-srecanje:26850
CATEGORIES:Entry,Standard
COLOR:darkgreen
DESCRIPTION:Predmet: Fizika (FRI) ()\, Vaje (V)\, [5]\nLetniki: \nIzvajalc
 i: Luka Leskovec\nProstor: FRI
LOCATION:FRI
ORGANIZER:Luka Leskovec
RELATED-TO:fmf-AFLABS-URNIK:srecanje:9099
X-WR-TIMEZONE:Europe/Ljubljana
END:VEVENT
BEGIN:VEVENT
SUMMARY:Fizika (FRI) ()\, Vaje (V)\, [5]
DTSTART;TZID=Europe/Ljubljana:20231124T140000
DTEND;TZID=Europe/Ljubljana:20231124T160000
DTSTAMP:20260425T175116Z
UID:fmf-AFLABS-URNIK:premaknjeno-srecanje:26851
CATEGORIES:Entry,Standard
COLOR:darkgreen
DESCRIPTION:Predmet: Fizika (FRI) ()\, Vaje (V)\, [5]\nLetniki: \nIzvajalc
 i: Luka Leskovec\nProstor: FRI
LOCATION:FRI
ORGANIZER:Luka Leskovec
RELATED-TO:fmf-AFLABS-URNIK:srecanje:9099
X-WR-TIMEZONE:Europe/Ljubljana
END:VEVENT
BEGIN:VEVENT
SUMMARY:Fizika (FRI) ()\, Vaje (V)\, [5]
DTSTART;TZID=Europe/Ljubljana:20231201T140000
DTEND;TZID=Europe/Ljubljana:20231201T160000
DTSTAMP:20260425T175116Z
UID:fmf-AFLABS-URNIK:premaknjeno-srecanje:26852
CATEGORIES:Entry,Standard
COLOR:darkgreen
DESCRIPTION:Predmet: Fizika (FRI) ()\, Vaje (V)\, [5]\nLetniki: \nIzvajalc
 i: Luka Leskovec\nProstor: FRI
LOCATION:FRI
ORGANIZER:Luka Leskovec
RELATED-TO:fmf-AFLABS-URNIK:srecanje:9099
X-WR-TIMEZONE:Europe/Ljubljana
END:VEVENT
BEGIN:VEVENT
SUMMARY:Fizika (FRI) ()\, Vaje (V)\, [5]
DTSTART;TZID=Europe/Ljubljana:20231208T140000
DTEND;TZID=Europe/Ljubljana:20231208T160000
DTSTAMP:20260425T175116Z
UID:fmf-AFLABS-URNIK:premaknjeno-srecanje:26853
CATEGORIES:Entry,Standard
COLOR:darkgreen
DESCRIPTION:Predmet: Fizika (FRI) ()\, Vaje (V)\, [5]\nLetniki: \nIzvajalc
 i: Luka Leskovec\nProstor: FRI
LOCATION:FRI
ORGANIZER:Luka Leskovec
RELATED-TO:fmf-AFLABS-URNIK:srecanje:9099
X-WR-TIMEZONE:Europe/Ljubljana
END:VEVENT
BEGIN:VEVENT
SUMMARY:Fizika (FRI) ()\, Vaje (V)\, [5]
DTSTART;TZID=Europe/Ljubljana:20231215T140000
DTEND;TZID=Europe/Ljubljana:20231215T160000
DTSTAMP:20260425T175116Z
UID:fmf-AFLABS-URNIK:premaknjeno-srecanje:26854
CATEGORIES:Entry,Standard
COLOR:darkgreen
DESCRIPTION:Predmet: Fizika (FRI) ()\, Vaje (V)\, [5]\nLetniki: \nIzvajalc
 i: Luka Leskovec\nProstor: FRI
LOCATION:FRI
ORGANIZER:Luka Leskovec
RELATED-TO:fmf-AFLABS-URNIK:srecanje:9099
X-WR-TIMEZONE:Europe/Ljubljana
END:VEVENT
BEGIN:VEVENT
SUMMARY:Fizika (FRI) ()\, Vaje (V)\, [5]
DTSTART;TZID=Europe/Ljubljana:20231222T140000
DTEND;TZID=Europe/Ljubljana:20231222T160000
DTSTAMP:20260425T175116Z
UID:fmf-AFLABS-URNIK:premaknjeno-srecanje:26855
CATEGORIES:Entry,Standard
COLOR:darkgreen
DESCRIPTION:Predmet: Fizika (FRI) ()\, Vaje (V)\, [5]\nLetniki: \nIzvajalc
 i: Luka Leskovec\nProstor: FRI
LOCATION:FRI
ORGANIZER:Luka Leskovec
RELATED-TO:fmf-AFLABS-URNIK:srecanje:9099
X-WR-TIMEZONE:Europe/Ljubljana
END:VEVENT
BEGIN:VEVENT
SUMMARY:Fizika (FRI) ()\, Vaje (V)\, [5]
DTSTART;TZID=Europe/Ljubljana:20231229T140000
DTEND;TZID=Europe/Ljubljana:20231229T160000
DTSTAMP:20260425T175116Z
UID:fmf-AFLABS-URNIK:premaknjeno-srecanje:26856
CATEGORIES:Entry,Standard
COLOR:darkgreen
DESCRIPTION:Predmet: Fizika (FRI) ()\, Vaje (V)\, [5]\nLetniki: \nIzvajalc
 i: Luka Leskovec\nProstor: FRI
LOCATION:FRI
ORGANIZER:Luka Leskovec
RELATED-TO:fmf-AFLABS-URNIK:srecanje:9099
X-WR-TIMEZONE:Europe/Ljubljana
END:VEVENT
BEGIN:VEVENT
SUMMARY:Fizika (FRI) ()\, Vaje (V)\, [5]
DTSTART;TZID=Europe/Ljubljana:20240105T140000
DTEND;TZID=Europe/Ljubljana:20240105T160000
DTSTAMP:20260425T175116Z
UID:fmf-AFLABS-URNIK:premaknjeno-srecanje:26857
CATEGORIES:Entry,Standard
COLOR:darkgreen
DESCRIPTION:Predmet: Fizika (FRI) ()\, Vaje (V)\, [5]\nLetniki: \nIzvajalc
 i: Luka Leskovec\nProstor: FRI
LOCATION:FRI
ORGANIZER:Luka Leskovec
RELATED-TO:fmf-AFLABS-URNIK:srecanje:9099
X-WR-TIMEZONE:Europe/Ljubljana
END:VEVENT
BEGIN:VEVENT
SUMMARY:Fizika (FRI) ()\, Vaje (V)\, [5]
DTSTART;TZID=Europe/Ljubljana:20240112T140000
DTEND;TZID=Europe/Ljubljana:20240112T160000
DTSTAMP:20260425T175116Z
UID:fmf-AFLABS-URNIK:premaknjeno-srecanje:26858
CATEGORIES:Entry,Standard
COLOR:darkgreen
DESCRIPTION:Predmet: Fizika (FRI) ()\, Vaje (V)\, [5]\nLetniki: \nIzvajalc
 i: Luka Leskovec\nProstor: FRI
LOCATION:FRI
ORGANIZER:Luka Leskovec
RELATED-TO:fmf-AFLABS-URNIK:srecanje:9099
X-WR-TIMEZONE:Europe/Ljubljana
END:VEVENT
BEGIN:VEVENT
SUMMARY:Fizika (FRI) ()\, Vaje (V)\, [5]
DTSTART;TZID=Europe/Ljubljana:20240119T140000
DTEND;TZID=Europe/Ljubljana:20240119T160000
DTSTAMP:20260425T175116Z
UID:fmf-AFLABS-URNIK:premaknjeno-srecanje:26859
CATEGORIES:Entry,Standard
COLOR:darkgreen
DESCRIPTION:Predmet: Fizika (FRI) ()\, Vaje (V)\, [5]\nLetniki: \nIzvajalc
 i: Luka Leskovec\nProstor: FRI
LOCATION:FRI
ORGANIZER:Luka Leskovec
RELATED-TO:fmf-AFLABS-URNIK:srecanje:9099
X-WR-TIMEZONE:Europe/Ljubljana
END:VEVENT
BEGIN:VEVENT
SUMMARY:Rezervacija
DTSTART;TZID=Europe/Ljubljana:20231026T130000
DTEND;TZID=Europe/Ljubljana:20231026T170000
DTSTAMP:20260425T175116Z
UID:fmf-AFLABS-URNIK:rezervacija:13510
CATEGORIES:Reservation
COLOR:royalblue
DESCRIPTION:Predmeti: \nLetniki: \nIzvajalci: Luka Leskovec\nProstori: Sej
 na soba J21
LOCATION:Sejna soba J21
ORGANIZER:Luka Leskovec
X-WR-TIMEZONE:Europe/Ljubljana
END:VEVENT
BEGIN:VEVENT
SUMMARY:Rezervacija
DTSTART;TZID=Europe/Ljubljana:20231214T080000
DTEND;TZID=Europe/Ljubljana:20231214T100000
DTSTAMP:20260425T175116Z
UID:fmf-AFLABS-URNIK:rezervacija:13788
CATEGORIES:Reservation
COLOR:royalblue
DESCRIPTION:Predmeti: \nLetniki: \nIzvajalci: Luka Leskovec\nProstori: F7
LOCATION:F7
ORGANIZER:Luka Leskovec
X-WR-TIMEZONE:Europe/Ljubljana
END:VEVENT
BEGIN:VEVENT
SUMMARY:Rezervacija
DTSTART;TZID=Europe/Ljubljana:20240104T080000
DTEND;TZID=Europe/Ljubljana:20240104T100000
DTSTAMP:20260425T175116Z
UID:fmf-AFLABS-URNIK:rezervacija:13839
CATEGORIES:Reservation
COLOR:royalblue
DESCRIPTION:Predmeti: \nLetniki: \nIzvajalci: Luka Leskovec\nProstori: F7
LOCATION:F7
ORGANIZER:Luka Leskovec
X-WR-TIMEZONE:Europe/Ljubljana
END:VEVENT
END:VCALENDAR
