BEGIN:VCALENDAR
VERSION:2.0
PRODID:-//AFLabs urnik izvoz - fmf//aflabs.si//SI
DTSTAMP:20260424T203319Z
NAME:UL FMF urnik
REFRESH-INTERVAL:PT1H
SOURCE:https://urnik.fmf.uni-lj.si/teacher/145?day=2019-09-30&export=1
URL:https://urnik.fmf.uni-lj.si/teacher/145?day=2019-09-30&export=1
X-PUBLISHED-TTL:PT1H
X-WR-CALNAME:UL FMF urnik
X-WR-TIMEZONE:Europe/Ljubljana
BEGIN:VTIMEZONE
TZID:Europe/Ljubljana
BEGIN:DAYLIGHT
DTSTART:20260329T020000
RDATE:20260329T020000
RDATE:20270328T020000
TZNAME:CEST
TZOFFSETFROM:+0100
TZOFFSETTO:+0200
END:DAYLIGHT
BEGIN:STANDARD
DTSTART:20261025T030000
RDATE:20261025T030000
RDATE:20271031T030000
TZNAME:CET
TZOFFSETFROM:+0200
TZOFFSETTO:+0100
END:STANDARD
END:VTIMEZONE
BEGIN:VEVENT
SUMMARY:MAT (FKKT) ()\, Vaje (V)\, [KI]
DTSTART;TZID=Europe/Ljubljana:20191001T130000
DTEND;TZID=Europe/Ljubljana:20191001T150000
DTSTAMP:20260424T203319Z
UID:fmf-AFLABS-URNIK:premaknjeno-srecanje:58985
CATEGORIES:Entry,Standard
COLOR:darkgreen
DESCRIPTION:Predmet: MAT (FKKT) ()\, Vaje (V)\, [KI]\nLetniki: \nIzvajalci
 : Blaž Jelenc\nProstor: FKKT
LOCATION:FKKT
ORGANIZER:Blaž Jelenc
RELATED-TO:fmf-AFLABS-URNIK:srecanje:3919
X-WR-TIMEZONE:Europe/Ljubljana
END:VEVENT
BEGIN:VEVENT
SUMMARY:MAT (FKKT) ()\, Vaje (V)\, [KI]
DTSTART;TZID=Europe/Ljubljana:20191008T130000
DTEND;TZID=Europe/Ljubljana:20191008T150000
DTSTAMP:20260424T203319Z
UID:fmf-AFLABS-URNIK:premaknjeno-srecanje:58986
CATEGORIES:Entry,Standard
COLOR:darkgreen
DESCRIPTION:Predmet: MAT (FKKT) ()\, Vaje (V)\, [KI]\nLetniki: \nIzvajalci
 : Blaž Jelenc\nProstor: FKKT
LOCATION:FKKT
ORGANIZER:Blaž Jelenc
RELATED-TO:fmf-AFLABS-URNIK:srecanje:3919
X-WR-TIMEZONE:Europe/Ljubljana
END:VEVENT
BEGIN:VEVENT
SUMMARY:MAT (FKKT) ()\, Vaje (V)\, [KI]
DTSTART;TZID=Europe/Ljubljana:20191015T130000
DTEND;TZID=Europe/Ljubljana:20191015T150000
DTSTAMP:20260424T203319Z
UID:fmf-AFLABS-URNIK:premaknjeno-srecanje:58987
CATEGORIES:Entry,Standard
COLOR:darkgreen
DESCRIPTION:Predmet: MAT (FKKT) ()\, Vaje (V)\, [KI]\nLetniki: \nIzvajalci
 : Blaž Jelenc\nProstor: FKKT
LOCATION:FKKT
ORGANIZER:Blaž Jelenc
RELATED-TO:fmf-AFLABS-URNIK:srecanje:3919
X-WR-TIMEZONE:Europe/Ljubljana
END:VEVENT
BEGIN:VEVENT
SUMMARY:MAT (FKKT) ()\, Vaje (V)\, [KI]
DTSTART;TZID=Europe/Ljubljana:20191022T130000
DTEND;TZID=Europe/Ljubljana:20191022T150000
DTSTAMP:20260424T203319Z
UID:fmf-AFLABS-URNIK:premaknjeno-srecanje:58988
CATEGORIES:Entry,Standard
COLOR:darkgreen
DESCRIPTION:Predmet: MAT (FKKT) ()\, Vaje (V)\, [KI]\nLetniki: \nIzvajalci
 : Blaž Jelenc\nProstor: FKKT
LOCATION:FKKT
ORGANIZER:Blaž Jelenc
RELATED-TO:fmf-AFLABS-URNIK:srecanje:3919
X-WR-TIMEZONE:Europe/Ljubljana
END:VEVENT
BEGIN:VEVENT
SUMMARY:MAT (FKKT) ()\, Vaje (V)\, [KI]
DTSTART;TZID=Europe/Ljubljana:20191029T130000
DTEND;TZID=Europe/Ljubljana:20191029T150000
DTSTAMP:20260424T203319Z
UID:fmf-AFLABS-URNIK:premaknjeno-srecanje:58989
CATEGORIES:Entry,Standard
COLOR:darkgreen
DESCRIPTION:Predmet: MAT (FKKT) ()\, Vaje (V)\, [KI]\nLetniki: \nIzvajalci
 : Blaž Jelenc\nProstor: FKKT
LOCATION:FKKT
ORGANIZER:Blaž Jelenc
RELATED-TO:fmf-AFLABS-URNIK:srecanje:3919
X-WR-TIMEZONE:Europe/Ljubljana
END:VEVENT
BEGIN:VEVENT
SUMMARY:Uvod v diferencialno geometrijo (FM-3\, MAT-3\, PM-4)\, Vaje (V)
DTSTART;TZID=Europe/Ljubljana:20191002T160000
DTEND;TZID=Europe/Ljubljana:20191002T180000
DTSTAMP:20260424T203319Z
UID:fmf-AFLABS-URNIK:premaknjeno-srecanje:115741
ATTENDEE:3. letnik (FM)
ATTENDEE:3. letnik (M)
ATTENDEE:4. letnik (PM)
CATEGORIES:Entry,Standard
COLOR:darkgreen
DESCRIPTION:Predmet: Uvod v diferencialno geometrijo (FM-3\, MAT-3\, PM-4)
 \, Vaje (V)\nLetniki: 3. letnik (FM)\, 3. letnik (M)\, 4. letnik (PM)\nIzv
 ajalci: Blaž Jelenc\nProstor: 2.01
LOCATION:2.01
ORGANIZER:Blaž Jelenc
RELATED-TO:fmf-AFLABS-URNIK:srecanje:3547
X-WR-TIMEZONE:Europe/Ljubljana
END:VEVENT
BEGIN:VEVENT
SUMMARY:Uvod v diferencialno geometrijo (FM-3\, MAT-3\, PM-4)\, Vaje (V)
DTSTART;TZID=Europe/Ljubljana:20191009T160000
DTEND;TZID=Europe/Ljubljana:20191009T180000
DTSTAMP:20260424T203319Z
UID:fmf-AFLABS-URNIK:premaknjeno-srecanje:115742
ATTENDEE:3. letnik (FM)
ATTENDEE:3. letnik (M)
ATTENDEE:4. letnik (PM)
CATEGORIES:Entry,Standard
COLOR:darkgreen
DESCRIPTION:Predmet: Uvod v diferencialno geometrijo (FM-3\, MAT-3\, PM-4)
 \, Vaje (V)\nLetniki: 3. letnik (FM)\, 3. letnik (M)\, 4. letnik (PM)\nIzv
 ajalci: Blaž Jelenc\nProstor: 2.01
LOCATION:2.01
ORGANIZER:Blaž Jelenc
RELATED-TO:fmf-AFLABS-URNIK:srecanje:3547
X-WR-TIMEZONE:Europe/Ljubljana
END:VEVENT
BEGIN:VEVENT
SUMMARY:Uvod v diferencialno geometrijo (FM-3\, MAT-3\, PM-4)\, Vaje (V)
DTSTART;TZID=Europe/Ljubljana:20191016T160000
DTEND;TZID=Europe/Ljubljana:20191016T180000
DTSTAMP:20260424T203319Z
UID:fmf-AFLABS-URNIK:premaknjeno-srecanje:115743
ATTENDEE:3. letnik (FM)
ATTENDEE:3. letnik (M)
ATTENDEE:4. letnik (PM)
CATEGORIES:Entry,Standard
COLOR:darkgreen
DESCRIPTION:Predmet: Uvod v diferencialno geometrijo (FM-3\, MAT-3\, PM-4)
 \, Vaje (V)\nLetniki: 3. letnik (FM)\, 3. letnik (M)\, 4. letnik (PM)\nIzv
 ajalci: Blaž Jelenc\nProstor: 2.01
LOCATION:2.01
ORGANIZER:Blaž Jelenc
RELATED-TO:fmf-AFLABS-URNIK:srecanje:3547
X-WR-TIMEZONE:Europe/Ljubljana
END:VEVENT
BEGIN:VEVENT
SUMMARY:Uvod v diferencialno geometrijo (FM-3\, MAT-3\, PM-4)\, Vaje (V)
DTSTART;TZID=Europe/Ljubljana:20191023T160000
DTEND;TZID=Europe/Ljubljana:20191023T180000
DTSTAMP:20260424T203319Z
UID:fmf-AFLABS-URNIK:premaknjeno-srecanje:115744
ATTENDEE:3. letnik (FM)
ATTENDEE:3. letnik (M)
ATTENDEE:4. letnik (PM)
CATEGORIES:Entry,Standard
COLOR:darkgreen
DESCRIPTION:Predmet: Uvod v diferencialno geometrijo (FM-3\, MAT-3\, PM-4)
 \, Vaje (V)\nLetniki: 3. letnik (FM)\, 3. letnik (M)\, 4. letnik (PM)\nIzv
 ajalci: Blaž Jelenc\nProstor: 2.01
LOCATION:2.01
ORGANIZER:Blaž Jelenc
RELATED-TO:fmf-AFLABS-URNIK:srecanje:3547
X-WR-TIMEZONE:Europe/Ljubljana
END:VEVENT
BEGIN:VEVENT
SUMMARY:Uvod v diferencialno geometrijo (FM-3\, MAT-3\, PM-4)\, Vaje (V)
DTSTART;TZID=Europe/Ljubljana:20191030T160000
DTEND;TZID=Europe/Ljubljana:20191030T180000
DTSTAMP:20260424T203319Z
UID:fmf-AFLABS-URNIK:premaknjeno-srecanje:115745
ATTENDEE:3. letnik (FM)
ATTENDEE:3. letnik (M)
ATTENDEE:4. letnik (PM)
CATEGORIES:Entry,Standard
COLOR:darkgreen
DESCRIPTION:Predmet: Uvod v diferencialno geometrijo (FM-3\, MAT-3\, PM-4)
 \, Vaje (V)\nLetniki: 3. letnik (FM)\, 3. letnik (M)\, 4. letnik (PM)\nIzv
 ajalci: Blaž Jelenc\nProstor: 2.01
LOCATION:2.01
ORGANIZER:Blaž Jelenc
RELATED-TO:fmf-AFLABS-URNIK:srecanje:3547
X-WR-TIMEZONE:Europe/Ljubljana
END:VEVENT
BEGIN:VEVENT
SUMMARY:Matematika I (FIZ-1)\, Vaje (V)\, [1]
DTSTART;TZID=Europe/Ljubljana:20191003T100000
DTEND;TZID=Europe/Ljubljana:20191003T120000
DTSTAMP:20260424T203319Z
UID:fmf-AFLABS-URNIK:premaknjeno-srecanje:64698
ATTENDEE:1. letnik (Fizika, 1. stopnja)
CATEGORIES:Entry,Standard
COLOR:darkgreen
DESCRIPTION:Predmet: Matematika I (FIZ-1)\, Vaje (V)\, [1]\nLetniki: 1. le
 tnik (Fizika\, 1. stopnja)\nIzvajalci: Blaž Jelenc\nProstor: P.01
LOCATION:P.01
ORGANIZER:Blaž Jelenc
RELATED-TO:fmf-AFLABS-URNIK:srecanje:3552
X-WR-TIMEZONE:Europe/Ljubljana
END:VEVENT
BEGIN:VEVENT
SUMMARY:Matematika I (FIZ-1)\, Vaje (V)\, [1]
DTSTART;TZID=Europe/Ljubljana:20191010T100000
DTEND;TZID=Europe/Ljubljana:20191010T120000
DTSTAMP:20260424T203319Z
UID:fmf-AFLABS-URNIK:premaknjeno-srecanje:64699
ATTENDEE:1. letnik (Fizika, 1. stopnja)
CATEGORIES:Entry,Standard
COLOR:darkgreen
DESCRIPTION:Predmet: Matematika I (FIZ-1)\, Vaje (V)\, [1]\nLetniki: 1. le
 tnik (Fizika\, 1. stopnja)\nIzvajalci: Blaž Jelenc\nProstor: P.01
LOCATION:P.01
ORGANIZER:Blaž Jelenc
RELATED-TO:fmf-AFLABS-URNIK:srecanje:3552
X-WR-TIMEZONE:Europe/Ljubljana
END:VEVENT
BEGIN:VEVENT
SUMMARY:Matematika I (FIZ-1)\, Vaje (V)\, [1]
DTSTART;TZID=Europe/Ljubljana:20191017T100000
DTEND;TZID=Europe/Ljubljana:20191017T120000
DTSTAMP:20260424T203319Z
UID:fmf-AFLABS-URNIK:premaknjeno-srecanje:64700
ATTENDEE:1. letnik (Fizika, 1. stopnja)
CATEGORIES:Entry,Standard
COLOR:darkgreen
DESCRIPTION:Predmet: Matematika I (FIZ-1)\, Vaje (V)\, [1]\nLetniki: 1. le
 tnik (Fizika\, 1. stopnja)\nIzvajalci: Blaž Jelenc\nProstor: P.01
LOCATION:P.01
ORGANIZER:Blaž Jelenc
RELATED-TO:fmf-AFLABS-URNIK:srecanje:3552
X-WR-TIMEZONE:Europe/Ljubljana
END:VEVENT
BEGIN:VEVENT
SUMMARY:Matematika I (FIZ-1)\, Vaje (V)\, [1]
DTSTART;TZID=Europe/Ljubljana:20191024T100000
DTEND;TZID=Europe/Ljubljana:20191024T120000
DTSTAMP:20260424T203319Z
UID:fmf-AFLABS-URNIK:premaknjeno-srecanje:64701
ATTENDEE:1. letnik (Fizika, 1. stopnja)
CATEGORIES:Entry,Standard
COLOR:darkgreen
DESCRIPTION:Predmet: Matematika I (FIZ-1)\, Vaje (V)\, [1]\nLetniki: 1. le
 tnik (Fizika\, 1. stopnja)\nIzvajalci: Blaž Jelenc\nProstor: P.01
LOCATION:P.01
ORGANIZER:Blaž Jelenc
RELATED-TO:fmf-AFLABS-URNIK:srecanje:3552
X-WR-TIMEZONE:Europe/Ljubljana
END:VEVENT
BEGIN:VEVENT
SUMMARY:Matematika I (FIZ-1)\, Vaje (V)\, [1]
DTSTART;TZID=Europe/Ljubljana:20191031T100000
DTEND;TZID=Europe/Ljubljana:20191031T120000
DTSTAMP:20260424T203319Z
UID:fmf-AFLABS-URNIK:premaknjeno-srecanje:64702
ATTENDEE:1. letnik (Fizika, 1. stopnja)
CATEGORIES:Entry,Standard
COLOR:darkgreen
DESCRIPTION:Predmet: Matematika I (FIZ-1)\, Vaje (V)\, [1]\nLetniki: 1. le
 tnik (Fizika\, 1. stopnja)\nIzvajalci: Blaž Jelenc\nProstor: P.01
LOCATION:P.01
ORGANIZER:Blaž Jelenc
RELATED-TO:fmf-AFLABS-URNIK:srecanje:3552
X-WR-TIMEZONE:Europe/Ljubljana
END:VEVENT
BEGIN:VEVENT
SUMMARY:Matematika III (FIZ-2)\, Vaje (V)\, [2]
DTSTART;TZID=Europe/Ljubljana:20191003T120000
DTEND;TZID=Europe/Ljubljana:20191003T150000
DTSTAMP:20260424T203319Z
UID:fmf-AFLABS-URNIK:premaknjeno-srecanje:66466
ATTENDEE:2. letnik (Fizika, 1. stopnja)
CATEGORIES:Entry,Standard
COLOR:darkgreen
DESCRIPTION:Predmet: Matematika III (FIZ-2)\, Vaje (V)\, [2]\nLetniki: 2. 
 letnik (Fizika\, 1. stopnja)\nIzvajalci: Blaž Jelenc\nProstor: P.01
LOCATION:P.01
ORGANIZER:Blaž Jelenc
RELATED-TO:fmf-AFLABS-URNIK:srecanje:3560
X-WR-TIMEZONE:Europe/Ljubljana
END:VEVENT
BEGIN:VEVENT
SUMMARY:Matematika III (FIZ-2)\, Vaje (V)\, [2]
DTSTART;TZID=Europe/Ljubljana:20191010T120000
DTEND;TZID=Europe/Ljubljana:20191010T150000
DTSTAMP:20260424T203319Z
UID:fmf-AFLABS-URNIK:premaknjeno-srecanje:66467
ATTENDEE:2. letnik (Fizika, 1. stopnja)
CATEGORIES:Entry,Standard
COLOR:darkgreen
DESCRIPTION:Predmet: Matematika III (FIZ-2)\, Vaje (V)\, [2]\nLetniki: 2. 
 letnik (Fizika\, 1. stopnja)\nIzvajalci: Blaž Jelenc\nProstor: P.01
LOCATION:P.01
ORGANIZER:Blaž Jelenc
RELATED-TO:fmf-AFLABS-URNIK:srecanje:3560
X-WR-TIMEZONE:Europe/Ljubljana
END:VEVENT
BEGIN:VEVENT
SUMMARY:Matematika III (FIZ-2)\, Vaje (V)\, [2]
DTSTART;TZID=Europe/Ljubljana:20191017T120000
DTEND;TZID=Europe/Ljubljana:20191017T150000
DTSTAMP:20260424T203319Z
UID:fmf-AFLABS-URNIK:premaknjeno-srecanje:66468
ATTENDEE:2. letnik (Fizika, 1. stopnja)
CATEGORIES:Entry,Standard
COLOR:darkgreen
DESCRIPTION:Predmet: Matematika III (FIZ-2)\, Vaje (V)\, [2]\nLetniki: 2. 
 letnik (Fizika\, 1. stopnja)\nIzvajalci: Blaž Jelenc\nProstor: P.01
LOCATION:P.01
ORGANIZER:Blaž Jelenc
RELATED-TO:fmf-AFLABS-URNIK:srecanje:3560
X-WR-TIMEZONE:Europe/Ljubljana
END:VEVENT
BEGIN:VEVENT
SUMMARY:Matematika III (FIZ-2)\, Vaje (V)\, [2]
DTSTART;TZID=Europe/Ljubljana:20191024T120000
DTEND;TZID=Europe/Ljubljana:20191024T150000
DTSTAMP:20260424T203319Z
UID:fmf-AFLABS-URNIK:premaknjeno-srecanje:66469
ATTENDEE:2. letnik (Fizika, 1. stopnja)
CATEGORIES:Entry,Standard
COLOR:darkgreen
DESCRIPTION:Predmet: Matematika III (FIZ-2)\, Vaje (V)\, [2]\nLetniki: 2. 
 letnik (Fizika\, 1. stopnja)\nIzvajalci: Blaž Jelenc\nProstor: P.01
LOCATION:P.01
ORGANIZER:Blaž Jelenc
RELATED-TO:fmf-AFLABS-URNIK:srecanje:3560
X-WR-TIMEZONE:Europe/Ljubljana
END:VEVENT
BEGIN:VEVENT
SUMMARY:Matematika III (FIZ-2)\, Vaje (V)\, [2]
DTSTART;TZID=Europe/Ljubljana:20191031T120000
DTEND;TZID=Europe/Ljubljana:20191031T150000
DTSTAMP:20260424T203319Z
UID:fmf-AFLABS-URNIK:premaknjeno-srecanje:66470
ATTENDEE:2. letnik (Fizika, 1. stopnja)
CATEGORIES:Entry,Standard
COLOR:darkgreen
DESCRIPTION:Predmet: Matematika III (FIZ-2)\, Vaje (V)\, [2]\nLetniki: 2. 
 letnik (Fizika\, 1. stopnja)\nIzvajalci: Blaž Jelenc\nProstor: P.01
LOCATION:P.01
ORGANIZER:Blaž Jelenc
RELATED-TO:fmf-AFLABS-URNIK:srecanje:3560
X-WR-TIMEZONE:Europe/Ljubljana
END:VEVENT
BEGIN:VEVENT
SUMMARY:Analiza 3 (FM-2)\, Vaje (V)
DTSTART;TZID=Europe/Ljubljana:20191004T120000
DTEND;TZID=Europe/Ljubljana:20191004T140000
DTSTAMP:20260424T203319Z
UID:fmf-AFLABS-URNIK:premaknjeno-srecanje:8786
ATTENDEE:2. letnik (FM)
CATEGORIES:Entry,Standard
COLOR:darkgreen
DESCRIPTION:Predmet: Analiza 3 (FM-2)\, Vaje (V)\nLetniki: 2. letnik (FM)\
 nIzvajalci: Blaž Jelenc\nProstor: P.02
LOCATION:P.02
ORGANIZER:Blaž Jelenc
RELATED-TO:fmf-AFLABS-URNIK:srecanje:3257
X-WR-TIMEZONE:Europe/Ljubljana
END:VEVENT
BEGIN:VEVENT
SUMMARY:Analiza 3 (FM-2)\, Vaje (V)
DTSTART;TZID=Europe/Ljubljana:20191011T120000
DTEND;TZID=Europe/Ljubljana:20191011T140000
DTSTAMP:20260424T203319Z
UID:fmf-AFLABS-URNIK:premaknjeno-srecanje:8787
ATTENDEE:2. letnik (FM)
CATEGORIES:Entry,Standard
COLOR:darkgreen
DESCRIPTION:Predmet: Analiza 3 (FM-2)\, Vaje (V)\nLetniki: 2. letnik (FM)\
 nIzvajalci: Blaž Jelenc\nProstor: P.02
LOCATION:P.02
ORGANIZER:Blaž Jelenc
RELATED-TO:fmf-AFLABS-URNIK:srecanje:3257
X-WR-TIMEZONE:Europe/Ljubljana
END:VEVENT
BEGIN:VEVENT
SUMMARY:Analiza 3 (FM-2)\, Vaje (V)
DTSTART;TZID=Europe/Ljubljana:20191018T120000
DTEND;TZID=Europe/Ljubljana:20191018T140000
DTSTAMP:20260424T203319Z
UID:fmf-AFLABS-URNIK:premaknjeno-srecanje:8788
ATTENDEE:2. letnik (FM)
CATEGORIES:Entry,Standard
COLOR:darkgreen
DESCRIPTION:Predmet: Analiza 3 (FM-2)\, Vaje (V)\nLetniki: 2. letnik (FM)\
 nIzvajalci: Blaž Jelenc\nProstor: P.02
LOCATION:P.02
ORGANIZER:Blaž Jelenc
RELATED-TO:fmf-AFLABS-URNIK:srecanje:3257
X-WR-TIMEZONE:Europe/Ljubljana
END:VEVENT
BEGIN:VEVENT
SUMMARY:Analiza 3 (FM-2)\, Vaje (V)
DTSTART;TZID=Europe/Ljubljana:20191025T120000
DTEND;TZID=Europe/Ljubljana:20191025T140000
DTSTAMP:20260424T203319Z
UID:fmf-AFLABS-URNIK:premaknjeno-srecanje:8789
ATTENDEE:2. letnik (FM)
CATEGORIES:Entry,Standard
COLOR:darkgreen
DESCRIPTION:Predmet: Analiza 3 (FM-2)\, Vaje (V)\nLetniki: 2. letnik (FM)\
 nIzvajalci: Blaž Jelenc\nProstor: P.02
LOCATION:P.02
ORGANIZER:Blaž Jelenc
RELATED-TO:fmf-AFLABS-URNIK:srecanje:3257
X-WR-TIMEZONE:Europe/Ljubljana
END:VEVENT
BEGIN:VEVENT
SUMMARY:Analiza 3 (FM-2)\, Vaje (V)
DTSTART;TZID=Europe/Ljubljana:20191101T120000
DTEND;TZID=Europe/Ljubljana:20191101T140000
DTSTAMP:20260424T203319Z
UID:fmf-AFLABS-URNIK:premaknjeno-srecanje:8790
ATTENDEE:2. letnik (FM)
CATEGORIES:Entry,Standard
COLOR:darkgreen
DESCRIPTION:Predmet: Analiza 3 (FM-2)\, Vaje (V)\nLetniki: 2. letnik (FM)\
 nIzvajalci: Blaž Jelenc\nProstor: P.02
LOCATION:P.02
ORGANIZER:Blaž Jelenc
RELATED-TO:fmf-AFLABS-URNIK:srecanje:3257
X-WR-TIMEZONE:Europe/Ljubljana
END:VEVENT
BEGIN:VEVENT
SUMMARY:Dodatna poglavja iz matematike za fizike (FIZ-M1\, FIZ-M2)\, Vaje 
 (V)
DTSTART;TZID=Europe/Ljubljana:20191004T140000
DTEND;TZID=Europe/Ljubljana:20191004T160000
DTSTAMP:20260424T203319Z
UID:fmf-AFLABS-URNIK:premaknjeno-srecanje:17232
ATTENDEE:1. letnik (Fizika, 2. stopnja)
ATTENDEE:2. letnik (Fizika, 2. stopnja)
CATEGORIES:Entry,Standard
COLOR:darkgreen
DESCRIPTION:Predmet: Dodatna poglavja iz matematike za fizike (FIZ-M1\, FI
 Z-M2)\, Vaje (V)\nLetniki: 1. letnik (Fizika\, 2. stopnja)\, 2. letnik (Fi
 zika\, 2. stopnja)\nIzvajalci: Blaž Jelenc\nProstor: F5
LOCATION:F5
ORGANIZER:Blaž Jelenc
RELATED-TO:fmf-AFLABS-URNIK:srecanje:3290
X-WR-TIMEZONE:Europe/Ljubljana
END:VEVENT
BEGIN:VEVENT
SUMMARY:Dodatna poglavja iz matematike za fizike (FIZ-M1\, FIZ-M2)\, Vaje 
 (V)
DTSTART;TZID=Europe/Ljubljana:20191011T140000
DTEND;TZID=Europe/Ljubljana:20191011T160000
DTSTAMP:20260424T203319Z
UID:fmf-AFLABS-URNIK:premaknjeno-srecanje:17233
ATTENDEE:1. letnik (Fizika, 2. stopnja)
ATTENDEE:2. letnik (Fizika, 2. stopnja)
CATEGORIES:Entry,Standard
COLOR:darkgreen
DESCRIPTION:Predmet: Dodatna poglavja iz matematike za fizike (FIZ-M1\, FI
 Z-M2)\, Vaje (V)\nLetniki: 1. letnik (Fizika\, 2. stopnja)\, 2. letnik (Fi
 zika\, 2. stopnja)\nIzvajalci: Blaž Jelenc\nProstor: F5
LOCATION:F5
ORGANIZER:Blaž Jelenc
RELATED-TO:fmf-AFLABS-URNIK:srecanje:3290
X-WR-TIMEZONE:Europe/Ljubljana
END:VEVENT
BEGIN:VEVENT
SUMMARY:Dodatna poglavja iz matematike za fizike (FIZ-M1\, FIZ-M2)\, Vaje 
 (V)
DTSTART;TZID=Europe/Ljubljana:20191018T140000
DTEND;TZID=Europe/Ljubljana:20191018T160000
DTSTAMP:20260424T203319Z
UID:fmf-AFLABS-URNIK:premaknjeno-srecanje:17234
ATTENDEE:1. letnik (Fizika, 2. stopnja)
ATTENDEE:2. letnik (Fizika, 2. stopnja)
CATEGORIES:Entry,Standard
COLOR:darkgreen
DESCRIPTION:Predmet: Dodatna poglavja iz matematike za fizike (FIZ-M1\, FI
 Z-M2)\, Vaje (V)\nLetniki: 1. letnik (Fizika\, 2. stopnja)\, 2. letnik (Fi
 zika\, 2. stopnja)\nIzvajalci: Blaž Jelenc\nProstor: F5
LOCATION:F5
ORGANIZER:Blaž Jelenc
RELATED-TO:fmf-AFLABS-URNIK:srecanje:3290
X-WR-TIMEZONE:Europe/Ljubljana
END:VEVENT
BEGIN:VEVENT
SUMMARY:Dodatna poglavja iz matematike za fizike (FIZ-M1\, FIZ-M2)\, Vaje 
 (V)
DTSTART;TZID=Europe/Ljubljana:20191025T140000
DTEND;TZID=Europe/Ljubljana:20191025T160000
DTSTAMP:20260424T203319Z
UID:fmf-AFLABS-URNIK:premaknjeno-srecanje:17235
ATTENDEE:1. letnik (Fizika, 2. stopnja)
ATTENDEE:2. letnik (Fizika, 2. stopnja)
CATEGORIES:Entry,Standard
COLOR:darkgreen
DESCRIPTION:Predmet: Dodatna poglavja iz matematike za fizike (FIZ-M1\, FI
 Z-M2)\, Vaje (V)\nLetniki: 1. letnik (Fizika\, 2. stopnja)\, 2. letnik (Fi
 zika\, 2. stopnja)\nIzvajalci: Blaž Jelenc\nProstor: F5
LOCATION:F5
ORGANIZER:Blaž Jelenc
RELATED-TO:fmf-AFLABS-URNIK:srecanje:3290
X-WR-TIMEZONE:Europe/Ljubljana
END:VEVENT
BEGIN:VEVENT
SUMMARY:Dodatna poglavja iz matematike za fizike (FIZ-M1\, FIZ-M2)\, Vaje 
 (V)
DTSTART;TZID=Europe/Ljubljana:20191101T140000
DTEND;TZID=Europe/Ljubljana:20191101T160000
DTSTAMP:20260424T203319Z
UID:fmf-AFLABS-URNIK:premaknjeno-srecanje:17236
ATTENDEE:1. letnik (Fizika, 2. stopnja)
ATTENDEE:2. letnik (Fizika, 2. stopnja)
CATEGORIES:Entry,Standard
COLOR:darkgreen
DESCRIPTION:Predmet: Dodatna poglavja iz matematike za fizike (FIZ-M1\, FI
 Z-M2)\, Vaje (V)\nLetniki: 1. letnik (Fizika\, 2. stopnja)\, 2. letnik (Fi
 zika\, 2. stopnja)\nIzvajalci: Blaž Jelenc\nProstor: F5
LOCATION:F5
ORGANIZER:Blaž Jelenc
RELATED-TO:fmf-AFLABS-URNIK:srecanje:3290
X-WR-TIMEZONE:Europe/Ljubljana
END:VEVENT
BEGIN:VEVENT
SUMMARY:Matematika I (FIZ-1)\, Vaje (V)\, [1]
DTSTART;TZID=Europe/Ljubljana:20191004T080000
DTEND;TZID=Europe/Ljubljana:20191004T100000
DTSTAMP:20260424T203319Z
UID:fmf-AFLABS-URNIK:premaknjeno-srecanje:64777
ATTENDEE:1. letnik (Fizika, 1. stopnja)
CATEGORIES:Entry,Standard
COLOR:darkgreen
DESCRIPTION:Predmet: Matematika I (FIZ-1)\, Vaje (V)\, [1]\nLetniki: 1. le
 tnik (Fizika\, 1. stopnja)\nIzvajalci: Blaž Jelenc\nProstor: F1
LOCATION:F1
ORGANIZER:Blaž Jelenc
RELATED-TO:fmf-AFLABS-URNIK:srecanje:3553
X-WR-TIMEZONE:Europe/Ljubljana
END:VEVENT
BEGIN:VEVENT
SUMMARY:Matematika I (FIZ-1)\, Vaje (V)\, [1]
DTSTART;TZID=Europe/Ljubljana:20191011T080000
DTEND;TZID=Europe/Ljubljana:20191011T100000
DTSTAMP:20260424T203319Z
UID:fmf-AFLABS-URNIK:premaknjeno-srecanje:64778
ATTENDEE:1. letnik (Fizika, 1. stopnja)
CATEGORIES:Entry,Standard
COLOR:darkgreen
DESCRIPTION:Predmet: Matematika I (FIZ-1)\, Vaje (V)\, [1]\nLetniki: 1. le
 tnik (Fizika\, 1. stopnja)\nIzvajalci: Blaž Jelenc\nProstor: F1
LOCATION:F1
ORGANIZER:Blaž Jelenc
RELATED-TO:fmf-AFLABS-URNIK:srecanje:3553
X-WR-TIMEZONE:Europe/Ljubljana
END:VEVENT
BEGIN:VEVENT
SUMMARY:Matematika I (FIZ-1)\, Vaje (V)\, [1]
DTSTART;TZID=Europe/Ljubljana:20191018T080000
DTEND;TZID=Europe/Ljubljana:20191018T100000
DTSTAMP:20260424T203319Z
UID:fmf-AFLABS-URNIK:premaknjeno-srecanje:64779
ATTENDEE:1. letnik (Fizika, 1. stopnja)
CATEGORIES:Entry,Standard
COLOR:darkgreen
DESCRIPTION:Predmet: Matematika I (FIZ-1)\, Vaje (V)\, [1]\nLetniki: 1. le
 tnik (Fizika\, 1. stopnja)\nIzvajalci: Blaž Jelenc\nProstor: F1
LOCATION:F1
ORGANIZER:Blaž Jelenc
RELATED-TO:fmf-AFLABS-URNIK:srecanje:3553
X-WR-TIMEZONE:Europe/Ljubljana
END:VEVENT
BEGIN:VEVENT
SUMMARY:Matematika I (FIZ-1)\, Vaje (V)\, [1]
DTSTART;TZID=Europe/Ljubljana:20191025T080000
DTEND;TZID=Europe/Ljubljana:20191025T100000
DTSTAMP:20260424T203319Z
UID:fmf-AFLABS-URNIK:premaknjeno-srecanje:64780
ATTENDEE:1. letnik (Fizika, 1. stopnja)
CATEGORIES:Entry,Standard
COLOR:darkgreen
DESCRIPTION:Predmet: Matematika I (FIZ-1)\, Vaje (V)\, [1]\nLetniki: 1. le
 tnik (Fizika\, 1. stopnja)\nIzvajalci: Blaž Jelenc\nProstor: F1
LOCATION:F1
ORGANIZER:Blaž Jelenc
RELATED-TO:fmf-AFLABS-URNIK:srecanje:3553
X-WR-TIMEZONE:Europe/Ljubljana
END:VEVENT
BEGIN:VEVENT
SUMMARY:Matematika I (FIZ-1)\, Vaje (V)\, [1]
DTSTART;TZID=Europe/Ljubljana:20191101T080000
DTEND;TZID=Europe/Ljubljana:20191101T100000
DTSTAMP:20260424T203319Z
UID:fmf-AFLABS-URNIK:premaknjeno-srecanje:64781
ATTENDEE:1. letnik (Fizika, 1. stopnja)
CATEGORIES:Entry,Standard
COLOR:darkgreen
DESCRIPTION:Predmet: Matematika I (FIZ-1)\, Vaje (V)\, [1]\nLetniki: 1. le
 tnik (Fizika\, 1. stopnja)\nIzvajalci: Blaž Jelenc\nProstor: F1
LOCATION:F1
ORGANIZER:Blaž Jelenc
RELATED-TO:fmf-AFLABS-URNIK:srecanje:3553
X-WR-TIMEZONE:Europe/Ljubljana
END:VEVENT
BEGIN:VEVENT
SUMMARY:Analiza 3 (FM-2)\, Vaje (V)
DTSTART;TZID=Europe/Ljubljana:20191007T120000
DTEND;TZID=Europe/Ljubljana:20191007T140000
DTSTAMP:20260424T203319Z
UID:fmf-AFLABS-URNIK:premaknjeno-srecanje:8457
ATTENDEE:2. letnik (FM)
CATEGORIES:Entry,Standard
COLOR:darkgreen
DESCRIPTION:Predmet: Analiza 3 (FM-2)\, Vaje (V)\nLetniki: 2. letnik (FM)\
 nIzvajalci: Blaž Jelenc\nProstor: F2
LOCATION:F2
ORGANIZER:Blaž Jelenc
RELATED-TO:fmf-AFLABS-URNIK:srecanje:3254
X-WR-TIMEZONE:Europe/Ljubljana
END:VEVENT
BEGIN:VEVENT
SUMMARY:Analiza 3 (FM-2)\, Vaje (V)
DTSTART;TZID=Europe/Ljubljana:20191014T120000
DTEND;TZID=Europe/Ljubljana:20191014T140000
DTSTAMP:20260424T203319Z
UID:fmf-AFLABS-URNIK:premaknjeno-srecanje:8458
ATTENDEE:2. letnik (FM)
CATEGORIES:Entry,Standard
COLOR:darkgreen
DESCRIPTION:Predmet: Analiza 3 (FM-2)\, Vaje (V)\nLetniki: 2. letnik (FM)\
 nIzvajalci: Blaž Jelenc\nProstor: F2
LOCATION:F2
ORGANIZER:Blaž Jelenc
RELATED-TO:fmf-AFLABS-URNIK:srecanje:3254
X-WR-TIMEZONE:Europe/Ljubljana
END:VEVENT
BEGIN:VEVENT
SUMMARY:Analiza 3 (FM-2)\, Vaje (V)
DTSTART;TZID=Europe/Ljubljana:20191021T120000
DTEND;TZID=Europe/Ljubljana:20191021T140000
DTSTAMP:20260424T203319Z
UID:fmf-AFLABS-URNIK:premaknjeno-srecanje:8459
ATTENDEE:2. letnik (FM)
CATEGORIES:Entry,Standard
COLOR:darkgreen
DESCRIPTION:Predmet: Analiza 3 (FM-2)\, Vaje (V)\nLetniki: 2. letnik (FM)\
 nIzvajalci: Blaž Jelenc\nProstor: F2
LOCATION:F2
ORGANIZER:Blaž Jelenc
RELATED-TO:fmf-AFLABS-URNIK:srecanje:3254
X-WR-TIMEZONE:Europe/Ljubljana
END:VEVENT
BEGIN:VEVENT
SUMMARY:Analiza 3 (FM-2)\, Vaje (V)
DTSTART;TZID=Europe/Ljubljana:20191028T120000
DTEND;TZID=Europe/Ljubljana:20191028T140000
DTSTAMP:20260424T203319Z
UID:fmf-AFLABS-URNIK:premaknjeno-srecanje:8460
ATTENDEE:2. letnik (FM)
CATEGORIES:Entry,Standard
COLOR:darkgreen
DESCRIPTION:Predmet: Analiza 3 (FM-2)\, Vaje (V)\nLetniki: 2. letnik (FM)\
 nIzvajalci: Blaž Jelenc\nProstor: F2
LOCATION:F2
ORGANIZER:Blaž Jelenc
RELATED-TO:fmf-AFLABS-URNIK:srecanje:3254
X-WR-TIMEZONE:Europe/Ljubljana
END:VEVENT
BEGIN:VEVENT
SUMMARY:Analiza 3 (FM-2)\, Vaje (V)
DTSTART;TZID=Europe/Ljubljana:20191104T120000
DTEND;TZID=Europe/Ljubljana:20191104T140000
DTSTAMP:20260424T203319Z
UID:fmf-AFLABS-URNIK:premaknjeno-srecanje:8461
ATTENDEE:2. letnik (FM)
CATEGORIES:Entry,Standard
COLOR:darkgreen
DESCRIPTION:Predmet: Analiza 3 (FM-2)\, Vaje (V)\nLetniki: 2. letnik (FM)\
 nIzvajalci: Blaž Jelenc\nProstor: F2
LOCATION:F2
ORGANIZER:Blaž Jelenc
RELATED-TO:fmf-AFLABS-URNIK:srecanje:3254
X-WR-TIMEZONE:Europe/Ljubljana
END:VEVENT
BEGIN:VEVENT
SUMMARY:Rezervacija
DTSTART;TZID=Europe/Ljubljana:20190826T100000
DTEND;TZID=Europe/Ljubljana:20190826T120000
DTSTAMP:20260424T203319Z
UID:fmf-AFLABS-URNIK:rezervacija:3985
CATEGORIES:Reservation
COLOR:royalblue
DESCRIPTION:Predmeti: \nLetniki: \nIzvajalci: Blaž Jelenc\nProstori: 2.01
 \, 2.05
LOCATION:2.01\, 2.05
ORGANIZER:Blaž Jelenc
X-WR-TIMEZONE:Europe/Ljubljana
END:VEVENT
BEGIN:VEVENT
SUMMARY:Rezervacija
DTSTART;TZID=Europe/Ljubljana:20190909T100000
DTEND;TZID=Europe/Ljubljana:20190909T120000
DTSTAMP:20260424T203319Z
UID:fmf-AFLABS-URNIK:rezervacija:4194
CATEGORIES:Reservation
COLOR:royalblue
DESCRIPTION:Predmeti: \nLetniki: \nIzvajalci: Blaž Jelenc\, Marko Kandić
 \nProstori: 2.03\, 2.05
LOCATION:2.03\, 2.05
ORGANIZER:Blaž Jelenc, Marko Kandić
X-WR-TIMEZONE:Europe/Ljubljana
END:VEVENT
BEGIN:VEVENT
SUMMARY:Rezervacija
DTSTART;TZID=Europe/Ljubljana:20190910T140000
DTEND;TZID=Europe/Ljubljana:20190910T160000
DTSTAMP:20260424T203319Z
UID:fmf-AFLABS-URNIK:rezervacija:4226
CATEGORIES:Reservation
COLOR:royalblue
DESCRIPTION:Predmeti: \nLetniki: \nIzvajalci: Blaž Jelenc\nProstori: 2.05
LOCATION:2.05
ORGANIZER:Blaž Jelenc
X-WR-TIMEZONE:Europe/Ljubljana
END:VEVENT
END:VCALENDAR
