BEGIN:VCALENDAR
VERSION:2.0
PRODID:-//AFLabs urnik izvoz - fmf//aflabs.si//SI
DTSTAMP:20260421T032853Z
NAME:UL FMF urnik
REFRESH-INTERVAL:PT1H
SOURCE:https://urnik.fmf.uni-lj.si/teacher/145?day=2022-01-24&export=1
URL:https://urnik.fmf.uni-lj.si/teacher/145?day=2022-01-24&export=1
X-PUBLISHED-TTL:PT1H
X-WR-CALNAME:UL FMF urnik
X-WR-TIMEZONE:Europe/Ljubljana
BEGIN:VTIMEZONE
TZID:Europe/Ljubljana
BEGIN:DAYLIGHT
DTSTART:20260329T020000
RDATE:20260329T020000
RDATE:20270328T020000
TZNAME:CEST
TZOFFSETFROM:+0100
TZOFFSETTO:+0200
END:DAYLIGHT
BEGIN:STANDARD
DTSTART:20261025T030000
RDATE:20261025T030000
RDATE:20271031T030000
TZNAME:CET
TZOFFSETFROM:+0200
TZOFFSETTO:+0100
END:STANDARD
END:VTIMEZONE
BEGIN:VEVENT
SUMMARY:Analiza 3 (FM-2)\, Vaje (V)\, [2]
DTSTART;TZID=Europe/Ljubljana:20211220T120000
DTEND;TZID=Europe/Ljubljana:20211220T140000
DTSTAMP:20260421T032853Z
UID:fmf-AFLABS-URNIK:premaknjeno-srecanje:8859
ATTENDEE:2. letnik (FM)
CATEGORIES:Entry,Standard
COLOR:darkgreen
DESCRIPTION:Predmet: Analiza 3 (FM-2)\, Vaje (V)\, [2]\nLetniki: 2. letnik
  (FM)\nIzvajalci: Blaž Jelenc\nProstor: F2
LOCATION:F2
ORGANIZER:Blaž Jelenc
RELATED-TO:fmf-AFLABS-URNIK:srecanje:6129
X-WR-TIMEZONE:Europe/Ljubljana
END:VEVENT
BEGIN:VEVENT
SUMMARY:Analiza 3 (FM-2)\, Vaje (V)\, [2]
DTSTART;TZID=Europe/Ljubljana:20211227T120000
DTEND;TZID=Europe/Ljubljana:20211227T140000
DTSTAMP:20260421T032853Z
UID:fmf-AFLABS-URNIK:premaknjeno-srecanje:8860
ATTENDEE:2. letnik (FM)
CATEGORIES:Entry,Standard
COLOR:darkgreen
DESCRIPTION:Predmet: Analiza 3 (FM-2)\, Vaje (V)\, [2]\nLetniki: 2. letnik
  (FM)\nIzvajalci: Blaž Jelenc\nProstor: F2
LOCATION:F2
ORGANIZER:Blaž Jelenc
RELATED-TO:fmf-AFLABS-URNIK:srecanje:6129
X-WR-TIMEZONE:Europe/Ljubljana
END:VEVENT
BEGIN:VEVENT
SUMMARY:Analiza 3 (FM-2)\, Vaje (V)\, [2]
DTSTART;TZID=Europe/Ljubljana:20220103T120000
DTEND;TZID=Europe/Ljubljana:20220103T140000
DTSTAMP:20260421T032853Z
UID:fmf-AFLABS-URNIK:premaknjeno-srecanje:8861
ATTENDEE:2. letnik (FM)
CATEGORIES:Entry,Standard
COLOR:darkgreen
DESCRIPTION:Predmet: Analiza 3 (FM-2)\, Vaje (V)\, [2]\nLetniki: 2. letnik
  (FM)\nIzvajalci: Blaž Jelenc\nProstor: F2
LOCATION:F2
ORGANIZER:Blaž Jelenc
RELATED-TO:fmf-AFLABS-URNIK:srecanje:6129
X-WR-TIMEZONE:Europe/Ljubljana
END:VEVENT
BEGIN:VEVENT
SUMMARY:Analiza 3 (FM-2)\, Vaje (V)\, [2]
DTSTART;TZID=Europe/Ljubljana:20220110T120000
DTEND;TZID=Europe/Ljubljana:20220110T140000
DTSTAMP:20260421T032853Z
UID:fmf-AFLABS-URNIK:premaknjeno-srecanje:8862
ATTENDEE:2. letnik (FM)
CATEGORIES:Entry,Standard
COLOR:darkgreen
DESCRIPTION:Predmet: Analiza 3 (FM-2)\, Vaje (V)\, [2]\nLetniki: 2. letnik
  (FM)\nIzvajalci: Blaž Jelenc\nProstor: F2
LOCATION:F2
ORGANIZER:Blaž Jelenc
RELATED-TO:fmf-AFLABS-URNIK:srecanje:6129
X-WR-TIMEZONE:Europe/Ljubljana
END:VEVENT
BEGIN:VEVENT
SUMMARY:Linearna algebra (APM-1)\, Vaje (V)
DTSTART;TZID=Europe/Ljubljana:20211221T110000
DTEND;TZID=Europe/Ljubljana:20211221T140000
DTSTAMP:20260421T032853Z
UID:fmf-AFLABS-URNIK:premaknjeno-srecanje:57474
ATTENDEE:1. letnik (APM)
CATEGORIES:Entry,Standard
COLOR:darkgreen
DESCRIPTION:Predmet: Linearna algebra (APM-1)\, Vaje (V)\nLetniki: 1. letn
 ik (APM)\nIzvajalci: Blaž Jelenc\nProstor: P.02
LOCATION:P.02
ORGANIZER:Blaž Jelenc
RELATED-TO:fmf-AFLABS-URNIK:srecanje:6369
X-WR-TIMEZONE:Europe/Ljubljana
END:VEVENT
BEGIN:VEVENT
SUMMARY:Linearna algebra (APM-1)\, Vaje (V)
DTSTART;TZID=Europe/Ljubljana:20211228T110000
DTEND;TZID=Europe/Ljubljana:20211228T140000
DTSTAMP:20260421T032853Z
UID:fmf-AFLABS-URNIK:premaknjeno-srecanje:57475
ATTENDEE:1. letnik (APM)
CATEGORIES:Entry,Standard
COLOR:darkgreen
DESCRIPTION:Predmet: Linearna algebra (APM-1)\, Vaje (V)\nLetniki: 1. letn
 ik (APM)\nIzvajalci: Blaž Jelenc\nProstor: P.02
LOCATION:P.02
ORGANIZER:Blaž Jelenc
RELATED-TO:fmf-AFLABS-URNIK:srecanje:6369
X-WR-TIMEZONE:Europe/Ljubljana
END:VEVENT
BEGIN:VEVENT
SUMMARY:Linearna algebra (APM-1)\, Vaje (V)
DTSTART;TZID=Europe/Ljubljana:20220104T110000
DTEND;TZID=Europe/Ljubljana:20220104T140000
DTSTAMP:20260421T032853Z
UID:fmf-AFLABS-URNIK:premaknjeno-srecanje:57476
ATTENDEE:1. letnik (APM)
CATEGORIES:Entry,Standard
COLOR:darkgreen
DESCRIPTION:Predmet: Linearna algebra (APM-1)\, Vaje (V)\nLetniki: 1. letn
 ik (APM)\nIzvajalci: Blaž Jelenc\nProstor: P.02
LOCATION:P.02
ORGANIZER:Blaž Jelenc
RELATED-TO:fmf-AFLABS-URNIK:srecanje:6369
X-WR-TIMEZONE:Europe/Ljubljana
END:VEVENT
BEGIN:VEVENT
SUMMARY:Linearna algebra (APM-1)\, Vaje (V)
DTSTART;TZID=Europe/Ljubljana:20220111T110000
DTEND;TZID=Europe/Ljubljana:20220111T140000
DTSTAMP:20260421T032853Z
UID:fmf-AFLABS-URNIK:premaknjeno-srecanje:57477
ATTENDEE:1. letnik (APM)
CATEGORIES:Entry,Standard
COLOR:darkgreen
DESCRIPTION:Predmet: Linearna algebra (APM-1)\, Vaje (V)\nLetniki: 1. letn
 ik (APM)\nIzvajalci: Blaž Jelenc\nProstor: P.02
LOCATION:P.02
ORGANIZER:Blaž Jelenc
RELATED-TO:fmf-AFLABS-URNIK:srecanje:6369
X-WR-TIMEZONE:Europe/Ljubljana
END:VEVENT
BEGIN:VEVENT
SUMMARY:Matematika I (FIZ-1)\, Vaje (V)\, [1]
DTSTART;TZID=Europe/Ljubljana:20211223T100000
DTEND;TZID=Europe/Ljubljana:20211223T120000
DTSTAMP:20260421T032853Z
UID:fmf-AFLABS-URNIK:premaknjeno-srecanje:64741
ATTENDEE:1. letnik (Fizika, 1. stopnja)
CATEGORIES:Entry,Standard
COLOR:darkgreen
DESCRIPTION:Predmet: Matematika I (FIZ-1)\, Vaje (V)\, [1]\nLetniki: 1. le
 tnik (Fizika\, 1. stopnja)\nIzvajalci: Blaž Jelenc\nProstor: P.01
LOCATION:P.01
ORGANIZER:Blaž Jelenc
RELATED-TO:fmf-AFLABS-URNIK:srecanje:6411
X-WR-TIMEZONE:Europe/Ljubljana
END:VEVENT
BEGIN:VEVENT
SUMMARY:Matematika I (FIZ-1)\, Vaje (V)\, [1]
DTSTART;TZID=Europe/Ljubljana:20211230T100000
DTEND;TZID=Europe/Ljubljana:20211230T120000
DTSTAMP:20260421T032853Z
UID:fmf-AFLABS-URNIK:premaknjeno-srecanje:64742
ATTENDEE:1. letnik (Fizika, 1. stopnja)
CATEGORIES:Entry,Standard
COLOR:darkgreen
DESCRIPTION:Predmet: Matematika I (FIZ-1)\, Vaje (V)\, [1]\nLetniki: 1. le
 tnik (Fizika\, 1. stopnja)\nIzvajalci: Blaž Jelenc\nProstor: P.01
LOCATION:P.01
ORGANIZER:Blaž Jelenc
RELATED-TO:fmf-AFLABS-URNIK:srecanje:6411
X-WR-TIMEZONE:Europe/Ljubljana
END:VEVENT
BEGIN:VEVENT
SUMMARY:Matematika I (FIZ-1)\, Vaje (V)\, [1]
DTSTART;TZID=Europe/Ljubljana:20220106T100000
DTEND;TZID=Europe/Ljubljana:20220106T120000
DTSTAMP:20260421T032853Z
UID:fmf-AFLABS-URNIK:premaknjeno-srecanje:64743
ATTENDEE:1. letnik (Fizika, 1. stopnja)
CATEGORIES:Entry,Standard
COLOR:darkgreen
DESCRIPTION:Predmet: Matematika I (FIZ-1)\, Vaje (V)\, [1]\nLetniki: 1. le
 tnik (Fizika\, 1. stopnja)\nIzvajalci: Blaž Jelenc\nProstor: P.01
LOCATION:P.01
ORGANIZER:Blaž Jelenc
RELATED-TO:fmf-AFLABS-URNIK:srecanje:6411
X-WR-TIMEZONE:Europe/Ljubljana
END:VEVENT
BEGIN:VEVENT
SUMMARY:Matematika I (FIZ-1)\, Vaje (V)\, [1]
DTSTART;TZID=Europe/Ljubljana:20220113T100000
DTEND;TZID=Europe/Ljubljana:20220113T120000
DTSTAMP:20260421T032853Z
UID:fmf-AFLABS-URNIK:premaknjeno-srecanje:64744
ATTENDEE:1. letnik (Fizika, 1. stopnja)
CATEGORIES:Entry,Standard
COLOR:darkgreen
DESCRIPTION:Predmet: Matematika I (FIZ-1)\, Vaje (V)\, [1]\nLetniki: 1. le
 tnik (Fizika\, 1. stopnja)\nIzvajalci: Blaž Jelenc\nProstor: P.01
LOCATION:P.01
ORGANIZER:Blaž Jelenc
RELATED-TO:fmf-AFLABS-URNIK:srecanje:6411
X-WR-TIMEZONE:Europe/Ljubljana
END:VEVENT
BEGIN:VEVENT
SUMMARY:Matematika III (FIZ-2)\, Vaje (V)\, [2]
DTSTART;TZID=Europe/Ljubljana:20211223T120000
DTEND;TZID=Europe/Ljubljana:20211223T150000
DTSTAMP:20260421T032853Z
UID:fmf-AFLABS-URNIK:premaknjeno-srecanje:66509
ATTENDEE:2. letnik (Fizika, 1. stopnja)
CATEGORIES:Entry,Standard
COLOR:darkgreen
DESCRIPTION:Predmet: Matematika III (FIZ-2)\, Vaje (V)\, [2]\nLetniki: 2. 
 letnik (Fizika\, 1. stopnja)\nIzvajalci: Blaž Jelenc\nProstor: P.01
LOCATION:P.01
ORGANIZER:Blaž Jelenc
RELATED-TO:fmf-AFLABS-URNIK:srecanje:6423
X-WR-TIMEZONE:Europe/Ljubljana
END:VEVENT
BEGIN:VEVENT
SUMMARY:Matematika III (FIZ-2)\, Vaje (V)\, [2]
DTSTART;TZID=Europe/Ljubljana:20211230T120000
DTEND;TZID=Europe/Ljubljana:20211230T150000
DTSTAMP:20260421T032853Z
UID:fmf-AFLABS-URNIK:premaknjeno-srecanje:66510
ATTENDEE:2. letnik (Fizika, 1. stopnja)
CATEGORIES:Entry,Standard
COLOR:darkgreen
DESCRIPTION:Predmet: Matematika III (FIZ-2)\, Vaje (V)\, [2]\nLetniki: 2. 
 letnik (Fizika\, 1. stopnja)\nIzvajalci: Blaž Jelenc\nProstor: P.01
LOCATION:P.01
ORGANIZER:Blaž Jelenc
RELATED-TO:fmf-AFLABS-URNIK:srecanje:6423
X-WR-TIMEZONE:Europe/Ljubljana
END:VEVENT
BEGIN:VEVENT
SUMMARY:Matematika III (FIZ-2)\, Vaje (V)\, [2]
DTSTART;TZID=Europe/Ljubljana:20220106T120000
DTEND;TZID=Europe/Ljubljana:20220106T150000
DTSTAMP:20260421T032853Z
UID:fmf-AFLABS-URNIK:premaknjeno-srecanje:66511
ATTENDEE:2. letnik (Fizika, 1. stopnja)
CATEGORIES:Entry,Standard
COLOR:darkgreen
DESCRIPTION:Predmet: Matematika III (FIZ-2)\, Vaje (V)\, [2]\nLetniki: 2. 
 letnik (Fizika\, 1. stopnja)\nIzvajalci: Blaž Jelenc\nProstor: P.01
LOCATION:P.01
ORGANIZER:Blaž Jelenc
RELATED-TO:fmf-AFLABS-URNIK:srecanje:6423
X-WR-TIMEZONE:Europe/Ljubljana
END:VEVENT
BEGIN:VEVENT
SUMMARY:Matematika III (FIZ-2)\, Vaje (V)\, [2]
DTSTART;TZID=Europe/Ljubljana:20220113T120000
DTEND;TZID=Europe/Ljubljana:20220113T150000
DTSTAMP:20260421T032853Z
UID:fmf-AFLABS-URNIK:premaknjeno-srecanje:66512
ATTENDEE:2. letnik (Fizika, 1. stopnja)
CATEGORIES:Entry,Standard
COLOR:darkgreen
DESCRIPTION:Predmet: Matematika III (FIZ-2)\, Vaje (V)\, [2]\nLetniki: 2. 
 letnik (Fizika\, 1. stopnja)\nIzvajalci: Blaž Jelenc\nProstor: P.01
LOCATION:P.01
ORGANIZER:Blaž Jelenc
RELATED-TO:fmf-AFLABS-URNIK:srecanje:6423
X-WR-TIMEZONE:Europe/Ljubljana
END:VEVENT
BEGIN:VEVENT
SUMMARY:Analiza 3 (FM-2)\, Vaje (V)\, [2]
DTSTART;TZID=Europe/Ljubljana:20211224T120000
DTEND;TZID=Europe/Ljubljana:20211224T140000
DTSTAMP:20260421T032853Z
UID:fmf-AFLABS-URNIK:premaknjeno-srecanje:8875
ATTENDEE:2. letnik (FM)
CATEGORIES:Entry,Standard
COLOR:darkgreen
DESCRIPTION:Predmet: Analiza 3 (FM-2)\, Vaje (V)\, [2]\nLetniki: 2. letnik
  (FM)\nIzvajalci: Blaž Jelenc\nProstor: P.02
LOCATION:P.02
ORGANIZER:Blaž Jelenc
RELATED-TO:fmf-AFLABS-URNIK:srecanje:6132
X-WR-TIMEZONE:Europe/Ljubljana
END:VEVENT
BEGIN:VEVENT
SUMMARY:Analiza 3 (FM-2)\, Vaje (V)\, [2]
DTSTART;TZID=Europe/Ljubljana:20211231T120000
DTEND;TZID=Europe/Ljubljana:20211231T140000
DTSTAMP:20260421T032853Z
UID:fmf-AFLABS-URNIK:premaknjeno-srecanje:8876
ATTENDEE:2. letnik (FM)
CATEGORIES:Entry,Standard
COLOR:darkgreen
DESCRIPTION:Predmet: Analiza 3 (FM-2)\, Vaje (V)\, [2]\nLetniki: 2. letnik
  (FM)\nIzvajalci: Blaž Jelenc\nProstor: P.02
LOCATION:P.02
ORGANIZER:Blaž Jelenc
RELATED-TO:fmf-AFLABS-URNIK:srecanje:6132
X-WR-TIMEZONE:Europe/Ljubljana
END:VEVENT
BEGIN:VEVENT
SUMMARY:Analiza 3 (FM-2)\, Vaje (V)\, [2]
DTSTART;TZID=Europe/Ljubljana:20220107T120000
DTEND;TZID=Europe/Ljubljana:20220107T140000
DTSTAMP:20260421T032853Z
UID:fmf-AFLABS-URNIK:premaknjeno-srecanje:8877
ATTENDEE:2. letnik (FM)
CATEGORIES:Entry,Standard
COLOR:darkgreen
DESCRIPTION:Predmet: Analiza 3 (FM-2)\, Vaje (V)\, [2]\nLetniki: 2. letnik
  (FM)\nIzvajalci: Blaž Jelenc\nProstor: P.02
LOCATION:P.02
ORGANIZER:Blaž Jelenc
RELATED-TO:fmf-AFLABS-URNIK:srecanje:6132
X-WR-TIMEZONE:Europe/Ljubljana
END:VEVENT
BEGIN:VEVENT
SUMMARY:Analiza 3 (FM-2)\, Vaje (V)\, [2]
DTSTART;TZID=Europe/Ljubljana:20220114T120000
DTEND;TZID=Europe/Ljubljana:20220114T140000
DTSTAMP:20260421T032853Z
UID:fmf-AFLABS-URNIK:premaknjeno-srecanje:8878
ATTENDEE:2. letnik (FM)
CATEGORIES:Entry,Standard
COLOR:darkgreen
DESCRIPTION:Predmet: Analiza 3 (FM-2)\, Vaje (V)\, [2]\nLetniki: 2. letnik
  (FM)\nIzvajalci: Blaž Jelenc\nProstor: P.02
LOCATION:P.02
ORGANIZER:Blaž Jelenc
RELATED-TO:fmf-AFLABS-URNIK:srecanje:6132
X-WR-TIMEZONE:Europe/Ljubljana
END:VEVENT
BEGIN:VEVENT
SUMMARY:Dodatna poglavja iz matematike za fizike (FIZ-M1\, FIZ-M2)\, Vaje 
 (V)
DTSTART;TZID=Europe/Ljubljana:20211224T140000
DTEND;TZID=Europe/Ljubljana:20211224T160000
DTSTAMP:20260421T032853Z
UID:fmf-AFLABS-URNIK:premaknjeno-srecanje:17260
ATTENDEE:1. letnik (Fizika, 2. stopnja)
ATTENDEE:2. letnik (Fizika, 2. stopnja)
CATEGORIES:Entry,Standard
COLOR:darkgreen
DESCRIPTION:Predmet: Dodatna poglavja iz matematike za fizike (FIZ-M1\, FI
 Z-M2)\, Vaje (V)\nLetniki: 1. letnik (Fizika\, 2. stopnja)\, 2. letnik (Fi
 zika\, 2. stopnja)\nIzvajalci: Blaž Jelenc\nProstor: P.01
LOCATION:P.01
ORGANIZER:Blaž Jelenc
RELATED-TO:fmf-AFLABS-URNIK:srecanje:6169
X-WR-TIMEZONE:Europe/Ljubljana
END:VEVENT
BEGIN:VEVENT
SUMMARY:Dodatna poglavja iz matematike za fizike (FIZ-M1\, FIZ-M2)\, Vaje 
 (V)
DTSTART;TZID=Europe/Ljubljana:20211231T140000
DTEND;TZID=Europe/Ljubljana:20211231T160000
DTSTAMP:20260421T032853Z
UID:fmf-AFLABS-URNIK:premaknjeno-srecanje:17261
ATTENDEE:1. letnik (Fizika, 2. stopnja)
ATTENDEE:2. letnik (Fizika, 2. stopnja)
CATEGORIES:Entry,Standard
COLOR:darkgreen
DESCRIPTION:Predmet: Dodatna poglavja iz matematike za fizike (FIZ-M1\, FI
 Z-M2)\, Vaje (V)\nLetniki: 1. letnik (Fizika\, 2. stopnja)\, 2. letnik (Fi
 zika\, 2. stopnja)\nIzvajalci: Blaž Jelenc\nProstor: P.01
LOCATION:P.01
ORGANIZER:Blaž Jelenc
RELATED-TO:fmf-AFLABS-URNIK:srecanje:6169
X-WR-TIMEZONE:Europe/Ljubljana
END:VEVENT
BEGIN:VEVENT
SUMMARY:Dodatna poglavja iz matematike za fizike (FIZ-M1\, FIZ-M2)\, Vaje 
 (V)
DTSTART;TZID=Europe/Ljubljana:20220107T140000
DTEND;TZID=Europe/Ljubljana:20220107T160000
DTSTAMP:20260421T032853Z
UID:fmf-AFLABS-URNIK:premaknjeno-srecanje:17262
ATTENDEE:1. letnik (Fizika, 2. stopnja)
ATTENDEE:2. letnik (Fizika, 2. stopnja)
CATEGORIES:Entry,Standard
COLOR:darkgreen
DESCRIPTION:Predmet: Dodatna poglavja iz matematike za fizike (FIZ-M1\, FI
 Z-M2)\, Vaje (V)\nLetniki: 1. letnik (Fizika\, 2. stopnja)\, 2. letnik (Fi
 zika\, 2. stopnja)\nIzvajalci: Blaž Jelenc\nProstor: P.01
LOCATION:P.01
ORGANIZER:Blaž Jelenc
RELATED-TO:fmf-AFLABS-URNIK:srecanje:6169
X-WR-TIMEZONE:Europe/Ljubljana
END:VEVENT
BEGIN:VEVENT
SUMMARY:Dodatna poglavja iz matematike za fizike (FIZ-M1\, FIZ-M2)\, Vaje 
 (V)
DTSTART;TZID=Europe/Ljubljana:20220114T140000
DTEND;TZID=Europe/Ljubljana:20220114T160000
DTSTAMP:20260421T032853Z
UID:fmf-AFLABS-URNIK:premaknjeno-srecanje:17263
ATTENDEE:1. letnik (Fizika, 2. stopnja)
ATTENDEE:2. letnik (Fizika, 2. stopnja)
CATEGORIES:Entry,Standard
COLOR:darkgreen
DESCRIPTION:Predmet: Dodatna poglavja iz matematike za fizike (FIZ-M1\, FI
 Z-M2)\, Vaje (V)\nLetniki: 1. letnik (Fizika\, 2. stopnja)\, 2. letnik (Fi
 zika\, 2. stopnja)\nIzvajalci: Blaž Jelenc\nProstor: P.01
LOCATION:P.01
ORGANIZER:Blaž Jelenc
RELATED-TO:fmf-AFLABS-URNIK:srecanje:6169
X-WR-TIMEZONE:Europe/Ljubljana
END:VEVENT
BEGIN:VEVENT
SUMMARY:Matematika I (FIZ-1)\, Vaje (V)\, [1]
DTSTART;TZID=Europe/Ljubljana:20211224T080000
DTEND;TZID=Europe/Ljubljana:20211224T100000
DTSTAMP:20260421T032853Z
UID:fmf-AFLABS-URNIK:premaknjeno-srecanje:64821
ATTENDEE:1. letnik (Fizika, 1. stopnja)
CATEGORIES:Entry,Standard
COLOR:darkgreen
DESCRIPTION:Predmet: Matematika I (FIZ-1)\, Vaje (V)\, [1]\nLetniki: 1. le
 tnik (Fizika\, 1. stopnja)\nIzvajalci: Blaž Jelenc\nProstor: F1
LOCATION:F1
ORGANIZER:Blaž Jelenc
RELATED-TO:fmf-AFLABS-URNIK:srecanje:6412
X-WR-TIMEZONE:Europe/Ljubljana
END:VEVENT
BEGIN:VEVENT
SUMMARY:Matematika I (FIZ-1)\, Vaje (V)\, [1]
DTSTART;TZID=Europe/Ljubljana:20211231T080000
DTEND;TZID=Europe/Ljubljana:20211231T100000
DTSTAMP:20260421T032853Z
UID:fmf-AFLABS-URNIK:premaknjeno-srecanje:64822
ATTENDEE:1. letnik (Fizika, 1. stopnja)
CATEGORIES:Entry,Standard
COLOR:darkgreen
DESCRIPTION:Predmet: Matematika I (FIZ-1)\, Vaje (V)\, [1]\nLetniki: 1. le
 tnik (Fizika\, 1. stopnja)\nIzvajalci: Blaž Jelenc\nProstor: F1
LOCATION:F1
ORGANIZER:Blaž Jelenc
RELATED-TO:fmf-AFLABS-URNIK:srecanje:6412
X-WR-TIMEZONE:Europe/Ljubljana
END:VEVENT
BEGIN:VEVENT
SUMMARY:Matematika I (FIZ-1)\, Vaje (V)\, [1]
DTSTART;TZID=Europe/Ljubljana:20220107T080000
DTEND;TZID=Europe/Ljubljana:20220107T100000
DTSTAMP:20260421T032853Z
UID:fmf-AFLABS-URNIK:premaknjeno-srecanje:64823
ATTENDEE:1. letnik (Fizika, 1. stopnja)
CATEGORIES:Entry,Standard
COLOR:darkgreen
DESCRIPTION:Predmet: Matematika I (FIZ-1)\, Vaje (V)\, [1]\nLetniki: 1. le
 tnik (Fizika\, 1. stopnja)\nIzvajalci: Blaž Jelenc\nProstor: F1
LOCATION:F1
ORGANIZER:Blaž Jelenc
RELATED-TO:fmf-AFLABS-URNIK:srecanje:6412
X-WR-TIMEZONE:Europe/Ljubljana
END:VEVENT
BEGIN:VEVENT
SUMMARY:Matematika I (FIZ-1)\, Vaje (V)\, [1]
DTSTART;TZID=Europe/Ljubljana:20220114T080000
DTEND;TZID=Europe/Ljubljana:20220114T100000
DTSTAMP:20260421T032853Z
UID:fmf-AFLABS-URNIK:premaknjeno-srecanje:64824
ATTENDEE:1. letnik (Fizika, 1. stopnja)
CATEGORIES:Entry,Standard
COLOR:darkgreen
DESCRIPTION:Predmet: Matematika I (FIZ-1)\, Vaje (V)\, [1]\nLetniki: 1. le
 tnik (Fizika\, 1. stopnja)\nIzvajalci: Blaž Jelenc\nProstor: F1
LOCATION:F1
ORGANIZER:Blaž Jelenc
RELATED-TO:fmf-AFLABS-URNIK:srecanje:6412
X-WR-TIMEZONE:Europe/Ljubljana
END:VEVENT
BEGIN:VEVENT
SUMMARY:Linearna algebra (APM-1)\, Vaje (V)
DTSTART;TZID=Europe/Ljubljana:20220215T100000
DTEND;TZID=Europe/Ljubljana:20220215T120000
DTSTAMP:20260421T032853Z
UID:fmf-AFLABS-URNIK:premaknjeno-srecanje:57354
ATTENDEE:1. letnik (APM)
CATEGORIES:Entry,Standard
COLOR:darkgreen
DESCRIPTION:Predmet: Linearna algebra (APM-1)\, Vaje (V)\nLetniki: 1. letn
 ik (APM)\nIzvajalci: Blaž Jelenc\nProstor: P.01
LOCATION:P.01
ORGANIZER:Blaž Jelenc
RELATED-TO:fmf-AFLABS-URNIK:srecanje:7071
X-WR-TIMEZONE:Europe/Ljubljana
END:VEVENT
BEGIN:VEVENT
SUMMARY:Linearna algebra (APM-1)\, Vaje (V)
DTSTART;TZID=Europe/Ljubljana:20220222T100000
DTEND;TZID=Europe/Ljubljana:20220222T120000
DTSTAMP:20260421T032853Z
UID:fmf-AFLABS-URNIK:premaknjeno-srecanje:57355
ATTENDEE:1. letnik (APM)
CATEGORIES:Entry,Standard
COLOR:darkgreen
DESCRIPTION:Predmet: Linearna algebra (APM-1)\, Vaje (V)\nLetniki: 1. letn
 ik (APM)\nIzvajalci: Blaž Jelenc\nProstor: P.01
LOCATION:P.01
ORGANIZER:Blaž Jelenc
RELATED-TO:fmf-AFLABS-URNIK:srecanje:7071
X-WR-TIMEZONE:Europe/Ljubljana
END:VEVENT
BEGIN:VEVENT
SUMMARY:Linearna algebra (APM-1)\, Vaje (V)
DTSTART;TZID=Europe/Ljubljana:20220215T140000
DTEND;TZID=Europe/Ljubljana:20220215T150000
DTSTAMP:20260421T032853Z
UID:fmf-AFLABS-URNIK:premaknjeno-srecanje:57557
ATTENDEE:1. letnik (APM)
CATEGORIES:Entry,Standard
COLOR:darkgreen
DESCRIPTION:Predmet: Linearna algebra (APM-1)\, Vaje (V)\nLetniki: 1. letn
 ik (APM)\nIzvajalci: Blaž Jelenc\nProstor: 3.05
LOCATION:3.05
ORGANIZER:Blaž Jelenc
RELATED-TO:fmf-AFLABS-URNIK:srecanje:7070
X-WR-TIMEZONE:Europe/Ljubljana
END:VEVENT
BEGIN:VEVENT
SUMMARY:Linearna algebra (APM-1)\, Vaje (V)
DTSTART;TZID=Europe/Ljubljana:20220222T140000
DTEND;TZID=Europe/Ljubljana:20220222T150000
DTSTAMP:20260421T032853Z
UID:fmf-AFLABS-URNIK:premaknjeno-srecanje:57558
ATTENDEE:1. letnik (APM)
CATEGORIES:Entry,Standard
COLOR:darkgreen
DESCRIPTION:Predmet: Linearna algebra (APM-1)\, Vaje (V)\nLetniki: 1. letn
 ik (APM)\nIzvajalci: Blaž Jelenc\nProstor: 3.05
LOCATION:3.05
ORGANIZER:Blaž Jelenc
RELATED-TO:fmf-AFLABS-URNIK:srecanje:7070
X-WR-TIMEZONE:Europe/Ljubljana
END:VEVENT
BEGIN:VEVENT
SUMMARY:Matematika II (FIZ-1)\, Vaje (V)\, [2]
DTSTART;TZID=Europe/Ljubljana:20220215T080000
DTEND;TZID=Europe/Ljubljana:20220215T100000
DTSTAMP:20260421T032853Z
UID:fmf-AFLABS-URNIK:premaknjeno-srecanje:65416
ATTENDEE:1. letnik (Fizika, 1. stopnja)
CATEGORIES:Entry,Standard
COLOR:darkgreen
DESCRIPTION:Predmet: Matematika II (FIZ-1)\, Vaje (V)\, [2]\nLetniki: 1. l
 etnik (Fizika\, 1. stopnja)\nIzvajalci: Blaž Jelenc\nProstor: F2
LOCATION:F2
ORGANIZER:Blaž Jelenc
RELATED-TO:fmf-AFLABS-URNIK:srecanje:7096
X-WR-TIMEZONE:Europe/Ljubljana
END:VEVENT
BEGIN:VEVENT
SUMMARY:Matematika II (FIZ-1)\, Vaje (V)\, [2]
DTSTART;TZID=Europe/Ljubljana:20220222T080000
DTEND;TZID=Europe/Ljubljana:20220222T100000
DTSTAMP:20260421T032853Z
UID:fmf-AFLABS-URNIK:premaknjeno-srecanje:65417
ATTENDEE:1. letnik (Fizika, 1. stopnja)
CATEGORIES:Entry,Standard
COLOR:darkgreen
DESCRIPTION:Predmet: Matematika II (FIZ-1)\, Vaje (V)\, [2]\nLetniki: 1. l
 etnik (Fizika\, 1. stopnja)\nIzvajalci: Blaž Jelenc\nProstor: F2
LOCATION:F2
ORGANIZER:Blaž Jelenc
RELATED-TO:fmf-AFLABS-URNIK:srecanje:7096
X-WR-TIMEZONE:Europe/Ljubljana
END:VEVENT
BEGIN:VEVENT
SUMMARY:Analiza 2 (IŠRM-1)\, Vaje (V)
DTSTART;TZID=Europe/Ljubljana:20220217T090000
DTEND;TZID=Europe/Ljubljana:20220217T120000
DTSTAMP:20260421T032853Z
UID:fmf-AFLABS-URNIK:premaknjeno-srecanje:6757
ATTENDEE:1. letnik (IŠRM)
CATEGORIES:Entry,Standard
COLOR:darkgreen
DESCRIPTION:Predmet: Analiza 2 (IŠRM-1)\, Vaje (V)\nLetniki: 1. letnik (I
 ŠRM)\nIzvajalci: Blaž Jelenc\nProstor: 2.03
LOCATION:2.03
ORGANIZER:Blaž Jelenc
RELATED-TO:fmf-AFLABS-URNIK:srecanje:6844
X-WR-TIMEZONE:Europe/Ljubljana
END:VEVENT
BEGIN:VEVENT
SUMMARY:Analiza 2 (IŠRM-1)\, Vaje (V)
DTSTART;TZID=Europe/Ljubljana:20220224T090000
DTEND;TZID=Europe/Ljubljana:20220224T120000
DTSTAMP:20260421T032853Z
UID:fmf-AFLABS-URNIK:premaknjeno-srecanje:6758
ATTENDEE:1. letnik (IŠRM)
CATEGORIES:Entry,Standard
COLOR:darkgreen
DESCRIPTION:Predmet: Analiza 2 (IŠRM-1)\, Vaje (V)\nLetniki: 1. letnik (I
 ŠRM)\nIzvajalci: Blaž Jelenc\nProstor: 2.03
LOCATION:2.03
ORGANIZER:Blaž Jelenc
RELATED-TO:fmf-AFLABS-URNIK:srecanje:6844
X-WR-TIMEZONE:Europe/Ljubljana
END:VEVENT
BEGIN:VEVENT
SUMMARY:Rezervacija
DTSTART;TZID=Europe/Ljubljana:20211220T160000
DTEND;TZID=Europe/Ljubljana:20211220T180000
DTSTAMP:20260421T032853Z
UID:fmf-AFLABS-URNIK:rezervacija:8141
CATEGORIES:Reservation
COLOR:royalblue
DESCRIPTION:Predmeti: \nLetniki: \nIzvajalci: Blaž Jelenc\nProstori: 2.02
 \, 2.05
LOCATION:2.02\, 2.05
ORGANIZER:Blaž Jelenc
X-WR-TIMEZONE:Europe/Ljubljana
END:VEVENT
BEGIN:VEVENT
SUMMARY:Rezervacija
DTSTART;TZID=Europe/Ljubljana:20220112T160000
DTEND;TZID=Europe/Ljubljana:20220112T180000
DTSTAMP:20260421T032853Z
UID:fmf-AFLABS-URNIK:rezervacija:8226
CATEGORIES:Reservation
COLOR:royalblue
DESCRIPTION:Predmeti: \nLetniki: \nIzvajalci: Blaž Jelenc\nProstori: VFP
LOCATION:VFP
ORGANIZER:Blaž Jelenc
X-WR-TIMEZONE:Europe/Ljubljana
END:VEVENT
BEGIN:VEVENT
SUMMARY:Rezervacija
DTSTART;TZID=Europe/Ljubljana:20220117T160000
DTEND;TZID=Europe/Ljubljana:20220117T180000
DTSTAMP:20260421T032853Z
UID:fmf-AFLABS-URNIK:rezervacija:8279
CATEGORIES:Reservation
COLOR:royalblue
DESCRIPTION:Predmeti: \nLetniki: \nIzvajalci: Blaž Jelenc\nProstori: 2.02
 \, 2.05
LOCATION:2.02\, 2.05
ORGANIZER:Blaž Jelenc
X-WR-TIMEZONE:Europe/Ljubljana
END:VEVENT
BEGIN:VEVENT
SUMMARY:Rezervacija
DTSTART;TZID=Europe/Ljubljana:20220124T100000
DTEND;TZID=Europe/Ljubljana:20220124T120000
DTSTAMP:20260421T032853Z
UID:fmf-AFLABS-URNIK:rezervacija:8345
CATEGORIES:Reservation
COLOR:royalblue
DESCRIPTION:Predmeti: \nLetniki: \nIzvajalci: Blaž Jelenc\nProstori: VFP
LOCATION:VFP
ORGANIZER:Blaž Jelenc
X-WR-TIMEZONE:Europe/Ljubljana
END:VEVENT
BEGIN:VEVENT
SUMMARY:Rezervacija
DTSTART;TZID=Europe/Ljubljana:20220128T090000
DTEND;TZID=Europe/Ljubljana:20220128T110000
DTSTAMP:20260421T032853Z
UID:fmf-AFLABS-URNIK:rezervacija:8397
CATEGORIES:Reservation
COLOR:royalblue
DESCRIPTION:Predmeti: \nLetniki: \nIzvajalci: Blaž Jelenc\nProstori: 2.01
LOCATION:2.01
ORGANIZER:Blaž Jelenc
X-WR-TIMEZONE:Europe/Ljubljana
END:VEVENT
BEGIN:VEVENT
SUMMARY:Rezervacija
DTSTART;TZID=Europe/Ljubljana:20220128T090000
DTEND;TZID=Europe/Ljubljana:20220128T110000
DTSTAMP:20260421T032853Z
UID:fmf-AFLABS-URNIK:rezervacija:8398
CATEGORIES:Reservation
COLOR:royalblue
DESCRIPTION:Predmeti: \nLetniki: \nIzvajalci: Blaž Jelenc\nProstori: 2.04
LOCATION:2.04
ORGANIZER:Blaž Jelenc
X-WR-TIMEZONE:Europe/Ljubljana
END:VEVENT
BEGIN:VEVENT
SUMMARY:Rezervacija
DTSTART;TZID=Europe/Ljubljana:20220209T100000
DTEND;TZID=Europe/Ljubljana:20220209T120000
DTSTAMP:20260421T032853Z
UID:fmf-AFLABS-URNIK:rezervacija:8523
CATEGORIES:Reservation
COLOR:royalblue
DESCRIPTION:Predmeti: \nLetniki: \nIzvajalci: Blaž Jelenc\nProstori: VFP
LOCATION:VFP
ORGANIZER:Blaž Jelenc
X-WR-TIMEZONE:Europe/Ljubljana
END:VEVENT
END:VCALENDAR
