BEGIN:VCALENDAR
VERSION:2.0
PRODID:-//AFLabs urnik izvoz - fmf//aflabs.si//SI
DTSTAMP:20260421T030520Z
NAME:UL FMF urnik
REFRESH-INTERVAL:PT1H
SOURCE:https://urnik.fmf.uni-lj.si/teacher/145?day=2022-07-04&export=1
URL:https://urnik.fmf.uni-lj.si/teacher/145?day=2022-07-04&export=1
X-PUBLISHED-TTL:PT1H
X-WR-CALNAME:UL FMF urnik
X-WR-TIMEZONE:Europe/Ljubljana
BEGIN:VTIMEZONE
TZID:Europe/Ljubljana
BEGIN:DAYLIGHT
DTSTART:20260329T020000
RDATE:20260329T020000
RDATE:20270328T020000
TZNAME:CEST
TZOFFSETFROM:+0100
TZOFFSETTO:+0200
END:DAYLIGHT
BEGIN:STANDARD
DTSTART:20261025T030000
RDATE:20261025T030000
RDATE:20271031T030000
TZNAME:CET
TZOFFSETFROM:+0200
TZOFFSETTO:+0100
END:STANDARD
END:VTIMEZONE
BEGIN:VEVENT
SUMMARY:Linearna algebra (APM-1)\, Vaje (V)
DTSTART;TZID=Europe/Ljubljana:20220531T100000
DTEND;TZID=Europe/Ljubljana:20220531T120000
DTSTAMP:20260421T030520Z
UID:fmf-AFLABS-URNIK:premaknjeno-srecanje:57369
ATTENDEE:1. letnik (APM)
CATEGORIES:Entry,Standard
COLOR:darkgreen
DESCRIPTION:Predmet: Linearna algebra (APM-1)\, Vaje (V)\nLetniki: 1. letn
 ik (APM)\nIzvajalci: Blaž Jelenc\nProstor: P.01
LOCATION:P.01
ORGANIZER:Blaž Jelenc
RELATED-TO:fmf-AFLABS-URNIK:srecanje:7071
X-WR-TIMEZONE:Europe/Ljubljana
END:VEVENT
BEGIN:VEVENT
SUMMARY:Linearna algebra (APM-1)\, Vaje (V)
DTSTART;TZID=Europe/Ljubljana:20220531T140000
DTEND;TZID=Europe/Ljubljana:20220531T150000
DTSTAMP:20260421T030520Z
UID:fmf-AFLABS-URNIK:premaknjeno-srecanje:57572
ATTENDEE:1. letnik (APM)
CATEGORIES:Entry,Standard
COLOR:darkgreen
DESCRIPTION:Predmet: Linearna algebra (APM-1)\, Vaje (V)\nLetniki: 1. letn
 ik (APM)\nIzvajalci: Blaž Jelenc\nProstor: 3.05
LOCATION:3.05
ORGANIZER:Blaž Jelenc
RELATED-TO:fmf-AFLABS-URNIK:srecanje:7070
X-WR-TIMEZONE:Europe/Ljubljana
END:VEVENT
BEGIN:VEVENT
SUMMARY:Matematika II (FIZ-1)\, Vaje (V)\, [2]
DTSTART;TZID=Europe/Ljubljana:20220531T080000
DTEND;TZID=Europe/Ljubljana:20220531T100000
DTSTAMP:20260421T030520Z
UID:fmf-AFLABS-URNIK:premaknjeno-srecanje:65431
ATTENDEE:1. letnik (Fizika, 1. stopnja)
CATEGORIES:Entry,Standard
COLOR:darkgreen
DESCRIPTION:Predmet: Matematika II (FIZ-1)\, Vaje (V)\, [2]\nLetniki: 1. l
 etnik (Fizika\, 1. stopnja)\nIzvajalci: Blaž Jelenc\nProstor: F2
LOCATION:F2
ORGANIZER:Blaž Jelenc
RELATED-TO:fmf-AFLABS-URNIK:srecanje:7096
X-WR-TIMEZONE:Europe/Ljubljana
END:VEVENT
BEGIN:VEVENT
SUMMARY:Rezervacija
DTSTART;TZID=Europe/Ljubljana:20220601T090000
DTEND;TZID=Europe/Ljubljana:20220601T100000
DTSTAMP:20260421T030520Z
UID:fmf-AFLABS-URNIK:rezervacija:9133
CATEGORIES:Reservation
COLOR:royalblue
DESCRIPTION:Predmeti: \nLetniki: \nIzvajalci: Blaž Jelenc\nProstori: F1
LOCATION:F1
ORGANIZER:Blaž Jelenc
X-WR-TIMEZONE:Europe/Ljubljana
END:VEVENT
BEGIN:VEVENT
SUMMARY:Rezervacija
DTSTART;TZID=Europe/Ljubljana:20220603T160000
DTEND;TZID=Europe/Ljubljana:20220603T180000
DTSTAMP:20260421T030520Z
UID:fmf-AFLABS-URNIK:rezervacija:9178
CATEGORIES:Reservation
COLOR:royalblue
DESCRIPTION:Predmeti: \nLetniki: \nIzvajalci: Blaž Jelenc\nProstori: 2.05
LOCATION:2.05
ORGANIZER:Blaž Jelenc
X-WR-TIMEZONE:Europe/Ljubljana
END:VEVENT
BEGIN:VEVENT
SUMMARY:Rezervacija
DTSTART;TZID=Europe/Ljubljana:20220606T100000
DTEND;TZID=Europe/Ljubljana:20220606T120000
DTSTAMP:20260421T030520Z
UID:fmf-AFLABS-URNIK:rezervacija:9181
CATEGORIES:Reservation
COLOR:royalblue
DESCRIPTION:Predmeti: \nLetniki: \nIzvajalci: Blaž Jelenc\nProstori: VFP
LOCATION:VFP
ORGANIZER:Blaž Jelenc
X-WR-TIMEZONE:Europe/Ljubljana
END:VEVENT
BEGIN:VEVENT
SUMMARY:Rezervacija
DTSTART;TZID=Europe/Ljubljana:20220614T140000
DTEND;TZID=Europe/Ljubljana:20220614T160000
DTSTAMP:20260421T030520Z
UID:fmf-AFLABS-URNIK:rezervacija:9331
CATEGORIES:Reservation
COLOR:royalblue
DESCRIPTION:Predmeti: \nLetniki: \nIzvajalci: Blaž Jelenc\nProstori: 2.05
LOCATION:2.05
ORGANIZER:Blaž Jelenc
X-WR-TIMEZONE:Europe/Ljubljana
END:VEVENT
BEGIN:VEVENT
SUMMARY:Rezervacija
DTSTART;TZID=Europe/Ljubljana:20220622T100000
DTEND;TZID=Europe/Ljubljana:20220622T120000
DTSTAMP:20260421T030520Z
UID:fmf-AFLABS-URNIK:rezervacija:9458
CATEGORIES:Reservation
COLOR:royalblue
DESCRIPTION:Predmeti: \nLetniki: \nIzvajalci: Blaž Jelenc\nProstori: VFP
LOCATION:VFP
ORGANIZER:Blaž Jelenc
X-WR-TIMEZONE:Europe/Ljubljana
END:VEVENT
BEGIN:VEVENT
SUMMARY:Rezervacija
DTSTART;TZID=Europe/Ljubljana:20220624T120000
DTEND;TZID=Europe/Ljubljana:20220624T140000
DTSTAMP:20260421T030520Z
UID:fmf-AFLABS-URNIK:rezervacija:9512
CATEGORIES:Reservation
COLOR:royalblue
DESCRIPTION:Predmeti: \nLetniki: \nIzvajalci: Blaž Jelenc\nProstori: VFP
LOCATION:VFP
ORGANIZER:Blaž Jelenc
X-WR-TIMEZONE:Europe/Ljubljana
END:VEVENT
END:VCALENDAR
