BEGIN:VCALENDAR
VERSION:2.0
PRODID:-//AFLabs urnik izvoz - fmf//aflabs.si//SI
DTSTAMP:20260424T220819Z
NAME:UL FMF urnik
REFRESH-INTERVAL:PT1H
SOURCE:https://urnik.fmf.uni-lj.si/teacher/1476?day=2024-02-05&export=1
URL:https://urnik.fmf.uni-lj.si/teacher/1476?day=2024-02-05&export=1
X-PUBLISHED-TTL:PT1H
X-WR-CALNAME:UL FMF urnik
X-WR-TIMEZONE:Europe/Ljubljana
BEGIN:VTIMEZONE
TZID:Europe/Ljubljana
BEGIN:DAYLIGHT
DTSTART:20260329T020000
RDATE:20260329T020000
RDATE:20270328T020000
TZNAME:CEST
TZOFFSETFROM:+0100
TZOFFSETTO:+0200
END:DAYLIGHT
BEGIN:STANDARD
DTSTART:20261025T030000
RDATE:20261025T030000
RDATE:20271031T030000
TZNAME:CET
TZOFFSETFROM:+0200
TZOFFSETTO:+0100
END:STANDARD
END:VTIMEZONE
BEGIN:VEVENT
SUMMARY:Rezervacija
DTSTART;TZID=Europe/Ljubljana:20240207T090000
DTEND;TZID=Europe/Ljubljana:20240207T110000
DTSTAMP:20260424T220819Z
UID:fmf-AFLABS-URNIK:rezervacija:13965
CATEGORIES:Reservation
COLOR:royalblue
DESCRIPTION:Predmeti: \nLetniki: \nIzvajalci: Anja Jug\nProstori: F4
LOCATION:F4
ORGANIZER:Anja Jug
X-WR-TIMEZONE:Europe/Ljubljana
END:VEVENT
BEGIN:VEVENT
SUMMARY:Materiali v jedrski tehniki
DTSTART;TZID=Europe/Ljubljana:20240125T140000
DTEND;TZID=Europe/Ljubljana:20240125T160000
DTSTAMP:20260424T220819Z
UID:fmf-AFLABS-URNIK:rezervacija:14254
CATEGORIES:Reservation
COLOR:royalblue
DESCRIPTION:Predmeti: \nLetniki: \nIzvajalci: Anja Jug\nProstori: F3
LOCATION:F3
ORGANIZER:Anja Jug
X-WR-TIMEZONE:Europe/Ljubljana
END:VEVENT
BEGIN:VEVENT
SUMMARY:Kolokvij fizika FFA
DTSTART;TZID=Europe/Ljubljana:20240119T180000
DTEND;TZID=Europe/Ljubljana:20240119T200000
DTSTAMP:20260424T220819Z
UID:fmf-AFLABS-URNIK:rezervacija:14292
CATEGORIES:Reservation
COLOR:royalblue
DESCRIPTION:Predmeti: \nLetniki: \nIzvajalci: Anja Jug\nProstori: VFP
LOCATION:VFP
ORGANIZER:Anja Jug
X-WR-TIMEZONE:Europe/Ljubljana
END:VEVENT
BEGIN:VEVENT
SUMMARY:Kolokvij fizika FFA
DTSTART;TZID=Europe/Ljubljana:20240119T180000
DTEND;TZID=Europe/Ljubljana:20240119T200000
DTSTAMP:20260424T220819Z
UID:fmf-AFLABS-URNIK:rezervacija:14296
CATEGORIES:Reservation
COLOR:royalblue
DESCRIPTION:Predmeti: \nLetniki: \nIzvajalci: Anja Jug\nProstori: F1
LOCATION:F1
ORGANIZER:Anja Jug
X-WR-TIMEZONE:Europe/Ljubljana
END:VEVENT
BEGIN:VEVENT
SUMMARY:Fizika študentov Farmacije
DTSTART;TZID=Europe/Ljubljana:20240119T180000
DTEND;TZID=Europe/Ljubljana:20240119T200000
DTSTAMP:20260424T220819Z
UID:fmf-AFLABS-URNIK:rezervacija:14302
CATEGORIES:Reservation
COLOR:royalblue
DESCRIPTION:Predmeti: \nLetniki: \nIzvajalci: Anja Jug\nProstori: F4
LOCATION:F4
ORGANIZER:Anja Jug
X-WR-TIMEZONE:Europe/Ljubljana
END:VEVENT
BEGIN:VEVENT
SUMMARY:Fizika študentov Farmacije
DTSTART;TZID=Europe/Ljubljana:20240119T180000
DTEND;TZID=Europe/Ljubljana:20240119T200000
DTSTAMP:20260424T220819Z
UID:fmf-AFLABS-URNIK:rezervacija:14303
CATEGORIES:Reservation
COLOR:royalblue
DESCRIPTION:Predmeti: \nLetniki: \nIzvajalci: Anja Jug\nProstori: F5
LOCATION:F5
ORGANIZER:Anja Jug
X-WR-TIMEZONE:Europe/Ljubljana
END:VEVENT
BEGIN:VEVENT
SUMMARY:1. izpit iz Fizike za študente farmacije
DTSTART;TZID=Europe/Ljubljana:20240206T120000
DTEND;TZID=Europe/Ljubljana:20240206T150000
DTSTAMP:20260424T220819Z
UID:fmf-AFLABS-URNIK:rezervacija:14352
CATEGORIES:Reservation
COLOR:royalblue
DESCRIPTION:Predmeti: \nLetniki: \nIzvajalci: Anja Jug\nProstori: VFP
LOCATION:VFP
ORGANIZER:Anja Jug
X-WR-TIMEZONE:Europe/Ljubljana
END:VEVENT
BEGIN:VEVENT
SUMMARY:Zagovor magisterija OBERČKAL PLUŠKO
DTSTART;TZID=Europe/Ljubljana:20240126T090000
DTEND;TZID=Europe/Ljubljana:20240126T120000
DTSTAMP:20260424T220819Z
UID:fmf-AFLABS-URNIK:rezervacija:14383
CATEGORIES:Reservation
COLOR:royalblue
DESCRIPTION:Predmeti: \nLetniki: \nIzvajalci: Anja Jug\nProstori: Kuščer
 jev seminar
LOCATION:Kuščerjev seminar
ORGANIZER:Anja Jug
X-WR-TIMEZONE:Europe/Ljubljana
END:VEVENT
BEGIN:VEVENT
SUMMARY:Kemijska tehnologijo
DTSTART;TZID=Europe/Ljubljana:20240118T140000
DTEND;TZID=Europe/Ljubljana:20240118T160000
DTSTAMP:20260424T220819Z
UID:fmf-AFLABS-URNIK:rezervacija:14433
CATEGORIES:Reservation
COLOR:royalblue
DESCRIPTION:Predmeti: \nLetniki: \nIzvajalci: Anja Jug\nProstori: 3.07
LOCATION:3.07
ORGANIZER:Anja Jug
X-WR-TIMEZONE:Europe/Ljubljana
END:VEVENT
BEGIN:VEVENT
SUMMARY:Zagovor magisterija MUGNAIONI
DTSTART;TZID=Europe/Ljubljana:20240202T100000
DTEND;TZID=Europe/Ljubljana:20240202T130000
DTSTAMP:20260424T220819Z
UID:fmf-AFLABS-URNIK:rezervacija:14486
CATEGORIES:Reservation
COLOR:royalblue
DESCRIPTION:Predmeti: \nLetniki: \nIzvajalci: Anja Jug\nProstori: Kuščer
 jev seminar
LOCATION:Kuščerjev seminar
ORGANIZER:Anja Jug
X-WR-TIMEZONE:Europe/Ljubljana
END:VEVENT
BEGIN:VEVENT
SUMMARY:Zagovor magisterija STRNAD
DTSTART;TZID=Europe/Ljubljana:20240212T090000
DTEND;TZID=Europe/Ljubljana:20240212T120000
DTSTAMP:20260424T220819Z
UID:fmf-AFLABS-URNIK:rezervacija:14749
CATEGORIES:Reservation
COLOR:royalblue
DESCRIPTION:Predmeti: \nLetniki: \nIzvajalci: Anja Jug\nProstori: Kuščer
 jev seminar
LOCATION:Kuščerjev seminar
ORGANIZER:Anja Jug
X-WR-TIMEZONE:Europe/Ljubljana
END:VEVENT
BEGIN:VEVENT
SUMMARY:Izpit Materiali v jedrski tehniki
DTSTART;TZID=Europe/Ljubljana:20240207T100000
DTEND;TZID=Europe/Ljubljana:20240207T120000
DTSTAMP:20260424T220819Z
UID:fmf-AFLABS-URNIK:rezervacija:14826
CATEGORIES:Reservation
COLOR:royalblue
DESCRIPTION:Predmeti: \nLetniki: \nIzvajalci: Anja Jug\nProstori: F1
LOCATION:F1
ORGANIZER:Anja Jug
X-WR-TIMEZONE:Europe/Ljubljana
END:VEVENT
BEGIN:VEVENT
SUMMARY:Montaža opreme (Silvo)
DTSTART;TZID=Europe/Ljubljana:20240213T070000
DTEND;TZID=Europe/Ljubljana:20240213T140000
DTSTAMP:20260424T220819Z
UID:fmf-AFLABS-URNIK:rezervacija:14857
CATEGORIES:Reservation
COLOR:royalblue
DESCRIPTION:Predmeti: \nLetniki: \nIzvajalci: Anja Jug\nProstori: VFP
LOCATION:VFP
ORGANIZER:Anja Jug
X-WR-TIMEZONE:Europe/Ljubljana
END:VEVENT
BEGIN:VEVENT
SUMMARY:Izpit Reaktorska in Radiacijska Fizika v 3
DTSTART;TZID=Europe/Ljubljana:20240221T090000
DTEND;TZID=Europe/Ljubljana:20240221T110000
DTSTAMP:20260424T220819Z
UID:fmf-AFLABS-URNIK:rezervacija:15107
CATEGORIES:Reservation
COLOR:royalblue
DESCRIPTION:Predmeti: \nLetniki: \nIzvajalci: Anja Jug\nProstori: F3
LOCATION:F3
ORGANIZER:Anja Jug
X-WR-TIMEZONE:Europe/Ljubljana
END:VEVENT
END:VCALENDAR
