BEGIN:VCALENDAR
VERSION:2.0
PRODID:-//AFLabs urnik izvoz - fmf//aflabs.si//SI
DTSTAMP:20260424T044636Z
NAME:UL FMF urnik
REFRESH-INTERVAL:PT1H
SOURCE:https://urnik.fmf.uni-lj.si/teacher/1476?day=2024-08-19&export=1
URL:https://urnik.fmf.uni-lj.si/teacher/1476?day=2024-08-19&export=1
X-PUBLISHED-TTL:PT1H
X-WR-CALNAME:UL FMF urnik
X-WR-TIMEZONE:Europe/Ljubljana
BEGIN:VTIMEZONE
TZID:Europe/Ljubljana
BEGIN:DAYLIGHT
DTSTART:20260329T020000
RDATE:20260329T020000
RDATE:20270328T020000
TZNAME:CEST
TZOFFSETFROM:+0100
TZOFFSETTO:+0200
END:DAYLIGHT
BEGIN:STANDARD
DTSTART:20261025T030000
RDATE:20261025T030000
RDATE:20271031T030000
TZNAME:CET
TZOFFSETFROM:+0200
TZOFFSETTO:+0100
END:STANDARD
END:VTIMEZONE
BEGIN:VEVENT
SUMMARY:FSD
DTSTART;TZID=Europe/Ljubljana:20240829T100000
DTEND;TZID=Europe/Ljubljana:20240829T120000
DTSTAMP:20260424T044636Z
UID:fmf-AFLABS-URNIK:rezervacija:16164
CATEGORIES:Reservation
COLOR:royalblue
DESCRIPTION:Predmeti: \nLetniki: \nIzvajalci: Anja Jug\nProstori: F3
LOCATION:F3
ORGANIZER:Anja Jug
X-WR-TIMEZONE:Europe/Ljubljana
END:VEVENT
BEGIN:VEVENT
SUMMARY:Zagovor magisterija KLOPČIČ
DTSTART;TZID=Europe/Ljubljana:20240822T090000
DTEND;TZID=Europe/Ljubljana:20240822T120000
DTSTAMP:20260424T044636Z
UID:fmf-AFLABS-URNIK:rezervacija:17530
CATEGORIES:Reservation
COLOR:royalblue
DESCRIPTION:Predmeti: \nLetniki: \nIzvajalci: Anja Jug\nProstori: Kuščer
 jev seminar
LOCATION:Kuščerjev seminar
ORGANIZER:Anja Jug
X-WR-TIMEZONE:Europe/Ljubljana
END:VEVENT
BEGIN:VEVENT
SUMMARY:Zagovor magisterija RUPNIK
DTSTART;TZID=Europe/Ljubljana:20240909T080000
DTEND;TZID=Europe/Ljubljana:20240909T110000
DTSTAMP:20260424T044636Z
UID:fmf-AFLABS-URNIK:rezervacija:17542
CATEGORIES:Reservation
COLOR:royalblue
DESCRIPTION:Predmeti: \nLetniki: \nIzvajalci: Anja Jug\nProstori: Kuščer
 jev seminar
LOCATION:Kuščerjev seminar
ORGANIZER:Anja Jug
X-WR-TIMEZONE:Europe/Ljubljana
END:VEVENT
BEGIN:VEVENT
SUMMARY:Zagovor magisterija SUHADOLC
DTSTART;TZID=Europe/Ljubljana:20240828T090000
DTEND;TZID=Europe/Ljubljana:20240828T120000
DTSTAMP:20260424T044636Z
UID:fmf-AFLABS-URNIK:rezervacija:17688
CATEGORIES:Reservation
COLOR:royalblue
DESCRIPTION:Predmeti: \nLetniki: \nIzvajalci: Anja Jug\nProstori: Kuščer
 jev seminar
LOCATION:Kuščerjev seminar
ORGANIZER:Anja Jug
X-WR-TIMEZONE:Europe/Ljubljana
END:VEVENT
BEGIN:VEVENT
SUMMARY:Zagovor magisterija JERALA
DTSTART;TZID=Europe/Ljubljana:20240830T090000
DTEND;TZID=Europe/Ljubljana:20240830T120000
DTSTAMP:20260424T044636Z
UID:fmf-AFLABS-URNIK:rezervacija:17696
CATEGORIES:Reservation
COLOR:royalblue
DESCRIPTION:Predmeti: \nLetniki: \nIzvajalci: Anja Jug\nProstori: Kuščer
 jev seminar
LOCATION:Kuščerjev seminar
ORGANIZER:Anja Jug
X-WR-TIMEZONE:Europe/Ljubljana
END:VEVENT
BEGIN:VEVENT
SUMMARY:NDO izpit
DTSTART;TZID=Europe/Ljubljana:20240827T150000
DTEND;TZID=Europe/Ljubljana:20240827T170000
DTSTAMP:20260424T044636Z
UID:fmf-AFLABS-URNIK:rezervacija:17732
CATEGORIES:Reservation
COLOR:royalblue
DESCRIPTION:Predmeti: \nLetniki: \nIzvajalci: Anja Jug\nProstori: F5
LOCATION:F5
ORGANIZER:Anja Jug
X-WR-TIMEZONE:Europe/Ljubljana
END:VEVENT
BEGIN:VEVENT
SUMMARY:Zagovor magisterija KALIN
DTSTART;TZID=Europe/Ljubljana:20240830T090000
DTEND;TZID=Europe/Ljubljana:20240830T130000
DTSTAMP:20260424T044636Z
UID:fmf-AFLABS-URNIK:rezervacija:17887
CATEGORIES:Reservation
COLOR:royalblue
DESCRIPTION:Predmeti: \nLetniki: \nIzvajalci: Anja Jug\nProstori: F1
LOCATION:F1
ORGANIZER:Anja Jug
X-WR-TIMEZONE:Europe/Ljubljana
END:VEVENT
BEGIN:VEVENT
SUMMARY:Zagovor magisterija JAMNIK
DTSTART;TZID=Europe/Ljubljana:20240903T090000
DTEND;TZID=Europe/Ljubljana:20240903T120000
DTSTAMP:20260424T044636Z
UID:fmf-AFLABS-URNIK:rezervacija:17892
CATEGORIES:Reservation
COLOR:royalblue
DESCRIPTION:Predmeti: \nLetniki: \nIzvajalci: Anja Jug\nProstori: F5
LOCATION:F5
ORGANIZER:Anja Jug
X-WR-TIMEZONE:Europe/Ljubljana
END:VEVENT
BEGIN:VEVENT
SUMMARY:Zagovor magisterija VEHOVAR
DTSTART;TZID=Europe/Ljubljana:20240906T090000
DTEND;TZID=Europe/Ljubljana:20240906T120000
DTSTAMP:20260424T044636Z
UID:fmf-AFLABS-URNIK:rezervacija:17895
CATEGORIES:Reservation
COLOR:royalblue
DESCRIPTION:Predmeti: \nLetniki: \nIzvajalci: Anja Jug\nProstori: F5
LOCATION:F5
ORGANIZER:Anja Jug
X-WR-TIMEZONE:Europe/Ljubljana
END:VEVENT
BEGIN:VEVENT
SUMMARY:Zagovor magisterija ŠUBIC
DTSTART;TZID=Europe/Ljubljana:20240902T090000
DTEND;TZID=Europe/Ljubljana:20240902T120000
DTSTAMP:20260424T044636Z
UID:fmf-AFLABS-URNIK:rezervacija:17907
CATEGORIES:Reservation
COLOR:royalblue
DESCRIPTION:Predmeti: \nLetniki: \nIzvajalci: Anja Jug\nProstori: F5
LOCATION:F5
ORGANIZER:Anja Jug
X-WR-TIMEZONE:Europe/Ljubljana
END:VEVENT
BEGIN:VEVENT
SUMMARY:Zagovor magisterija PALJK
DTSTART;TZID=Europe/Ljubljana:20240912T080000
DTEND;TZID=Europe/Ljubljana:20240912T110000
DTSTAMP:20260424T044636Z
UID:fmf-AFLABS-URNIK:rezervacija:17919
CATEGORIES:Reservation
COLOR:royalblue
DESCRIPTION:Predmeti: \nLetniki: \nIzvajalci: Anja Jug\nProstori: Kuščer
 jev seminar
LOCATION:Kuščerjev seminar
ORGANIZER:Anja Jug
X-WR-TIMEZONE:Europe/Ljubljana
END:VEVENT
BEGIN:VEVENT
SUMMARY:Izpit Radiacijska in reaktorska fizika
DTSTART;TZID=Europe/Ljubljana:20240830T090000
DTEND;TZID=Europe/Ljubljana:20240830T110000
DTSTAMP:20260424T044636Z
UID:fmf-AFLABS-URNIK:rezervacija:17971
CATEGORIES:Reservation
COLOR:royalblue
DESCRIPTION:Predmeti: \nLetniki: \nIzvajalci: Anja Jug\nProstori: 2.02
LOCATION:2.02
ORGANIZER:Anja Jug
X-WR-TIMEZONE:Europe/Ljubljana
END:VEVENT
BEGIN:VEVENT
SUMMARY:Zagovor magisterija KAVČIČ
DTSTART;TZID=Europe/Ljubljana:20240916T130000
DTEND;TZID=Europe/Ljubljana:20240916T160000
DTSTAMP:20260424T044636Z
UID:fmf-AFLABS-URNIK:rezervacija:17978
CATEGORIES:Reservation
COLOR:royalblue
DESCRIPTION:Predmeti: \nLetniki: \nIzvajalci: Anja Jug\nProstori: F1
LOCATION:F1
ORGANIZER:Anja Jug
X-WR-TIMEZONE:Europe/Ljubljana
END:VEVENT
BEGIN:VEVENT
SUMMARY:Zagovor magisterija MALEŽIČ
DTSTART;TZID=Europe/Ljubljana:20240916T090000
DTEND;TZID=Europe/Ljubljana:20240916T120000
DTSTAMP:20260424T044636Z
UID:fmf-AFLABS-URNIK:rezervacija:18064
CATEGORIES:Reservation
COLOR:royalblue
DESCRIPTION:Predmeti: \nLetniki: \nIzvajalci: Anja Jug\nProstori: F2
LOCATION:F2
ORGANIZER:Anja Jug
X-WR-TIMEZONE:Europe/Ljubljana
END:VEVENT
BEGIN:VEVENT
SUMMARY:Zagovor magisterija BELTRAM
DTSTART;TZID=Europe/Ljubljana:20240910T070000
DTEND;TZID=Europe/Ljubljana:20240910T100000
DTSTAMP:20260424T044636Z
UID:fmf-AFLABS-URNIK:rezervacija:18101
CATEGORIES:Reservation
COLOR:royalblue
DESCRIPTION:Predmeti: \nLetniki: \nIzvajalci: Anja Jug\nProstori: Kuščer
 jev seminar
LOCATION:Kuščerjev seminar
ORGANIZER:Anja Jug
X-WR-TIMEZONE:Europe/Ljubljana
END:VEVENT
BEGIN:VEVENT
SUMMARY:Zagovor PEZER in PLEŠEC
DTSTART;TZID=Europe/Ljubljana:20240913T080000
DTEND;TZID=Europe/Ljubljana:20240913T140000
DTSTAMP:20260424T044636Z
UID:fmf-AFLABS-URNIK:rezervacija:18103
CATEGORIES:Reservation
COLOR:royalblue
DESCRIPTION:Predmeti: \nLetniki: \nIzvajalci: Anja Jug\nProstori: F1
LOCATION:F1
ORGANIZER:Anja Jug
X-WR-TIMEZONE:Europe/Ljubljana
END:VEVENT
BEGIN:VEVENT
SUMMARY:Zagovor ŠTUHEC
DTSTART;TZID=Europe/Ljubljana:20240913T140000
DTEND;TZID=Europe/Ljubljana:20240913T160000
DTSTAMP:20260424T044636Z
UID:fmf-AFLABS-URNIK:rezervacija:18104
CATEGORIES:Reservation
COLOR:royalblue
DESCRIPTION:Predmeti: \nLetniki: \nIzvajalci: Anja Jug\nProstori: F1
LOCATION:F1
ORGANIZER:Anja Jug
X-WR-TIMEZONE:Europe/Ljubljana
END:VEVENT
BEGIN:VEVENT
SUMMARY:Zagovor magisterija MEDOŠ
DTSTART;TZID=Europe/Ljubljana:20240911T080000
DTEND;TZID=Europe/Ljubljana:20240911T110000
DTSTAMP:20260424T044636Z
UID:fmf-AFLABS-URNIK:rezervacija:18114
CATEGORIES:Reservation
COLOR:royalblue
DESCRIPTION:Predmeti: \nLetniki: \nIzvajalci: Anja Jug\nProstori: F1
LOCATION:F1
ORGANIZER:Anja Jug
X-WR-TIMEZONE:Europe/Ljubljana
END:VEVENT
BEGIN:VEVENT
SUMMARY:Zagovor zaključnega dela KAPEL
DTSTART;TZID=Europe/Ljubljana:20240913T090000
DTEND;TZID=Europe/Ljubljana:20240913T120000
DTSTAMP:20260424T044636Z
UID:fmf-AFLABS-URNIK:rezervacija:18148
CATEGORIES:Reservation
COLOR:royalblue
DESCRIPTION:Predmeti: \nLetniki: \nIzvajalci: Anja Jug\nProstori: F2
LOCATION:F2
ORGANIZER:Anja Jug
X-WR-TIMEZONE:Europe/Ljubljana
END:VEVENT
BEGIN:VEVENT
SUMMARY:Zagovor magisterija JAKSETIČ in DAGARIN
DTSTART;TZID=Europe/Ljubljana:20240912T110000
DTEND;TZID=Europe/Ljubljana:20240912T150000
DTSTAMP:20260424T044636Z
UID:fmf-AFLABS-URNIK:rezervacija:18206
CATEGORIES:Reservation
COLOR:royalblue
DESCRIPTION:Predmeti: \nLetniki: \nIzvajalci: Anja Jug\nProstori: F1
LOCATION:F1
ORGANIZER:Anja Jug
X-WR-TIMEZONE:Europe/Ljubljana
END:VEVENT
BEGIN:VEVENT
SUMMARY:Zagovor KOLAR
DTSTART;TZID=Europe/Ljubljana:20240918T090000
DTEND;TZID=Europe/Ljubljana:20240918T120000
DTSTAMP:20260424T044636Z
UID:fmf-AFLABS-URNIK:rezervacija:18259
CATEGORIES:Reservation
COLOR:royalblue
DESCRIPTION:Predmeti: \nLetniki: \nIzvajalci: Anja Jug\nProstori: F1
LOCATION:F1
ORGANIZER:Anja Jug
X-WR-TIMEZONE:Europe/Ljubljana
END:VEVENT
BEGIN:VEVENT
SUMMARY:Zagovor magisterija PILIH
DTSTART;TZID=Europe/Ljubljana:20240919T090000
DTEND;TZID=Europe/Ljubljana:20240919T120000
DTSTAMP:20260424T044636Z
UID:fmf-AFLABS-URNIK:rezervacija:18320
CATEGORIES:Reservation
COLOR:royalblue
DESCRIPTION:Predmeti: \nLetniki: \nIzvajalci: Anja Jug\nProstori: Kuščer
 jev seminar
LOCATION:Kuščerjev seminar
ORGANIZER:Anja Jug
X-WR-TIMEZONE:Europe/Ljubljana
END:VEVENT
END:VCALENDAR
