BEGIN:VCALENDAR
VERSION:2.0
PRODID:-//AFLabs urnik izvoz - fmf//aflabs.si//SI
DTSTAMP:20260424T223840Z
NAME:UL FMF urnik
REFRESH-INTERVAL:PT1H
SOURCE:https://urnik.fmf.uni-lj.si/teacher/148?day=2024-09-30&export=1
URL:https://urnik.fmf.uni-lj.si/teacher/148?day=2024-09-30&export=1
X-PUBLISHED-TTL:PT1H
X-WR-CALNAME:UL FMF urnik
X-WR-TIMEZONE:Europe/Ljubljana
BEGIN:VTIMEZONE
TZID:Europe/Ljubljana
BEGIN:DAYLIGHT
DTSTART:20260329T020000
RDATE:20260329T020000
RDATE:20270328T020000
TZNAME:CEST
TZOFFSETFROM:+0100
TZOFFSETTO:+0200
END:DAYLIGHT
BEGIN:STANDARD
DTSTART:20261025T030000
RDATE:20261025T030000
RDATE:20271031T030000
TZNAME:CET
TZOFFSETFROM:+0200
TZOFFSETTO:+0100
END:STANDARD
END:VTIMEZONE
BEGIN:VEVENT
SUMMARY:Fizikalni praktikum III (FIZ-2)\, Laboratorijske vaje (L)
DTSTART;TZID=Europe/Ljubljana:20241003T120000
DTEND;TZID=Europe/Ljubljana:20241003T150000
DTSTAMP:20260424T223840Z
UID:fmf-AFLABS-URNIK:premaknjeno-srecanje:188555
ATTENDEE:2. letnik (Fizika, 1. stopnja)
CATEGORIES:Entry,Standard
COLOR:darkgreen
DESCRIPTION:Predmet: Fizikalni praktikum III (FIZ-2)\, Laboratorijske vaje
  (L)\nLetniki: 2. letnik (Fizika\, 1. stopnja)\nIzvajalci: Andrej Petelin\
 nProstor: Praktikum 2
LOCATION:Praktikum 2
ORGANIZER:Andrej Petelin
RELATED-TO:fmf-AFLABS-URNIK:srecanje:14223
X-WR-TIMEZONE:Europe/Ljubljana
END:VEVENT
BEGIN:VEVENT
SUMMARY:Fizikalni praktikum III (FIZ-2)\, Laboratorijske vaje (L)
DTSTART;TZID=Europe/Ljubljana:20241010T120000
DTEND;TZID=Europe/Ljubljana:20241010T150000
DTSTAMP:20260424T223840Z
UID:fmf-AFLABS-URNIK:premaknjeno-srecanje:188556
ATTENDEE:2. letnik (Fizika, 1. stopnja)
CATEGORIES:Entry,Standard
COLOR:darkgreen
DESCRIPTION:Predmet: Fizikalni praktikum III (FIZ-2)\, Laboratorijske vaje
  (L)\nLetniki: 2. letnik (Fizika\, 1. stopnja)\nIzvajalci: Andrej Petelin\
 nProstor: Praktikum 2
LOCATION:Praktikum 2
ORGANIZER:Andrej Petelin
RELATED-TO:fmf-AFLABS-URNIK:srecanje:14223
X-WR-TIMEZONE:Europe/Ljubljana
END:VEVENT
BEGIN:VEVENT
SUMMARY:Fizikalni praktikum III (FIZ-2)\, Laboratorijske vaje (L)
DTSTART;TZID=Europe/Ljubljana:20241017T120000
DTEND;TZID=Europe/Ljubljana:20241017T150000
DTSTAMP:20260424T223840Z
UID:fmf-AFLABS-URNIK:premaknjeno-srecanje:188557
ATTENDEE:2. letnik (Fizika, 1. stopnja)
CATEGORIES:Entry,Standard
COLOR:darkgreen
DESCRIPTION:Predmet: Fizikalni praktikum III (FIZ-2)\, Laboratorijske vaje
  (L)\nLetniki: 2. letnik (Fizika\, 1. stopnja)\nIzvajalci: Andrej Petelin\
 nProstor: Praktikum 2
LOCATION:Praktikum 2
ORGANIZER:Andrej Petelin
RELATED-TO:fmf-AFLABS-URNIK:srecanje:14223
X-WR-TIMEZONE:Europe/Ljubljana
END:VEVENT
BEGIN:VEVENT
SUMMARY:Fizikalni praktikum III (FIZ-2)\, Laboratorijske vaje (L)
DTSTART;TZID=Europe/Ljubljana:20241024T120000
DTEND;TZID=Europe/Ljubljana:20241024T150000
DTSTAMP:20260424T223840Z
UID:fmf-AFLABS-URNIK:premaknjeno-srecanje:188558
ATTENDEE:2. letnik (Fizika, 1. stopnja)
CATEGORIES:Entry,Standard
COLOR:darkgreen
DESCRIPTION:Predmet: Fizikalni praktikum III (FIZ-2)\, Laboratorijske vaje
  (L)\nLetniki: 2. letnik (Fizika\, 1. stopnja)\nIzvajalci: Andrej Petelin\
 nProstor: Praktikum 2
LOCATION:Praktikum 2
ORGANIZER:Andrej Petelin
RELATED-TO:fmf-AFLABS-URNIK:srecanje:14223
X-WR-TIMEZONE:Europe/Ljubljana
END:VEVENT
BEGIN:VEVENT
SUMMARY:Fizikalni praktikum III (FIZ-2)\, Laboratorijske vaje (L)
DTSTART;TZID=Europe/Ljubljana:20241031T120000
DTEND;TZID=Europe/Ljubljana:20241031T150000
DTSTAMP:20260424T223840Z
UID:fmf-AFLABS-URNIK:premaknjeno-srecanje:188559
ATTENDEE:2. letnik (Fizika, 1. stopnja)
CATEGORIES:Entry,Standard
COLOR:darkgreen
DESCRIPTION:Predmet: Fizikalni praktikum III (FIZ-2)\, Laboratorijske vaje
  (L)\nLetniki: 2. letnik (Fizika\, 1. stopnja)\nIzvajalci: Andrej Petelin\
 nProstor: Praktikum 2
LOCATION:Praktikum 2
ORGANIZER:Andrej Petelin
RELATED-TO:fmf-AFLABS-URNIK:srecanje:14223
X-WR-TIMEZONE:Europe/Ljubljana
END:VEVENT
BEGIN:VEVENT
SUMMARY:Fotonika I (FIZ-M1)\, Vaje (V)
DTSTART;TZID=Europe/Ljubljana:20241007T080000
DTEND;TZID=Europe/Ljubljana:20241007T100000
DTSTAMP:20260424T223840Z
UID:fmf-AFLABS-URNIK:premaknjeno-srecanje:190235
ATTENDEE:1. letnik (Fizika, 2. stopnja)
CATEGORIES:Entry,Standard
COLOR:darkgreen
DESCRIPTION:Predmet: Fotonika I (FIZ-M1)\, Vaje (V)\nLetniki: 1. letnik (F
 izika\, 2. stopnja)\nIzvajalci: Andrej Petelin\nProstor: 3.06
LOCATION:3.06
ORGANIZER:Andrej Petelin
RELATED-TO:fmf-AFLABS-URNIK:srecanje:14610
X-WR-TIMEZONE:Europe/Ljubljana
END:VEVENT
BEGIN:VEVENT
SUMMARY:Fotonika I (FIZ-M1)\, Vaje (V)
DTSTART;TZID=Europe/Ljubljana:20241014T080000
DTEND;TZID=Europe/Ljubljana:20241014T100000
DTSTAMP:20260424T223840Z
UID:fmf-AFLABS-URNIK:premaknjeno-srecanje:190236
ATTENDEE:1. letnik (Fizika, 2. stopnja)
CATEGORIES:Entry,Standard
COLOR:darkgreen
DESCRIPTION:Predmet: Fotonika I (FIZ-M1)\, Vaje (V)\nLetniki: 1. letnik (F
 izika\, 2. stopnja)\nIzvajalci: Andrej Petelin\nProstor: 3.06
LOCATION:3.06
ORGANIZER:Andrej Petelin
RELATED-TO:fmf-AFLABS-URNIK:srecanje:14610
X-WR-TIMEZONE:Europe/Ljubljana
END:VEVENT
BEGIN:VEVENT
SUMMARY:Fotonika I (FIZ-M1)\, Vaje (V)
DTSTART;TZID=Europe/Ljubljana:20241021T080000
DTEND;TZID=Europe/Ljubljana:20241021T100000
DTSTAMP:20260424T223840Z
UID:fmf-AFLABS-URNIK:premaknjeno-srecanje:190237
ATTENDEE:1. letnik (Fizika, 2. stopnja)
CATEGORIES:Entry,Standard
COLOR:darkgreen
DESCRIPTION:Predmet: Fotonika I (FIZ-M1)\, Vaje (V)\nLetniki: 1. letnik (F
 izika\, 2. stopnja)\nIzvajalci: Andrej Petelin\nProstor: 3.06
LOCATION:3.06
ORGANIZER:Andrej Petelin
RELATED-TO:fmf-AFLABS-URNIK:srecanje:14610
X-WR-TIMEZONE:Europe/Ljubljana
END:VEVENT
BEGIN:VEVENT
SUMMARY:Fotonika I (FIZ-M1)\, Vaje (V)
DTSTART;TZID=Europe/Ljubljana:20241028T080000
DTEND;TZID=Europe/Ljubljana:20241028T100000
DTSTAMP:20260424T223840Z
UID:fmf-AFLABS-URNIK:premaknjeno-srecanje:190238
ATTENDEE:1. letnik (Fizika, 2. stopnja)
CATEGORIES:Entry,Standard
COLOR:darkgreen
DESCRIPTION:Predmet: Fotonika I (FIZ-M1)\, Vaje (V)\nLetniki: 1. letnik (F
 izika\, 2. stopnja)\nIzvajalci: Andrej Petelin\nProstor: 3.06
LOCATION:3.06
ORGANIZER:Andrej Petelin
RELATED-TO:fmf-AFLABS-URNIK:srecanje:14610
X-WR-TIMEZONE:Europe/Ljubljana
END:VEVENT
BEGIN:VEVENT
SUMMARY:Fotonika I (FIZ-M1)\, Vaje (V)
DTSTART;TZID=Europe/Ljubljana:20241104T080000
DTEND;TZID=Europe/Ljubljana:20241104T100000
DTSTAMP:20260424T223840Z
UID:fmf-AFLABS-URNIK:premaknjeno-srecanje:190239
ATTENDEE:1. letnik (Fizika, 2. stopnja)
CATEGORIES:Entry,Standard
COLOR:darkgreen
DESCRIPTION:Predmet: Fotonika I (FIZ-M1)\, Vaje (V)\nLetniki: 1. letnik (F
 izika\, 2. stopnja)\nIzvajalci: Andrej Petelin\nProstor: 3.06
LOCATION:3.06
ORGANIZER:Andrej Petelin
RELATED-TO:fmf-AFLABS-URNIK:srecanje:14610
X-WR-TIMEZONE:Europe/Ljubljana
END:VEVENT
BEGIN:VEVENT
SUMMARY:Sestanek programske skupine P1-0192 ()\, Ostalo (O)
DTSTART;TZID=Europe/Ljubljana:20241007T100000
DTEND;TZID=Europe/Ljubljana:20241007T120000
DTSTAMP:20260424T223840Z
UID:fmf-AFLABS-URNIK:premaknjeno-srecanje:197198
CATEGORIES:Entry,Standard
COLOR:darkgreen
DESCRIPTION:Predmet: Sestanek programske skupine P1-0192 ()\, Ostalo (O)\n
 Letniki: \nIzvajalci: Irena Drevenšek Olenik\, Boris Majaron\, Natan Oste
 rman\, Andrej Petelin\, Izidor Straus\, Izidor Straus (Študent)\, Mojca V
 ilfan\nProstor: 1.02
LOCATION:1.02
ORGANIZER:Irena Drevenšek Olenik, Boris Majaron, Natan Osterman, Andrej P
 etelin, Izidor Straus, Izidor Straus (Študent), Mojca Vilfan
RELATED-TO:fmf-AFLABS-URNIK:srecanje:14602
X-WR-TIMEZONE:Europe/Ljubljana
END:VEVENT
BEGIN:VEVENT
SUMMARY:Sestanek programske skupine P1-0192 ()\, Ostalo (O)
DTSTART;TZID=Europe/Ljubljana:20241014T100000
DTEND;TZID=Europe/Ljubljana:20241014T120000
DTSTAMP:20260424T223840Z
UID:fmf-AFLABS-URNIK:premaknjeno-srecanje:197199
CATEGORIES:Entry,Standard
COLOR:darkgreen
DESCRIPTION:Predmet: Sestanek programske skupine P1-0192 ()\, Ostalo (O)\n
 Letniki: \nIzvajalci: Irena Drevenšek Olenik\, Boris Majaron\, Natan Oste
 rman\, Andrej Petelin\, Izidor Straus\, Izidor Straus (Študent)\, Mojca V
 ilfan\nProstor: 1.02
LOCATION:1.02
ORGANIZER:Irena Drevenšek Olenik, Boris Majaron, Natan Osterman, Andrej P
 etelin, Izidor Straus, Izidor Straus (Študent), Mojca Vilfan
RELATED-TO:fmf-AFLABS-URNIK:srecanje:14602
X-WR-TIMEZONE:Europe/Ljubljana
END:VEVENT
BEGIN:VEVENT
SUMMARY:Sestanek programske skupine P1-0192 ()\, Ostalo (O)
DTSTART;TZID=Europe/Ljubljana:20241021T100000
DTEND;TZID=Europe/Ljubljana:20241021T120000
DTSTAMP:20260424T223840Z
UID:fmf-AFLABS-URNIK:premaknjeno-srecanje:197200
CATEGORIES:Entry,Standard
COLOR:darkgreen
DESCRIPTION:Predmet: Sestanek programske skupine P1-0192 ()\, Ostalo (O)\n
 Letniki: \nIzvajalci: Irena Drevenšek Olenik\, Boris Majaron\, Natan Oste
 rman\, Andrej Petelin\, Izidor Straus\, Izidor Straus (Študent)\, Mojca V
 ilfan\nProstor: 1.02
LOCATION:1.02
ORGANIZER:Irena Drevenšek Olenik, Boris Majaron, Natan Osterman, Andrej P
 etelin, Izidor Straus, Izidor Straus (Študent), Mojca Vilfan
RELATED-TO:fmf-AFLABS-URNIK:srecanje:14602
X-WR-TIMEZONE:Europe/Ljubljana
END:VEVENT
BEGIN:VEVENT
SUMMARY:Sestanek programske skupine P1-0192 ()\, Ostalo (O)
DTSTART;TZID=Europe/Ljubljana:20241028T100000
DTEND;TZID=Europe/Ljubljana:20241028T120000
DTSTAMP:20260424T223840Z
UID:fmf-AFLABS-URNIK:premaknjeno-srecanje:197201
CATEGORIES:Entry,Standard
COLOR:darkgreen
DESCRIPTION:Predmet: Sestanek programske skupine P1-0192 ()\, Ostalo (O)\n
 Letniki: \nIzvajalci: Irena Drevenšek Olenik\, Boris Majaron\, Natan Oste
 rman\, Andrej Petelin\, Izidor Straus\, Izidor Straus (Študent)\, Mojca V
 ilfan\nProstor: 1.02
LOCATION:1.02
ORGANIZER:Irena Drevenšek Olenik, Boris Majaron, Natan Osterman, Andrej P
 etelin, Izidor Straus, Izidor Straus (Študent), Mojca Vilfan
RELATED-TO:fmf-AFLABS-URNIK:srecanje:14602
X-WR-TIMEZONE:Europe/Ljubljana
END:VEVENT
BEGIN:VEVENT
SUMMARY:Sestanek programske skupine P1-0192 ()\, Ostalo (O)
DTSTART;TZID=Europe/Ljubljana:20241104T100000
DTEND;TZID=Europe/Ljubljana:20241104T120000
DTSTAMP:20260424T223840Z
UID:fmf-AFLABS-URNIK:premaknjeno-srecanje:197202
CATEGORIES:Entry,Standard
COLOR:darkgreen
DESCRIPTION:Predmet: Sestanek programske skupine P1-0192 ()\, Ostalo (O)\n
 Letniki: \nIzvajalci: Irena Drevenšek Olenik\, Boris Majaron\, Natan Oste
 rman\, Andrej Petelin\, Izidor Straus\, Izidor Straus (Študent)\, Mojca V
 ilfan\nProstor: 1.02
LOCATION:1.02
ORGANIZER:Irena Drevenšek Olenik, Boris Majaron, Natan Osterman, Andrej P
 etelin, Izidor Straus, Izidor Straus (Študent), Mojca Vilfan
RELATED-TO:fmf-AFLABS-URNIK:srecanje:14602
X-WR-TIMEZONE:Europe/Ljubljana
END:VEVENT
BEGIN:VEVENT
SUMMARY:3. izpit iz UVF
DTSTART;TZID=Europe/Ljubljana:20240904T100000
DTEND;TZID=Europe/Ljubljana:20240904T120000
DTSTAMP:20260424T223840Z
UID:fmf-AFLABS-URNIK:rezervacija:17817
ATTENDEE:1. letnik (APM)
CATEGORIES:Reservation
COLOR:royalblue
DESCRIPTION:Predmeti: Uvod v fiziko (APM-1)\nLetniki: 1. letnik (APM)\nIzv
 ajalci: Andrej Petelin\nProstori: 2.04
LOCATION:2.04
ORGANIZER:Andrej Petelin
X-WR-TIMEZONE:Europe/Ljubljana
END:VEVENT
END:VCALENDAR
