BEGIN:VCALENDAR
VERSION:2.0
PRODID:-//AFLabs urnik izvoz - fmf//aflabs.si//SI
DTSTAMP:20260422T003040Z
NAME:UL FMF urnik
REFRESH-INTERVAL:PT1H
SOURCE:https://urnik.fmf.uni-lj.si/teacher/1508?day=2024-04-08&export=1
URL:https://urnik.fmf.uni-lj.si/teacher/1508?day=2024-04-08&export=1
X-PUBLISHED-TTL:PT1H
X-WR-CALNAME:UL FMF urnik
X-WR-TIMEZONE:Europe/Ljubljana
BEGIN:VTIMEZONE
TZID:Europe/Ljubljana
BEGIN:DAYLIGHT
DTSTART:20260329T020000
RDATE:20260329T020000
RDATE:20270328T020000
TZNAME:CEST
TZOFFSETFROM:+0100
TZOFFSETTO:+0200
END:DAYLIGHT
BEGIN:STANDARD
DTSTART:20261025T030000
RDATE:20261025T030000
RDATE:20271031T030000
TZNAME:CET
TZOFFSETFROM:+0200
TZOFFSETTO:+0100
END:STANDARD
END:VTIMEZONE
BEGIN:VEVENT
SUMMARY:Teorija števil (FM-M\, MAT-M\, PM-5)\, Predavanja (P)
DTSTART;TZID=Europe/Ljubljana:20240223T080000
DTEND;TZID=Europe/Ljubljana:20240223T110000
DTSTAMP:20260422T003040Z
UID:fmf-AFLABS-URNIK:premaknjeno-srecanje:135531
ATTENDEE:5. letnik (PM)
ATTENDEE:magistrski študij (FM)
ATTENDEE:magistrski študij (M)
CATEGORIES:Entry,Standard
COLOR:darkgreen
DESCRIPTION:Predmet: Teorija števil (FM-M\, MAT-M\, PM-5)\, Predavanja (P
 )\nLetniki: magistrski študij (FM)\, magistrski študij (M)\, 5. letnik (
 PM)\nIzvajalci: Daniel Smertnig\nProstor: 2.04
LOCATION:2.04
ORGANIZER:Daniel Smertnig
RELATED-TO:fmf-AFLABS-URNIK:srecanje:10906
X-WR-TIMEZONE:Europe/Ljubljana
END:VEVENT
BEGIN:VEVENT
SUMMARY:Teorija števil (FM-M\, MAT-M\, PM-5)\, Predavanja (P)
DTSTART;TZID=Europe/Ljubljana:20240308T080000
DTEND;TZID=Europe/Ljubljana:20240308T110000
DTSTAMP:20260422T003040Z
UID:fmf-AFLABS-URNIK:premaknjeno-srecanje:135533
ATTENDEE:5. letnik (PM)
ATTENDEE:magistrski študij (FM)
ATTENDEE:magistrski študij (M)
CATEGORIES:Entry,Standard
COLOR:darkgreen
DESCRIPTION:Predmet: Teorija števil (FM-M\, MAT-M\, PM-5)\, Predavanja (P
 )\nLetniki: magistrski študij (FM)\, magistrski študij (M)\, 5. letnik (
 PM)\nIzvajalci: Daniel Smertnig\nProstor: 2.04
LOCATION:2.04
ORGANIZER:Daniel Smertnig
RELATED-TO:fmf-AFLABS-URNIK:srecanje:10906
X-WR-TIMEZONE:Europe/Ljubljana
END:VEVENT
BEGIN:VEVENT
SUMMARY:Teorija števil (FM-M\, MAT-M\, PM-5)\, Predavanja (P)
DTSTART;TZID=Europe/Ljubljana:20240315T080000
DTEND;TZID=Europe/Ljubljana:20240315T110000
DTSTAMP:20260422T003040Z
UID:fmf-AFLABS-URNIK:premaknjeno-srecanje:135534
ATTENDEE:5. letnik (PM)
ATTENDEE:magistrski študij (FM)
ATTENDEE:magistrski študij (M)
CATEGORIES:Entry,Standard
COLOR:darkgreen
DESCRIPTION:Predmet: Teorija števil (FM-M\, MAT-M\, PM-5)\, Predavanja (P
 )\nLetniki: magistrski študij (FM)\, magistrski študij (M)\, 5. letnik (
 PM)\nIzvajalci: Daniel Smertnig\nProstor: 2.04
LOCATION:2.04
ORGANIZER:Daniel Smertnig
RELATED-TO:fmf-AFLABS-URNIK:srecanje:10906
X-WR-TIMEZONE:Europe/Ljubljana
END:VEVENT
BEGIN:VEVENT
SUMMARY:Teorija števil (FM-M\, MAT-M\, PM-5)\, Predavanja (P)
DTSTART;TZID=Europe/Ljubljana:20240322T080000
DTEND;TZID=Europe/Ljubljana:20240322T110000
DTSTAMP:20260422T003040Z
UID:fmf-AFLABS-URNIK:premaknjeno-srecanje:135535
ATTENDEE:5. letnik (PM)
ATTENDEE:magistrski študij (FM)
ATTENDEE:magistrski študij (M)
CATEGORIES:Entry,Standard
COLOR:darkgreen
DESCRIPTION:Predmet: Teorija števil (FM-M\, MAT-M\, PM-5)\, Predavanja (P
 )\nLetniki: magistrski študij (FM)\, magistrski študij (M)\, 5. letnik (
 PM)\nIzvajalci: Daniel Smertnig\nProstor: 2.04
LOCATION:2.04
ORGANIZER:Daniel Smertnig
RELATED-TO:fmf-AFLABS-URNIK:srecanje:10906
X-WR-TIMEZONE:Europe/Ljubljana
END:VEVENT
BEGIN:VEVENT
SUMMARY:Teorija števil (FM-M\, MAT-M\, PM-5)\, Predavanja (P)
DTSTART;TZID=Europe/Ljubljana:20240329T080000
DTEND;TZID=Europe/Ljubljana:20240329T110000
DTSTAMP:20260422T003040Z
UID:fmf-AFLABS-URNIK:premaknjeno-srecanje:135536
ATTENDEE:5. letnik (PM)
ATTENDEE:magistrski študij (FM)
ATTENDEE:magistrski študij (M)
CATEGORIES:Entry,Standard
COLOR:darkgreen
DESCRIPTION:Predmet: Teorija števil (FM-M\, MAT-M\, PM-5)\, Predavanja (P
 )\nLetniki: magistrski študij (FM)\, magistrski študij (M)\, 5. letnik (
 PM)\nIzvajalci: Daniel Smertnig\nProstor: 2.04
LOCATION:2.04
ORGANIZER:Daniel Smertnig
RELATED-TO:fmf-AFLABS-URNIK:srecanje:10906
X-WR-TIMEZONE:Europe/Ljubljana
END:VEVENT
BEGIN:VEVENT
SUMMARY:Teorija števil (FM-M\, MAT-M\, PM-5)\, Predavanja (P)
DTSTART;TZID=Europe/Ljubljana:20240405T080000
DTEND;TZID=Europe/Ljubljana:20240405T110000
DTSTAMP:20260422T003040Z
UID:fmf-AFLABS-URNIK:premaknjeno-srecanje:135537
ATTENDEE:5. letnik (PM)
ATTENDEE:magistrski študij (FM)
ATTENDEE:magistrski študij (M)
CATEGORIES:Entry,Standard
COLOR:darkgreen
DESCRIPTION:Predmet: Teorija števil (FM-M\, MAT-M\, PM-5)\, Predavanja (P
 )\nLetniki: magistrski študij (FM)\, magistrski študij (M)\, 5. letnik (
 PM)\nIzvajalci: Daniel Smertnig\nProstor: 2.04
LOCATION:2.04
ORGANIZER:Daniel Smertnig
RELATED-TO:fmf-AFLABS-URNIK:srecanje:10906
X-WR-TIMEZONE:Europe/Ljubljana
END:VEVENT
BEGIN:VEVENT
SUMMARY:Teorija števil (FM-M\, MAT-M\, PM-5)\, Predavanja (P)
DTSTART;TZID=Europe/Ljubljana:20240412T080000
DTEND;TZID=Europe/Ljubljana:20240412T110000
DTSTAMP:20260422T003040Z
UID:fmf-AFLABS-URNIK:premaknjeno-srecanje:135538
ATTENDEE:5. letnik (PM)
ATTENDEE:magistrski študij (FM)
ATTENDEE:magistrski študij (M)
CATEGORIES:Entry,Standard
COLOR:darkgreen
DESCRIPTION:Predmet: Teorija števil (FM-M\, MAT-M\, PM-5)\, Predavanja (P
 )\nLetniki: magistrski študij (FM)\, magistrski študij (M)\, 5. letnik (
 PM)\nIzvajalci: Daniel Smertnig\nProstor: 2.04
LOCATION:2.04
ORGANIZER:Daniel Smertnig
RELATED-TO:fmf-AFLABS-URNIK:srecanje:10906
X-WR-TIMEZONE:Europe/Ljubljana
END:VEVENT
BEGIN:VEVENT
SUMMARY:Teorija števil (FM-M\, MAT-M\, PM-5)\, Predavanja (P)
DTSTART;TZID=Europe/Ljubljana:20240419T080000
DTEND;TZID=Europe/Ljubljana:20240419T110000
DTSTAMP:20260422T003040Z
UID:fmf-AFLABS-URNIK:premaknjeno-srecanje:135539
ATTENDEE:5. letnik (PM)
ATTENDEE:magistrski študij (FM)
ATTENDEE:magistrski študij (M)
CATEGORIES:Entry,Standard
COLOR:darkgreen
DESCRIPTION:Predmet: Teorija števil (FM-M\, MAT-M\, PM-5)\, Predavanja (P
 )\nLetniki: magistrski študij (FM)\, magistrski študij (M)\, 5. letnik (
 PM)\nIzvajalci: Daniel Smertnig\nProstor: 2.04
LOCATION:2.04
ORGANIZER:Daniel Smertnig
RELATED-TO:fmf-AFLABS-URNIK:srecanje:10906
X-WR-TIMEZONE:Europe/Ljubljana
END:VEVENT
BEGIN:VEVENT
SUMMARY:Teorija števil (FM-M\, MAT-M\, PM-5)\, Predavanja (P)
DTSTART;TZID=Europe/Ljubljana:20240426T080000
DTEND;TZID=Europe/Ljubljana:20240426T110000
DTSTAMP:20260422T003040Z
UID:fmf-AFLABS-URNIK:premaknjeno-srecanje:135540
ATTENDEE:5. letnik (PM)
ATTENDEE:magistrski študij (FM)
ATTENDEE:magistrski študij (M)
CATEGORIES:Entry,Standard
COLOR:darkgreen
DESCRIPTION:Predmet: Teorija števil (FM-M\, MAT-M\, PM-5)\, Predavanja (P
 )\nLetniki: magistrski študij (FM)\, magistrski študij (M)\, 5. letnik (
 PM)\nIzvajalci: Daniel Smertnig\nProstor: 2.04
LOCATION:2.04
ORGANIZER:Daniel Smertnig
RELATED-TO:fmf-AFLABS-URNIK:srecanje:10906
X-WR-TIMEZONE:Europe/Ljubljana
END:VEVENT
BEGIN:VEVENT
SUMMARY:Teorija števil (FM-M\, MAT-M\, PM-5)\, Predavanja (P)
DTSTART;TZID=Europe/Ljubljana:20240503T080000
DTEND;TZID=Europe/Ljubljana:20240503T110000
DTSTAMP:20260422T003040Z
UID:fmf-AFLABS-URNIK:premaknjeno-srecanje:135541
ATTENDEE:5. letnik (PM)
ATTENDEE:magistrski študij (FM)
ATTENDEE:magistrski študij (M)
CATEGORIES:Entry,Standard
COLOR:darkgreen
DESCRIPTION:Predmet: Teorija števil (FM-M\, MAT-M\, PM-5)\, Predavanja (P
 )\nLetniki: magistrski študij (FM)\, magistrski študij (M)\, 5. letnik (
 PM)\nIzvajalci: Daniel Smertnig\nProstor: 2.04
LOCATION:2.04
ORGANIZER:Daniel Smertnig
RELATED-TO:fmf-AFLABS-URNIK:srecanje:10906
X-WR-TIMEZONE:Europe/Ljubljana
END:VEVENT
BEGIN:VEVENT
SUMMARY:Teorija števil (FM-M\, MAT-M\, PM-5)\, Predavanja (P)
DTSTART;TZID=Europe/Ljubljana:20240510T080000
DTEND;TZID=Europe/Ljubljana:20240510T110000
DTSTAMP:20260422T003040Z
UID:fmf-AFLABS-URNIK:premaknjeno-srecanje:135542
ATTENDEE:5. letnik (PM)
ATTENDEE:magistrski študij (FM)
ATTENDEE:magistrski študij (M)
CATEGORIES:Entry,Standard
COLOR:darkgreen
DESCRIPTION:Predmet: Teorija števil (FM-M\, MAT-M\, PM-5)\, Predavanja (P
 )\nLetniki: magistrski študij (FM)\, magistrski študij (M)\, 5. letnik (
 PM)\nIzvajalci: Daniel Smertnig\nProstor: 2.04
LOCATION:2.04
ORGANIZER:Daniel Smertnig
RELATED-TO:fmf-AFLABS-URNIK:srecanje:10906
X-WR-TIMEZONE:Europe/Ljubljana
END:VEVENT
BEGIN:VEVENT
SUMMARY:Teorija števil (FM-M\, MAT-M\, PM-5)\, Predavanja (P)
DTSTART;TZID=Europe/Ljubljana:20240517T080000
DTEND;TZID=Europe/Ljubljana:20240517T110000
DTSTAMP:20260422T003040Z
UID:fmf-AFLABS-URNIK:premaknjeno-srecanje:135543
ATTENDEE:5. letnik (PM)
ATTENDEE:magistrski študij (FM)
ATTENDEE:magistrski študij (M)
CATEGORIES:Entry,Standard
COLOR:darkgreen
DESCRIPTION:Predmet: Teorija števil (FM-M\, MAT-M\, PM-5)\, Predavanja (P
 )\nLetniki: magistrski študij (FM)\, magistrski študij (M)\, 5. letnik (
 PM)\nIzvajalci: Daniel Smertnig\nProstor: 2.04
LOCATION:2.04
ORGANIZER:Daniel Smertnig
RELATED-TO:fmf-AFLABS-URNIK:srecanje:10906
X-WR-TIMEZONE:Europe/Ljubljana
END:VEVENT
BEGIN:VEVENT
SUMMARY:Teorija števil (FM-M\, MAT-M\, PM-5)\, Predavanja (P)
DTSTART;TZID=Europe/Ljubljana:20240531T080000
DTEND;TZID=Europe/Ljubljana:20240531T110000
DTSTAMP:20260422T003040Z
UID:fmf-AFLABS-URNIK:premaknjeno-srecanje:135545
ATTENDEE:5. letnik (PM)
ATTENDEE:magistrski študij (FM)
ATTENDEE:magistrski študij (M)
CATEGORIES:Entry,Standard
COLOR:darkgreen
DESCRIPTION:Predmet: Teorija števil (FM-M\, MAT-M\, PM-5)\, Predavanja (P
 )\nLetniki: magistrski študij (FM)\, magistrski študij (M)\, 5. letnik (
 PM)\nIzvajalci: Daniel Smertnig\nProstor: 2.04
LOCATION:2.04
ORGANIZER:Daniel Smertnig
RELATED-TO:fmf-AFLABS-URNIK:srecanje:10906
X-WR-TIMEZONE:Europe/Ljubljana
END:VEVENT
BEGIN:VEVENT
SUMMARY:Teorija števil (FM-M\, MAT-M\, PM-5)\, Predavanja (P)
DTSTART;TZID=Europe/Ljubljana:20240301T150000
DTEND;TZID=Europe/Ljubljana:20240301T180000
DTSTAMP:20260422T003040Z
UID:fmf-AFLABS-URNIK:premaknjeno-srecanje:135532
ATTENDEE:5. letnik (PM)
ATTENDEE:magistrski študij (FM)
ATTENDEE:magistrski študij (M)
CATEGORIES:Entry,Standard
COLOR:darkgreen
DESCRIPTION:Predmet: Teorija števil (FM-M\, MAT-M\, PM-5)\, Predavanja (P
 )\nLetniki: magistrski študij (FM)\, magistrski študij (M)\, 5. letnik (
 PM)\nIzvajalci: Daniel Smertnig\nProstor: 2.02
LOCATION:2.02
ORGANIZER:Daniel Smertnig
RELATED-TO:fmf-AFLABS-URNIK:srecanje:10908
X-WR-TIMEZONE:Europe/Ljubljana
END:VEVENT
BEGIN:VEVENT
SUMMARY:Teorija števil (FM-M\, MAT-M\, PM-5)\, Predavanja (P)
DTSTART;TZID=Europe/Ljubljana:20240524T080000
DTEND;TZID=Europe/Ljubljana:20240524T110000
DTSTAMP:20260422T003040Z
UID:fmf-AFLABS-URNIK:premaknjeno-srecanje:135544
ATTENDEE:5. letnik (PM)
ATTENDEE:magistrski študij (FM)
ATTENDEE:magistrski študij (M)
CATEGORIES:Entry,Standard
COLOR:darkgreen
DESCRIPTION:Predmet: Teorija števil (FM-M\, MAT-M\, PM-5)\, Predavanja (P
 )\nLetniki: magistrski študij (FM)\, magistrski študij (M)\, 5. letnik (
 PM)\nIzvajalci: Daniel Smertnig\nProstor: 3.06
LOCATION:3.06
ORGANIZER:Daniel Smertnig
RELATED-TO:fmf-AFLABS-URNIK:srecanje:10973
X-WR-TIMEZONE:Europe/Ljubljana
END:VEVENT
END:VCALENDAR
