BEGIN:VCALENDAR
VERSION:2.0
PRODID:-//AFLabs urnik izvoz - fmf//aflabs.si//SI
DTSTAMP:20260420T004359Z
NAME:UL FMF urnik
REFRESH-INTERVAL:PT1H
SOURCE:https://urnik.fmf.uni-lj.si/teacher/1517?day=2024-11-04&export=1
URL:https://urnik.fmf.uni-lj.si/teacher/1517?day=2024-11-04&export=1
X-PUBLISHED-TTL:PT1H
X-WR-CALNAME:UL FMF urnik
X-WR-TIMEZONE:Europe/Ljubljana
BEGIN:VTIMEZONE
TZID:Europe/Ljubljana
BEGIN:DAYLIGHT
DTSTART:20260329T020000
RDATE:20260329T020000
RDATE:20270328T020000
TZNAME:CEST
TZOFFSETFROM:+0100
TZOFFSETTO:+0200
END:DAYLIGHT
BEGIN:STANDARD
DTSTART:20261025T030000
RDATE:20261025T030000
RDATE:20271031T030000
TZNAME:CET
TZOFFSETFROM:+0200
TZOFFSETTO:+0100
END:STANDARD
END:VTIMEZONE
BEGIN:VEVENT
SUMMARY:Fizika (FKKT Biokemija) ()\, Vaje (V)\, [2]
DTSTART;TZID=Europe/Ljubljana:20241001T110000
DTEND;TZID=Europe/Ljubljana:20241001T130000
DTSTAMP:20260420T004359Z
UID:fmf-AFLABS-URNIK:premaknjeno-srecanje:192333
CATEGORIES:Entry,Standard
COLOR:darkgreen
DESCRIPTION:Predmet: Fizika (FKKT Biokemija) ()\, Vaje (V)\, [2]\nLetniki:
  \nIzvajalci: Gašper Kokot\nProstor: 3067 (3B FKKT)
LOCATION:3067 (3B FKKT)
ORGANIZER:Gašper Kokot
RELATED-TO:fmf-AFLABS-URNIK:srecanje:13654
X-WR-TIMEZONE:Europe/Ljubljana
END:VEVENT
BEGIN:VEVENT
SUMMARY:Fizika (FKKT Biokemija) ()\, Vaje (V)\, [2]
DTSTART;TZID=Europe/Ljubljana:20241008T110000
DTEND;TZID=Europe/Ljubljana:20241008T130000
DTSTAMP:20260420T004359Z
UID:fmf-AFLABS-URNIK:premaknjeno-srecanje:192334
CATEGORIES:Entry,Standard
COLOR:darkgreen
DESCRIPTION:Predmet: Fizika (FKKT Biokemija) ()\, Vaje (V)\, [2]\nLetniki:
  \nIzvajalci: Gašper Kokot\nProstor: 3067 (3B FKKT)
LOCATION:3067 (3B FKKT)
ORGANIZER:Gašper Kokot
RELATED-TO:fmf-AFLABS-URNIK:srecanje:13654
X-WR-TIMEZONE:Europe/Ljubljana
END:VEVENT
BEGIN:VEVENT
SUMMARY:Fizika (FKKT Biokemija) ()\, Vaje (V)\, [2]
DTSTART;TZID=Europe/Ljubljana:20241015T110000
DTEND;TZID=Europe/Ljubljana:20241015T130000
DTSTAMP:20260420T004359Z
UID:fmf-AFLABS-URNIK:premaknjeno-srecanje:192335
CATEGORIES:Entry,Standard
COLOR:darkgreen
DESCRIPTION:Predmet: Fizika (FKKT Biokemija) ()\, Vaje (V)\, [2]\nLetniki:
  \nIzvajalci: Gašper Kokot\nProstor: 3067 (3B FKKT)
LOCATION:3067 (3B FKKT)
ORGANIZER:Gašper Kokot
RELATED-TO:fmf-AFLABS-URNIK:srecanje:13654
X-WR-TIMEZONE:Europe/Ljubljana
END:VEVENT
BEGIN:VEVENT
SUMMARY:Fizika (FKKT Biokemija) ()\, Vaje (V)\, [2]
DTSTART;TZID=Europe/Ljubljana:20241022T110000
DTEND;TZID=Europe/Ljubljana:20241022T130000
DTSTAMP:20260420T004359Z
UID:fmf-AFLABS-URNIK:premaknjeno-srecanje:192336
CATEGORIES:Entry,Standard
COLOR:darkgreen
DESCRIPTION:Predmet: Fizika (FKKT Biokemija) ()\, Vaje (V)\, [2]\nLetniki:
  \nIzvajalci: Gašper Kokot\nProstor: 3067 (3B FKKT)
LOCATION:3067 (3B FKKT)
ORGANIZER:Gašper Kokot
RELATED-TO:fmf-AFLABS-URNIK:srecanje:13654
X-WR-TIMEZONE:Europe/Ljubljana
END:VEVENT
BEGIN:VEVENT
SUMMARY:Fizika (FKKT Biokemija) ()\, Vaje (V)\, [2]
DTSTART;TZID=Europe/Ljubljana:20241029T110000
DTEND;TZID=Europe/Ljubljana:20241029T130000
DTSTAMP:20260420T004359Z
UID:fmf-AFLABS-URNIK:premaknjeno-srecanje:192337
CATEGORIES:Entry,Standard
COLOR:darkgreen
DESCRIPTION:Predmet: Fizika (FKKT Biokemija) ()\, Vaje (V)\, [2]\nLetniki:
  \nIzvajalci: Gašper Kokot\nProstor: 3067 (3B FKKT)
LOCATION:3067 (3B FKKT)
ORGANIZER:Gašper Kokot
RELATED-TO:fmf-AFLABS-URNIK:srecanje:13654
X-WR-TIMEZONE:Europe/Ljubljana
END:VEVENT
BEGIN:VEVENT
SUMMARY:Fizika (FKKT Biokemija) ()\, Vaje (V)\, [2]
DTSTART;TZID=Europe/Ljubljana:20241105T110000
DTEND;TZID=Europe/Ljubljana:20241105T130000
DTSTAMP:20260420T004359Z
UID:fmf-AFLABS-URNIK:premaknjeno-srecanje:192338
CATEGORIES:Entry,Standard
COLOR:darkgreen
DESCRIPTION:Predmet: Fizika (FKKT Biokemija) ()\, Vaje (V)\, [2]\nLetniki:
  \nIzvajalci: Gašper Kokot\nProstor: 3067 (3B FKKT)
LOCATION:3067 (3B FKKT)
ORGANIZER:Gašper Kokot
RELATED-TO:fmf-AFLABS-URNIK:srecanje:13654
X-WR-TIMEZONE:Europe/Ljubljana
END:VEVENT
BEGIN:VEVENT
SUMMARY:Fizika (FKKT Biokemija) ()\, Vaje (V)\, [2]
DTSTART;TZID=Europe/Ljubljana:20241112T110000
DTEND;TZID=Europe/Ljubljana:20241112T130000
DTSTAMP:20260420T004359Z
UID:fmf-AFLABS-URNIK:premaknjeno-srecanje:192339
CATEGORIES:Entry,Standard
COLOR:darkgreen
DESCRIPTION:Predmet: Fizika (FKKT Biokemija) ()\, Vaje (V)\, [2]\nLetniki:
  \nIzvajalci: Gašper Kokot\nProstor: 3067 (3B FKKT)
LOCATION:3067 (3B FKKT)
ORGANIZER:Gašper Kokot
RELATED-TO:fmf-AFLABS-URNIK:srecanje:13654
X-WR-TIMEZONE:Europe/Ljubljana
END:VEVENT
BEGIN:VEVENT
SUMMARY:Fizika (FKKT Biokemija) ()\, Vaje (V)\, [2]
DTSTART;TZID=Europe/Ljubljana:20241119T110000
DTEND;TZID=Europe/Ljubljana:20241119T130000
DTSTAMP:20260420T004359Z
UID:fmf-AFLABS-URNIK:premaknjeno-srecanje:192340
CATEGORIES:Entry,Standard
COLOR:darkgreen
DESCRIPTION:Predmet: Fizika (FKKT Biokemija) ()\, Vaje (V)\, [2]\nLetniki:
  \nIzvajalci: Gašper Kokot\nProstor: 3067 (3B FKKT)
LOCATION:3067 (3B FKKT)
ORGANIZER:Gašper Kokot
RELATED-TO:fmf-AFLABS-URNIK:srecanje:13654
X-WR-TIMEZONE:Europe/Ljubljana
END:VEVENT
BEGIN:VEVENT
SUMMARY:Fizika (FKKT Biokemija) ()\, Vaje (V)\, [2]
DTSTART;TZID=Europe/Ljubljana:20241126T110000
DTEND;TZID=Europe/Ljubljana:20241126T130000
DTSTAMP:20260420T004359Z
UID:fmf-AFLABS-URNIK:premaknjeno-srecanje:192341
CATEGORIES:Entry,Standard
COLOR:darkgreen
DESCRIPTION:Predmet: Fizika (FKKT Biokemija) ()\, Vaje (V)\, [2]\nLetniki:
  \nIzvajalci: Gašper Kokot\nProstor: 3067 (3B FKKT)
LOCATION:3067 (3B FKKT)
ORGANIZER:Gašper Kokot
RELATED-TO:fmf-AFLABS-URNIK:srecanje:13654
X-WR-TIMEZONE:Europe/Ljubljana
END:VEVENT
BEGIN:VEVENT
SUMMARY:Fizika (FKKT Biokemija) ()\, Vaje (V)\, [2]
DTSTART;TZID=Europe/Ljubljana:20241203T110000
DTEND;TZID=Europe/Ljubljana:20241203T130000
DTSTAMP:20260420T004359Z
UID:fmf-AFLABS-URNIK:premaknjeno-srecanje:192342
CATEGORIES:Entry,Standard
COLOR:darkgreen
DESCRIPTION:Predmet: Fizika (FKKT Biokemija) ()\, Vaje (V)\, [2]\nLetniki:
  \nIzvajalci: Gašper Kokot\nProstor: 3067 (3B FKKT)
LOCATION:3067 (3B FKKT)
ORGANIZER:Gašper Kokot
RELATED-TO:fmf-AFLABS-URNIK:srecanje:13654
X-WR-TIMEZONE:Europe/Ljubljana
END:VEVENT
BEGIN:VEVENT
SUMMARY:Fizika (FKKT Biokemija) ()\, Vaje (V)\, [2]
DTSTART;TZID=Europe/Ljubljana:20241210T110000
DTEND;TZID=Europe/Ljubljana:20241210T130000
DTSTAMP:20260420T004359Z
UID:fmf-AFLABS-URNIK:premaknjeno-srecanje:192343
CATEGORIES:Entry,Standard
COLOR:darkgreen
DESCRIPTION:Predmet: Fizika (FKKT Biokemija) ()\, Vaje (V)\, [2]\nLetniki:
  \nIzvajalci: Gašper Kokot\nProstor: 3067 (3B FKKT)
LOCATION:3067 (3B FKKT)
ORGANIZER:Gašper Kokot
RELATED-TO:fmf-AFLABS-URNIK:srecanje:13654
X-WR-TIMEZONE:Europe/Ljubljana
END:VEVENT
BEGIN:VEVENT
SUMMARY:Fizika (FKKT Biokemija) ()\, Vaje (V)\, [2]
DTSTART;TZID=Europe/Ljubljana:20241217T110000
DTEND;TZID=Europe/Ljubljana:20241217T130000
DTSTAMP:20260420T004359Z
UID:fmf-AFLABS-URNIK:premaknjeno-srecanje:192344
CATEGORIES:Entry,Standard
COLOR:darkgreen
DESCRIPTION:Predmet: Fizika (FKKT Biokemija) ()\, Vaje (V)\, [2]\nLetniki:
  \nIzvajalci: Gašper Kokot\nProstor: 3067 (3B FKKT)
LOCATION:3067 (3B FKKT)
ORGANIZER:Gašper Kokot
RELATED-TO:fmf-AFLABS-URNIK:srecanje:13654
X-WR-TIMEZONE:Europe/Ljubljana
END:VEVENT
BEGIN:VEVENT
SUMMARY:Fizika (FKKT Biokemija) ()\, Vaje (V)\, [2]
DTSTART;TZID=Europe/Ljubljana:20241224T110000
DTEND;TZID=Europe/Ljubljana:20241224T130000
DTSTAMP:20260420T004359Z
UID:fmf-AFLABS-URNIK:premaknjeno-srecanje:192345
CATEGORIES:Entry,Standard
COLOR:darkgreen
DESCRIPTION:Predmet: Fizika (FKKT Biokemija) ()\, Vaje (V)\, [2]\nLetniki:
  \nIzvajalci: Gašper Kokot\nProstor: 3067 (3B FKKT)
LOCATION:3067 (3B FKKT)
ORGANIZER:Gašper Kokot
RELATED-TO:fmf-AFLABS-URNIK:srecanje:13654
X-WR-TIMEZONE:Europe/Ljubljana
END:VEVENT
BEGIN:VEVENT
SUMMARY:Fizika (FKKT Biokemija) ()\, Vaje (V)\, [2]
DTSTART;TZID=Europe/Ljubljana:20241231T110000
DTEND;TZID=Europe/Ljubljana:20241231T130000
DTSTAMP:20260420T004359Z
UID:fmf-AFLABS-URNIK:premaknjeno-srecanje:192346
CATEGORIES:Entry,Standard
COLOR:darkgreen
DESCRIPTION:Predmet: Fizika (FKKT Biokemija) ()\, Vaje (V)\, [2]\nLetniki:
  \nIzvajalci: Gašper Kokot\nProstor: 3067 (3B FKKT)
LOCATION:3067 (3B FKKT)
ORGANIZER:Gašper Kokot
RELATED-TO:fmf-AFLABS-URNIK:srecanje:13654
X-WR-TIMEZONE:Europe/Ljubljana
END:VEVENT
BEGIN:VEVENT
SUMMARY:Fizika (FKKT Biokemija) ()\, Vaje (V)\, [2]
DTSTART;TZID=Europe/Ljubljana:20250107T110000
DTEND;TZID=Europe/Ljubljana:20250107T130000
DTSTAMP:20260420T004359Z
UID:fmf-AFLABS-URNIK:premaknjeno-srecanje:192347
CATEGORIES:Entry,Standard
COLOR:darkgreen
DESCRIPTION:Predmet: Fizika (FKKT Biokemija) ()\, Vaje (V)\, [2]\nLetniki:
  \nIzvajalci: Gašper Kokot\nProstor: 3067 (3B FKKT)
LOCATION:3067 (3B FKKT)
ORGANIZER:Gašper Kokot
RELATED-TO:fmf-AFLABS-URNIK:srecanje:13654
X-WR-TIMEZONE:Europe/Ljubljana
END:VEVENT
BEGIN:VEVENT
SUMMARY:Fizika (FKKT Biokemija) ()\, Vaje (V)\, [2]
DTSTART;TZID=Europe/Ljubljana:20250114T110000
DTEND;TZID=Europe/Ljubljana:20250114T130000
DTSTAMP:20260420T004359Z
UID:fmf-AFLABS-URNIK:premaknjeno-srecanje:192348
CATEGORIES:Entry,Standard
COLOR:darkgreen
DESCRIPTION:Predmet: Fizika (FKKT Biokemija) ()\, Vaje (V)\, [2]\nLetniki:
  \nIzvajalci: Gašper Kokot\nProstor: 3067 (3B FKKT)
LOCATION:3067 (3B FKKT)
ORGANIZER:Gašper Kokot
RELATED-TO:fmf-AFLABS-URNIK:srecanje:13654
X-WR-TIMEZONE:Europe/Ljubljana
END:VEVENT
END:VCALENDAR
