BEGIN:VCALENDAR
VERSION:2.0
PRODID:-//AFLabs urnik izvoz - fmf//aflabs.si//SI
DTSTAMP:20260425T210908Z
NAME:UL FMF urnik
REFRESH-INTERVAL:PT1H
SOURCE:https://urnik.fmf.uni-lj.si/teacher/151?day=2019-09-23&export=1
URL:https://urnik.fmf.uni-lj.si/teacher/151?day=2019-09-23&export=1
X-PUBLISHED-TTL:PT1H
X-WR-CALNAME:UL FMF urnik
X-WR-TIMEZONE:Europe/Ljubljana
BEGIN:VTIMEZONE
TZID:Europe/Ljubljana
BEGIN:DAYLIGHT
DTSTART:20260329T020000
RDATE:20260329T020000
RDATE:20270328T020000
TZNAME:CEST
TZOFFSETFROM:+0100
TZOFFSETTO:+0200
END:DAYLIGHT
BEGIN:STANDARD
DTSTART:20261025T030000
RDATE:20261025T030000
RDATE:20271031T030000
TZNAME:CET
TZOFFSETFROM:+0200
TZOFFSETTO:+0100
END:STANDARD
END:VTIMEZONE
BEGIN:VEVENT
SUMMARY:Računalniški praktikum (PM-1)\, Vaje (V)\, [2]
DTSTART;TZID=Europe/Ljubljana:20191001T120000
DTEND;TZID=Europe/Ljubljana:20191001T150000
DTSTAMP:20260425T210908Z
UID:fmf-AFLABS-URNIK:premaknjeno-srecanje:92812
ATTENDEE:1. letnik (PM)
CATEGORIES:Entry,Standard
COLOR:darkgreen
DESCRIPTION:Predmet: Računalniški praktikum (PM-1)\, Vaje (V)\, [2]\nLet
 niki: 1. letnik (PM)\nIzvajalci: Matjaž Zaveršnik\nProstor: 3.11
LOCATION:3.11
ORGANIZER:Matjaž Zaveršnik
RELATED-TO:fmf-AFLABS-URNIK:srecanje:3682
X-WR-TIMEZONE:Europe/Ljubljana
END:VEVENT
BEGIN:VEVENT
SUMMARY:Računalniški praktikum (PM-1)\, Vaje (V)\, [2]
DTSTART;TZID=Europe/Ljubljana:20191008T120000
DTEND;TZID=Europe/Ljubljana:20191008T150000
DTSTAMP:20260425T210908Z
UID:fmf-AFLABS-URNIK:premaknjeno-srecanje:92813
ATTENDEE:1. letnik (PM)
CATEGORIES:Entry,Standard
COLOR:darkgreen
DESCRIPTION:Predmet: Računalniški praktikum (PM-1)\, Vaje (V)\, [2]\nLet
 niki: 1. letnik (PM)\nIzvajalci: Matjaž Zaveršnik\nProstor: 3.11
LOCATION:3.11
ORGANIZER:Matjaž Zaveršnik
RELATED-TO:fmf-AFLABS-URNIK:srecanje:3682
X-WR-TIMEZONE:Europe/Ljubljana
END:VEVENT
BEGIN:VEVENT
SUMMARY:Računalniški praktikum (PM-1)\, Vaje (V)\, [2]
DTSTART;TZID=Europe/Ljubljana:20191015T120000
DTEND;TZID=Europe/Ljubljana:20191015T150000
DTSTAMP:20260425T210908Z
UID:fmf-AFLABS-URNIK:premaknjeno-srecanje:92814
ATTENDEE:1. letnik (PM)
CATEGORIES:Entry,Standard
COLOR:darkgreen
DESCRIPTION:Predmet: Računalniški praktikum (PM-1)\, Vaje (V)\, [2]\nLet
 niki: 1. letnik (PM)\nIzvajalci: Matjaž Zaveršnik\nProstor: 3.11
LOCATION:3.11
ORGANIZER:Matjaž Zaveršnik
RELATED-TO:fmf-AFLABS-URNIK:srecanje:3682
X-WR-TIMEZONE:Europe/Ljubljana
END:VEVENT
BEGIN:VEVENT
SUMMARY:Računalniški praktikum (PM-1)\, Vaje (V)\, [2]
DTSTART;TZID=Europe/Ljubljana:20191022T120000
DTEND;TZID=Europe/Ljubljana:20191022T150000
DTSTAMP:20260425T210908Z
UID:fmf-AFLABS-URNIK:premaknjeno-srecanje:92815
ATTENDEE:1. letnik (PM)
CATEGORIES:Entry,Standard
COLOR:darkgreen
DESCRIPTION:Predmet: Računalniški praktikum (PM-1)\, Vaje (V)\, [2]\nLet
 niki: 1. letnik (PM)\nIzvajalci: Matjaž Zaveršnik\nProstor: 3.11
LOCATION:3.11
ORGANIZER:Matjaž Zaveršnik
RELATED-TO:fmf-AFLABS-URNIK:srecanje:3682
X-WR-TIMEZONE:Europe/Ljubljana
END:VEVENT
BEGIN:VEVENT
SUMMARY:Računalniški praktikum (FM-1)\, Vaje (V)\, [1]
DTSTART;TZID=Europe/Ljubljana:20191003T140000
DTEND;TZID=Europe/Ljubljana:20191003T170000
DTSTAMP:20260425T210908Z
UID:fmf-AFLABS-URNIK:premaknjeno-srecanje:92450
ATTENDEE:1. letnik (FM)
CATEGORIES:Entry,Standard
COLOR:darkgreen
DESCRIPTION:Predmet: Računalniški praktikum (FM-1)\, Vaje (V)\, [1]\nLet
 niki: 1. letnik (FM)\nIzvajalci: Matjaž Zaveršnik\nProstor: 3.10
LOCATION:3.10
ORGANIZER:Matjaž Zaveršnik
RELATED-TO:fmf-AFLABS-URNIK:srecanje:3679
X-WR-TIMEZONE:Europe/Ljubljana
END:VEVENT
BEGIN:VEVENT
SUMMARY:Računalniški praktikum (FM-1)\, Vaje (V)\, [1]
DTSTART;TZID=Europe/Ljubljana:20191010T140000
DTEND;TZID=Europe/Ljubljana:20191010T170000
DTSTAMP:20260425T210908Z
UID:fmf-AFLABS-URNIK:premaknjeno-srecanje:92451
ATTENDEE:1. letnik (FM)
CATEGORIES:Entry,Standard
COLOR:darkgreen
DESCRIPTION:Predmet: Računalniški praktikum (FM-1)\, Vaje (V)\, [1]\nLet
 niki: 1. letnik (FM)\nIzvajalci: Matjaž Zaveršnik\nProstor: 3.10
LOCATION:3.10
ORGANIZER:Matjaž Zaveršnik
RELATED-TO:fmf-AFLABS-URNIK:srecanje:3679
X-WR-TIMEZONE:Europe/Ljubljana
END:VEVENT
BEGIN:VEVENT
SUMMARY:Računalniški praktikum (FM-1)\, Vaje (V)\, [1]
DTSTART;TZID=Europe/Ljubljana:20191017T140000
DTEND;TZID=Europe/Ljubljana:20191017T170000
DTSTAMP:20260425T210908Z
UID:fmf-AFLABS-URNIK:premaknjeno-srecanje:92452
ATTENDEE:1. letnik (FM)
CATEGORIES:Entry,Standard
COLOR:darkgreen
DESCRIPTION:Predmet: Računalniški praktikum (FM-1)\, Vaje (V)\, [1]\nLet
 niki: 1. letnik (FM)\nIzvajalci: Matjaž Zaveršnik\nProstor: 3.10
LOCATION:3.10
ORGANIZER:Matjaž Zaveršnik
RELATED-TO:fmf-AFLABS-URNIK:srecanje:3679
X-WR-TIMEZONE:Europe/Ljubljana
END:VEVENT
BEGIN:VEVENT
SUMMARY:Računalniški praktikum (FM-1)\, Vaje (V)\, [1]
DTSTART;TZID=Europe/Ljubljana:20191024T140000
DTEND;TZID=Europe/Ljubljana:20191024T170000
DTSTAMP:20260425T210908Z
UID:fmf-AFLABS-URNIK:premaknjeno-srecanje:92453
ATTENDEE:1. letnik (FM)
CATEGORIES:Entry,Standard
COLOR:darkgreen
DESCRIPTION:Predmet: Računalniški praktikum (FM-1)\, Vaje (V)\, [1]\nLet
 niki: 1. letnik (FM)\nIzvajalci: Matjaž Zaveršnik\nProstor: 3.10
LOCATION:3.10
ORGANIZER:Matjaž Zaveršnik
RELATED-TO:fmf-AFLABS-URNIK:srecanje:3679
X-WR-TIMEZONE:Europe/Ljubljana
END:VEVENT
BEGIN:VEVENT
SUMMARY:Računalniški praktikum (APF-1\, APM-1)\, Vaje (V)\, [1]
DTSTART;TZID=Europe/Ljubljana:20191003T180000
DTEND;TZID=Europe/Ljubljana:20191003T200000
DTSTAMP:20260425T210908Z
UID:fmf-AFLABS-URNIK:premaknjeno-srecanje:92544
ATTENDEE:1. letnik (APM)
ATTENDEE:1. letnik (Aplikativna fizika)
CATEGORIES:Entry,Standard
COLOR:darkgreen
DESCRIPTION:Predmet: Računalniški praktikum (APF-1\, APM-1)\, Vaje (V)\,
  [1]\nLetniki: 1. letnik (Aplikativna fizika)\, 1. letnik (APM)\nIzvajalci
 : Matjaž Zaveršnik\nProstor: 3.10
LOCATION:3.10
ORGANIZER:Matjaž Zaveršnik
RELATED-TO:fmf-AFLABS-URNIK:srecanje:3680
X-WR-TIMEZONE:Europe/Ljubljana
END:VEVENT
BEGIN:VEVENT
SUMMARY:Računalniški praktikum (APF-1\, APM-1)\, Vaje (V)\, [1]
DTSTART;TZID=Europe/Ljubljana:20191010T180000
DTEND;TZID=Europe/Ljubljana:20191010T200000
DTSTAMP:20260425T210908Z
UID:fmf-AFLABS-URNIK:premaknjeno-srecanje:92545
ATTENDEE:1. letnik (APM)
ATTENDEE:1. letnik (Aplikativna fizika)
CATEGORIES:Entry,Standard
COLOR:darkgreen
DESCRIPTION:Predmet: Računalniški praktikum (APF-1\, APM-1)\, Vaje (V)\,
  [1]\nLetniki: 1. letnik (Aplikativna fizika)\, 1. letnik (APM)\nIzvajalci
 : Matjaž Zaveršnik\nProstor: 3.10
LOCATION:3.10
ORGANIZER:Matjaž Zaveršnik
RELATED-TO:fmf-AFLABS-URNIK:srecanje:3680
X-WR-TIMEZONE:Europe/Ljubljana
END:VEVENT
BEGIN:VEVENT
SUMMARY:Računalniški praktikum (APF-1\, APM-1)\, Vaje (V)\, [1]
DTSTART;TZID=Europe/Ljubljana:20191017T180000
DTEND;TZID=Europe/Ljubljana:20191017T200000
DTSTAMP:20260425T210908Z
UID:fmf-AFLABS-URNIK:premaknjeno-srecanje:92546
ATTENDEE:1. letnik (APM)
ATTENDEE:1. letnik (Aplikativna fizika)
CATEGORIES:Entry,Standard
COLOR:darkgreen
DESCRIPTION:Predmet: Računalniški praktikum (APF-1\, APM-1)\, Vaje (V)\,
  [1]\nLetniki: 1. letnik (Aplikativna fizika)\, 1. letnik (APM)\nIzvajalci
 : Matjaž Zaveršnik\nProstor: 3.10
LOCATION:3.10
ORGANIZER:Matjaž Zaveršnik
RELATED-TO:fmf-AFLABS-URNIK:srecanje:3680
X-WR-TIMEZONE:Europe/Ljubljana
END:VEVENT
BEGIN:VEVENT
SUMMARY:Računalniški praktikum (APF-1\, APM-1)\, Vaje (V)\, [1]
DTSTART;TZID=Europe/Ljubljana:20191024T180000
DTEND;TZID=Europe/Ljubljana:20191024T200000
DTSTAMP:20260425T210908Z
UID:fmf-AFLABS-URNIK:premaknjeno-srecanje:92547
ATTENDEE:1. letnik (APM)
ATTENDEE:1. letnik (Aplikativna fizika)
CATEGORIES:Entry,Standard
COLOR:darkgreen
DESCRIPTION:Predmet: Računalniški praktikum (APF-1\, APM-1)\, Vaje (V)\,
  [1]\nLetniki: 1. letnik (Aplikativna fizika)\, 1. letnik (APM)\nIzvajalci
 : Matjaž Zaveršnik\nProstor: 3.10
LOCATION:3.10
ORGANIZER:Matjaž Zaveršnik
RELATED-TO:fmf-AFLABS-URNIK:srecanje:3680
X-WR-TIMEZONE:Europe/Ljubljana
END:VEVENT
BEGIN:VEVENT
SUMMARY:FP (FM-3)\, Vaje (V)
DTSTART;TZID=Europe/Ljubljana:20191004T070000
DTEND;TZID=Europe/Ljubljana:20191004T100000
DTSTAMP:20260425T210908Z
UID:fmf-AFLABS-URNIK:premaknjeno-srecanje:20437
ATTENDEE:3. letnik (FM)
CATEGORIES:Entry,Standard
COLOR:darkgreen
DESCRIPTION:Predmet: FP (FM-3)\, Vaje (V)\nLetniki: 3. letnik (FM)\nIzvaja
 lci: Nika Novak\, Matjaž Zaveršnik\nProstor: 3.10
LOCATION:3.10
ORGANIZER:Nika Novak, Matjaž Zaveršnik
RELATED-TO:fmf-AFLABS-URNIK:srecanje:3310
X-WR-TIMEZONE:Europe/Ljubljana
END:VEVENT
BEGIN:VEVENT
SUMMARY:FP (FM-3)\, Vaje (V)
DTSTART;TZID=Europe/Ljubljana:20191011T070000
DTEND;TZID=Europe/Ljubljana:20191011T100000
DTSTAMP:20260425T210908Z
UID:fmf-AFLABS-URNIK:premaknjeno-srecanje:20438
ATTENDEE:3. letnik (FM)
CATEGORIES:Entry,Standard
COLOR:darkgreen
DESCRIPTION:Predmet: FP (FM-3)\, Vaje (V)\nLetniki: 3. letnik (FM)\nIzvaja
 lci: Nika Novak\, Matjaž Zaveršnik\nProstor: 3.10
LOCATION:3.10
ORGANIZER:Nika Novak, Matjaž Zaveršnik
RELATED-TO:fmf-AFLABS-URNIK:srecanje:3310
X-WR-TIMEZONE:Europe/Ljubljana
END:VEVENT
BEGIN:VEVENT
SUMMARY:FP (FM-3)\, Vaje (V)
DTSTART;TZID=Europe/Ljubljana:20191018T070000
DTEND;TZID=Europe/Ljubljana:20191018T100000
DTSTAMP:20260425T210908Z
UID:fmf-AFLABS-URNIK:premaknjeno-srecanje:20439
ATTENDEE:3. letnik (FM)
CATEGORIES:Entry,Standard
COLOR:darkgreen
DESCRIPTION:Predmet: FP (FM-3)\, Vaje (V)\nLetniki: 3. letnik (FM)\nIzvaja
 lci: Nika Novak\, Matjaž Zaveršnik\nProstor: 3.10
LOCATION:3.10
ORGANIZER:Nika Novak, Matjaž Zaveršnik
RELATED-TO:fmf-AFLABS-URNIK:srecanje:3310
X-WR-TIMEZONE:Europe/Ljubljana
END:VEVENT
BEGIN:VEVENT
SUMMARY:FP (FM-3)\, Vaje (V)
DTSTART;TZID=Europe/Ljubljana:20191025T070000
DTEND;TZID=Europe/Ljubljana:20191025T100000
DTSTAMP:20260425T210908Z
UID:fmf-AFLABS-URNIK:premaknjeno-srecanje:20440
ATTENDEE:3. letnik (FM)
CATEGORIES:Entry,Standard
COLOR:darkgreen
DESCRIPTION:Predmet: FP (FM-3)\, Vaje (V)\nLetniki: 3. letnik (FM)\nIzvaja
 lci: Nika Novak\, Matjaž Zaveršnik\nProstor: 3.10
LOCATION:3.10
ORGANIZER:Nika Novak, Matjaž Zaveršnik
RELATED-TO:fmf-AFLABS-URNIK:srecanje:3310
X-WR-TIMEZONE:Europe/Ljubljana
END:VEVENT
BEGIN:VEVENT
SUMMARY:Rezervacija
DTSTART;TZID=Europe/Ljubljana:20190826T100000
DTEND;TZID=Europe/Ljubljana:20190826T130000
DTSTAMP:20260425T210908Z
UID:fmf-AFLABS-URNIK:rezervacija:3991
CATEGORIES:Reservation
COLOR:royalblue
DESCRIPTION:Predmeti: \nLetniki: \nIzvajalci: Matjaž Zaveršnik\nProstori
 : 3.11
LOCATION:3.11
ORGANIZER:Matjaž Zaveršnik
X-WR-TIMEZONE:Europe/Ljubljana
END:VEVENT
BEGIN:VEVENT
SUMMARY:Rezervacija
DTSTART;TZID=Europe/Ljubljana:20190827T130000
DTEND;TZID=Europe/Ljubljana:20190827T160000
DTSTAMP:20260425T210908Z
UID:fmf-AFLABS-URNIK:rezervacija:4011
CATEGORIES:Reservation
COLOR:royalblue
DESCRIPTION:Predmeti: \nLetniki: \nIzvajalci: Matjaž Zaveršnik\nProstori
 : 3.10\, 3.11\, 3.12
LOCATION:3.10\, 3.11\, 3.12
ORGANIZER:Matjaž Zaveršnik
X-WR-TIMEZONE:Europe/Ljubljana
END:VEVENT
BEGIN:VEVENT
SUMMARY:Rezervacija
DTSTART;TZID=Europe/Ljubljana:20190904T100000
DTEND;TZID=Europe/Ljubljana:20190904T130000
DTSTAMP:20260425T210908Z
UID:fmf-AFLABS-URNIK:rezervacija:4113
CATEGORIES:Reservation
COLOR:royalblue
DESCRIPTION:Predmeti: \nLetniki: \nIzvajalci: Matjaž Zaveršnik\nProstori
 : 3.10\, 3.11\, 3.12
LOCATION:3.10\, 3.11\, 3.12
ORGANIZER:Matjaž Zaveršnik
X-WR-TIMEZONE:Europe/Ljubljana
END:VEVENT
BEGIN:VEVENT
SUMMARY:Rezervacija
DTSTART;TZID=Europe/Ljubljana:20190910T100000
DTEND;TZID=Europe/Ljubljana:20190910T130000
DTSTAMP:20260425T210908Z
UID:fmf-AFLABS-URNIK:rezervacija:4218
CATEGORIES:Reservation
COLOR:royalblue
DESCRIPTION:Predmeti: \nLetniki: \nIzvajalci: Matjaž Zaveršnik\nProstori
 : 3.11
LOCATION:3.11
ORGANIZER:Matjaž Zaveršnik
X-WR-TIMEZONE:Europe/Ljubljana
END:VEVENT
END:VCALENDAR
