BEGIN:VCALENDAR
VERSION:2.0
PRODID:-//AFLabs urnik izvoz - fmf//aflabs.si//SI
DTSTAMP:20260422T224820Z
NAME:UL FMF urnik
REFRESH-INTERVAL:PT1H
SOURCE:https://urnik.fmf.uni-lj.si/teacher/151?day=2020-09-28&export=1
URL:https://urnik.fmf.uni-lj.si/teacher/151?day=2020-09-28&export=1
X-PUBLISHED-TTL:PT1H
X-WR-CALNAME:UL FMF urnik
X-WR-TIMEZONE:Europe/Ljubljana
BEGIN:VTIMEZONE
TZID:Europe/Ljubljana
BEGIN:DAYLIGHT
DTSTART:20260329T020000
RDATE:20260329T020000
RDATE:20270328T020000
TZNAME:CEST
TZOFFSETFROM:+0100
TZOFFSETTO:+0200
END:DAYLIGHT
BEGIN:STANDARD
DTSTART:20261025T030000
RDATE:20261025T030000
RDATE:20271031T030000
TZNAME:CET
TZOFFSETFROM:+0200
TZOFFSETTO:+0100
END:STANDARD
END:VTIMEZONE
BEGIN:VEVENT
SUMMARY:Računalniški praktikum (APF-1\, APM-1)\, Vaje (V)\, [3]
DTSTART;TZID=Europe/Ljubljana:20201001T180000
DTEND;TZID=Europe/Ljubljana:20201001T200000
DTSTAMP:20260422T224820Z
UID:fmf-AFLABS-URNIK:premaknjeno-srecanje:93269
ATTENDEE:1. letnik (APM)
ATTENDEE:1. letnik (Aplikativna fizika)
CATEGORIES:Entry,Standard
COLOR:darkgreen
DESCRIPTION:Predmet: Računalniški praktikum (APF-1\, APM-1)\, Vaje (V)\,
  [3]\nLetniki: 1. letnik (Aplikativna fizika)\, 1. letnik (APM)\nIzvajalci
 : Matjaž Zaveršnik\nProstor: Na daljavo
LOCATION:Na daljavo
ORGANIZER:Matjaž Zaveršnik
RELATED-TO:fmf-AFLABS-URNIK:srecanje:5398
X-WR-TIMEZONE:Europe/Ljubljana
END:VEVENT
BEGIN:VEVENT
SUMMARY:Računalniški praktikum (APF-1\, APM-1)\, Vaje (V)\, [3]
DTSTART;TZID=Europe/Ljubljana:20201008T180000
DTEND;TZID=Europe/Ljubljana:20201008T200000
DTSTAMP:20260422T224820Z
UID:fmf-AFLABS-URNIK:premaknjeno-srecanje:93270
ATTENDEE:1. letnik (APM)
ATTENDEE:1. letnik (Aplikativna fizika)
CATEGORIES:Entry,Standard
COLOR:darkgreen
DESCRIPTION:Predmet: Računalniški praktikum (APF-1\, APM-1)\, Vaje (V)\,
  [3]\nLetniki: 1. letnik (Aplikativna fizika)\, 1. letnik (APM)\nIzvajalci
 : Matjaž Zaveršnik\nProstor: Na daljavo
LOCATION:Na daljavo
ORGANIZER:Matjaž Zaveršnik
RELATED-TO:fmf-AFLABS-URNIK:srecanje:5398
X-WR-TIMEZONE:Europe/Ljubljana
END:VEVENT
BEGIN:VEVENT
SUMMARY:Računalniški praktikum (APF-1\, APM-1)\, Vaje (V)\, [3]
DTSTART;TZID=Europe/Ljubljana:20201015T180000
DTEND;TZID=Europe/Ljubljana:20201015T200000
DTSTAMP:20260422T224820Z
UID:fmf-AFLABS-URNIK:premaknjeno-srecanje:93271
ATTENDEE:1. letnik (APM)
ATTENDEE:1. letnik (Aplikativna fizika)
CATEGORIES:Entry,Standard
COLOR:darkgreen
DESCRIPTION:Predmet: Računalniški praktikum (APF-1\, APM-1)\, Vaje (V)\,
  [3]\nLetniki: 1. letnik (Aplikativna fizika)\, 1. letnik (APM)\nIzvajalci
 : Matjaž Zaveršnik\nProstor: Na daljavo
LOCATION:Na daljavo
ORGANIZER:Matjaž Zaveršnik
RELATED-TO:fmf-AFLABS-URNIK:srecanje:5398
X-WR-TIMEZONE:Europe/Ljubljana
END:VEVENT
BEGIN:VEVENT
SUMMARY:Računalniški praktikum (APF-1\, APM-1)\, Vaje (V)\, [3]
DTSTART;TZID=Europe/Ljubljana:20201022T180000
DTEND;TZID=Europe/Ljubljana:20201022T200000
DTSTAMP:20260422T224820Z
UID:fmf-AFLABS-URNIK:premaknjeno-srecanje:93272
ATTENDEE:1. letnik (APM)
ATTENDEE:1. letnik (Aplikativna fizika)
CATEGORIES:Entry,Standard
COLOR:darkgreen
DESCRIPTION:Predmet: Računalniški praktikum (APF-1\, APM-1)\, Vaje (V)\,
  [3]\nLetniki: 1. letnik (Aplikativna fizika)\, 1. letnik (APM)\nIzvajalci
 : Matjaž Zaveršnik\nProstor: Na daljavo
LOCATION:Na daljavo
ORGANIZER:Matjaž Zaveršnik
RELATED-TO:fmf-AFLABS-URNIK:srecanje:5398
X-WR-TIMEZONE:Europe/Ljubljana
END:VEVENT
BEGIN:VEVENT
SUMMARY:Računalniški praktikum (APF-1\, APM-1)\, Vaje (V)\, [3]
DTSTART;TZID=Europe/Ljubljana:20201029T180000
DTEND;TZID=Europe/Ljubljana:20201029T200000
DTSTAMP:20260422T224820Z
UID:fmf-AFLABS-URNIK:premaknjeno-srecanje:93273
ATTENDEE:1. letnik (APM)
ATTENDEE:1. letnik (Aplikativna fizika)
CATEGORIES:Entry,Standard
COLOR:darkgreen
DESCRIPTION:Predmet: Računalniški praktikum (APF-1\, APM-1)\, Vaje (V)\,
  [3]\nLetniki: 1. letnik (Aplikativna fizika)\, 1. letnik (APM)\nIzvajalci
 : Matjaž Zaveršnik\nProstor: Na daljavo
LOCATION:Na daljavo
ORGANIZER:Matjaž Zaveršnik
RELATED-TO:fmf-AFLABS-URNIK:srecanje:5398
X-WR-TIMEZONE:Europe/Ljubljana
END:VEVENT
BEGIN:VEVENT
SUMMARY:Računalniški praktikum (FM-1)\, Vaje (V)\, [6]
DTSTART;TZID=Europe/Ljubljana:20201001T140000
DTEND;TZID=Europe/Ljubljana:20201001T170000
DTSTAMP:20260422T224820Z
UID:fmf-AFLABS-URNIK:premaknjeno-srecanje:93738
ATTENDEE:1. letnik (FM)
CATEGORIES:Entry,Standard
COLOR:darkgreen
DESCRIPTION:Predmet: Računalniški praktikum (FM-1)\, Vaje (V)\, [6]\nLet
 niki: 1. letnik (FM)\nIzvajalci: Matjaž Zaveršnik\nProstor: Na daljavo
LOCATION:Na daljavo
ORGANIZER:Matjaž Zaveršnik
RELATED-TO:fmf-AFLABS-URNIK:srecanje:5393
X-WR-TIMEZONE:Europe/Ljubljana
END:VEVENT
BEGIN:VEVENT
SUMMARY:Računalniški praktikum (FM-1)\, Vaje (V)\, [6]
DTSTART;TZID=Europe/Ljubljana:20201008T140000
DTEND;TZID=Europe/Ljubljana:20201008T170000
DTSTAMP:20260422T224820Z
UID:fmf-AFLABS-URNIK:premaknjeno-srecanje:93739
ATTENDEE:1. letnik (FM)
CATEGORIES:Entry,Standard
COLOR:darkgreen
DESCRIPTION:Predmet: Računalniški praktikum (FM-1)\, Vaje (V)\, [6]\nLet
 niki: 1. letnik (FM)\nIzvajalci: Matjaž Zaveršnik\nProstor: Na daljavo
LOCATION:Na daljavo
ORGANIZER:Matjaž Zaveršnik
RELATED-TO:fmf-AFLABS-URNIK:srecanje:5393
X-WR-TIMEZONE:Europe/Ljubljana
END:VEVENT
BEGIN:VEVENT
SUMMARY:Računalniški praktikum (FM-1)\, Vaje (V)\, [6]
DTSTART;TZID=Europe/Ljubljana:20201015T140000
DTEND;TZID=Europe/Ljubljana:20201015T170000
DTSTAMP:20260422T224820Z
UID:fmf-AFLABS-URNIK:premaknjeno-srecanje:93740
ATTENDEE:1. letnik (FM)
CATEGORIES:Entry,Standard
COLOR:darkgreen
DESCRIPTION:Predmet: Računalniški praktikum (FM-1)\, Vaje (V)\, [6]\nLet
 niki: 1. letnik (FM)\nIzvajalci: Matjaž Zaveršnik\nProstor: Na daljavo
LOCATION:Na daljavo
ORGANIZER:Matjaž Zaveršnik
RELATED-TO:fmf-AFLABS-URNIK:srecanje:5393
X-WR-TIMEZONE:Europe/Ljubljana
END:VEVENT
BEGIN:VEVENT
SUMMARY:Računalniški praktikum (FM-1)\, Vaje (V)\, [6]
DTSTART;TZID=Europe/Ljubljana:20201022T140000
DTEND;TZID=Europe/Ljubljana:20201022T170000
DTSTAMP:20260422T224820Z
UID:fmf-AFLABS-URNIK:premaknjeno-srecanje:93741
ATTENDEE:1. letnik (FM)
CATEGORIES:Entry,Standard
COLOR:darkgreen
DESCRIPTION:Predmet: Računalniški praktikum (FM-1)\, Vaje (V)\, [6]\nLet
 niki: 1. letnik (FM)\nIzvajalci: Matjaž Zaveršnik\nProstor: Na daljavo
LOCATION:Na daljavo
ORGANIZER:Matjaž Zaveršnik
RELATED-TO:fmf-AFLABS-URNIK:srecanje:5393
X-WR-TIMEZONE:Europe/Ljubljana
END:VEVENT
BEGIN:VEVENT
SUMMARY:Računalniški praktikum (FM-1)\, Vaje (V)\, [6]
DTSTART;TZID=Europe/Ljubljana:20201029T140000
DTEND;TZID=Europe/Ljubljana:20201029T170000
DTSTAMP:20260422T224820Z
UID:fmf-AFLABS-URNIK:premaknjeno-srecanje:93742
ATTENDEE:1. letnik (FM)
CATEGORIES:Entry,Standard
COLOR:darkgreen
DESCRIPTION:Predmet: Računalniški praktikum (FM-1)\, Vaje (V)\, [6]\nLet
 niki: 1. letnik (FM)\nIzvajalci: Matjaž Zaveršnik\nProstor: Na daljavo
LOCATION:Na daljavo
ORGANIZER:Matjaž Zaveršnik
RELATED-TO:fmf-AFLABS-URNIK:srecanje:5393
X-WR-TIMEZONE:Europe/Ljubljana
END:VEVENT
BEGIN:VEVENT
SUMMARY:FP (FM-3)\, Vaje (V)
DTSTART;TZID=Europe/Ljubljana:20201002T070000
DTEND;TZID=Europe/Ljubljana:20201002T100000
DTSTAMP:20260422T224820Z
UID:fmf-AFLABS-URNIK:premaknjeno-srecanje:20453
ATTENDEE:3. letnik (FM)
CATEGORIES:Entry,Standard
COLOR:darkgreen
DESCRIPTION:Predmet: FP (FM-3)\, Vaje (V)\nLetniki: 3. letnik (FM)\nIzvaja
 lci: Nika Novak\, Matjaž Zaveršnik\nProstor: 3.10
LOCATION:3.10
ORGANIZER:Nika Novak, Matjaž Zaveršnik
RELATED-TO:fmf-AFLABS-URNIK:srecanje:4737
X-WR-TIMEZONE:Europe/Ljubljana
END:VEVENT
BEGIN:VEVENT
SUMMARY:FP (FM-3)\, Vaje (V)
DTSTART;TZID=Europe/Ljubljana:20201009T070000
DTEND;TZID=Europe/Ljubljana:20201009T100000
DTSTAMP:20260422T224820Z
UID:fmf-AFLABS-URNIK:premaknjeno-srecanje:20454
ATTENDEE:3. letnik (FM)
CATEGORIES:Entry,Standard
COLOR:darkgreen
DESCRIPTION:Predmet: FP (FM-3)\, Vaje (V)\nLetniki: 3. letnik (FM)\nIzvaja
 lci: Nika Novak\, Matjaž Zaveršnik\nProstor: 3.10
LOCATION:3.10
ORGANIZER:Nika Novak, Matjaž Zaveršnik
RELATED-TO:fmf-AFLABS-URNIK:srecanje:4737
X-WR-TIMEZONE:Europe/Ljubljana
END:VEVENT
BEGIN:VEVENT
SUMMARY:FP (FM-3)\, Vaje (V)
DTSTART;TZID=Europe/Ljubljana:20201016T070000
DTEND;TZID=Europe/Ljubljana:20201016T100000
DTSTAMP:20260422T224820Z
UID:fmf-AFLABS-URNIK:premaknjeno-srecanje:20455
ATTENDEE:3. letnik (FM)
CATEGORIES:Entry,Standard
COLOR:darkgreen
DESCRIPTION:Predmet: FP (FM-3)\, Vaje (V)\nLetniki: 3. letnik (FM)\nIzvaja
 lci: Nika Novak\, Matjaž Zaveršnik\nProstor: 3.10
LOCATION:3.10
ORGANIZER:Nika Novak, Matjaž Zaveršnik
RELATED-TO:fmf-AFLABS-URNIK:srecanje:4737
X-WR-TIMEZONE:Europe/Ljubljana
END:VEVENT
BEGIN:VEVENT
SUMMARY:FP (FM-3)\, Vaje (V)
DTSTART;TZID=Europe/Ljubljana:20201023T070000
DTEND;TZID=Europe/Ljubljana:20201023T100000
DTSTAMP:20260422T224820Z
UID:fmf-AFLABS-URNIK:premaknjeno-srecanje:20456
ATTENDEE:3. letnik (FM)
CATEGORIES:Entry,Standard
COLOR:darkgreen
DESCRIPTION:Predmet: FP (FM-3)\, Vaje (V)\nLetniki: 3. letnik (FM)\nIzvaja
 lci: Nika Novak\, Matjaž Zaveršnik\nProstor: 3.10
LOCATION:3.10
ORGANIZER:Nika Novak, Matjaž Zaveršnik
RELATED-TO:fmf-AFLABS-URNIK:srecanje:4737
X-WR-TIMEZONE:Europe/Ljubljana
END:VEVENT
BEGIN:VEVENT
SUMMARY:FP (FM-3)\, Vaje (V)
DTSTART;TZID=Europe/Ljubljana:20201030T070000
DTEND;TZID=Europe/Ljubljana:20201030T100000
DTSTAMP:20260422T224820Z
UID:fmf-AFLABS-URNIK:premaknjeno-srecanje:20457
ATTENDEE:3. letnik (FM)
CATEGORIES:Entry,Standard
COLOR:darkgreen
DESCRIPTION:Predmet: FP (FM-3)\, Vaje (V)\nLetniki: 3. letnik (FM)\nIzvaja
 lci: Nika Novak\, Matjaž Zaveršnik\nProstor: 3.10
LOCATION:3.10
ORGANIZER:Nika Novak, Matjaž Zaveršnik
RELATED-TO:fmf-AFLABS-URNIK:srecanje:4737
X-WR-TIMEZONE:Europe/Ljubljana
END:VEVENT
BEGIN:VEVENT
SUMMARY:Računalniški praktikum (PM-1)\, Vaje (V)\, [3]
DTSTART;TZID=Europe/Ljubljana:20201006T120000
DTEND;TZID=Europe/Ljubljana:20201006T150000
DTSTAMP:20260422T224820Z
UID:fmf-AFLABS-URNIK:premaknjeno-srecanje:93159
ATTENDEE:1. letnik (PM)
CATEGORIES:Entry,Standard
COLOR:darkgreen
DESCRIPTION:Predmet: Računalniški praktikum (PM-1)\, Vaje (V)\, [3]\nLet
 niki: 1. letnik (PM)\nIzvajalci: Matjaž Zaveršnik\nProstor: Na daljavo
LOCATION:Na daljavo
ORGANIZER:Matjaž Zaveršnik
RELATED-TO:fmf-AFLABS-URNIK:srecanje:5397
X-WR-TIMEZONE:Europe/Ljubljana
END:VEVENT
BEGIN:VEVENT
SUMMARY:Računalniški praktikum (PM-1)\, Vaje (V)\, [3]
DTSTART;TZID=Europe/Ljubljana:20201013T120000
DTEND;TZID=Europe/Ljubljana:20201013T150000
DTSTAMP:20260422T224820Z
UID:fmf-AFLABS-URNIK:premaknjeno-srecanje:93160
ATTENDEE:1. letnik (PM)
CATEGORIES:Entry,Standard
COLOR:darkgreen
DESCRIPTION:Predmet: Računalniški praktikum (PM-1)\, Vaje (V)\, [3]\nLet
 niki: 1. letnik (PM)\nIzvajalci: Matjaž Zaveršnik\nProstor: Na daljavo
LOCATION:Na daljavo
ORGANIZER:Matjaž Zaveršnik
RELATED-TO:fmf-AFLABS-URNIK:srecanje:5397
X-WR-TIMEZONE:Europe/Ljubljana
END:VEVENT
BEGIN:VEVENT
SUMMARY:Računalniški praktikum (PM-1)\, Vaje (V)\, [3]
DTSTART;TZID=Europe/Ljubljana:20201020T120000
DTEND;TZID=Europe/Ljubljana:20201020T150000
DTSTAMP:20260422T224820Z
UID:fmf-AFLABS-URNIK:premaknjeno-srecanje:93161
ATTENDEE:1. letnik (PM)
CATEGORIES:Entry,Standard
COLOR:darkgreen
DESCRIPTION:Predmet: Računalniški praktikum (PM-1)\, Vaje (V)\, [3]\nLet
 niki: 1. letnik (PM)\nIzvajalci: Matjaž Zaveršnik\nProstor: Na daljavo
LOCATION:Na daljavo
ORGANIZER:Matjaž Zaveršnik
RELATED-TO:fmf-AFLABS-URNIK:srecanje:5397
X-WR-TIMEZONE:Europe/Ljubljana
END:VEVENT
BEGIN:VEVENT
SUMMARY:Računalniški praktikum (PM-1)\, Vaje (V)\, [3]
DTSTART;TZID=Europe/Ljubljana:20201027T120000
DTEND;TZID=Europe/Ljubljana:20201027T150000
DTSTAMP:20260422T224820Z
UID:fmf-AFLABS-URNIK:premaknjeno-srecanje:93162
ATTENDEE:1. letnik (PM)
CATEGORIES:Entry,Standard
COLOR:darkgreen
DESCRIPTION:Predmet: Računalniški praktikum (PM-1)\, Vaje (V)\, [3]\nLet
 niki: 1. letnik (PM)\nIzvajalci: Matjaž Zaveršnik\nProstor: Na daljavo
LOCATION:Na daljavo
ORGANIZER:Matjaž Zaveršnik
RELATED-TO:fmf-AFLABS-URNIK:srecanje:5397
X-WR-TIMEZONE:Europe/Ljubljana
END:VEVENT
BEGIN:VEVENT
SUMMARY:Rezervacija
DTSTART;TZID=Europe/Ljubljana:20200824T140000
DTEND;TZID=Europe/Ljubljana:20200824T170000
DTSTAMP:20260422T224820Z
UID:fmf-AFLABS-URNIK:rezervacija:6030
CATEGORIES:Reservation
COLOR:royalblue
DESCRIPTION:Predmeti: \nLetniki: \nIzvajalci: Matjaž Zaveršnik\nProstori
 : 3.11
LOCATION:3.11
ORGANIZER:Matjaž Zaveršnik
X-WR-TIMEZONE:Europe/Ljubljana
END:VEVENT
BEGIN:VEVENT
SUMMARY:Rezervacija
DTSTART;TZID=Europe/Ljubljana:20200824T140000
DTEND;TZID=Europe/Ljubljana:20200824T170000
DTSTAMP:20260422T224820Z
UID:fmf-AFLABS-URNIK:rezervacija:6031
CATEGORIES:Reservation
COLOR:royalblue
DESCRIPTION:Predmeti: \nLetniki: \nIzvajalci: Matjaž Zaveršnik\nProstori
 : 3.12
LOCATION:3.12
ORGANIZER:Matjaž Zaveršnik
X-WR-TIMEZONE:Europe/Ljubljana
END:VEVENT
BEGIN:VEVENT
SUMMARY:Rezervacija
DTSTART;TZID=Europe/Ljubljana:20200825T130000
DTEND;TZID=Europe/Ljubljana:20200825T160000
DTSTAMP:20260422T224820Z
UID:fmf-AFLABS-URNIK:rezervacija:6052
CATEGORIES:Reservation
COLOR:royalblue
DESCRIPTION:Predmeti: \nLetniki: \nIzvajalci: Matjaž Zaveršnik\nProstori
 : 3.10\, 3.11\, 3.12
LOCATION:3.10\, 3.11\, 3.12
ORGANIZER:Matjaž Zaveršnik
X-WR-TIMEZONE:Europe/Ljubljana
END:VEVENT
BEGIN:VEVENT
SUMMARY:Rezervacija
DTSTART;TZID=Europe/Ljubljana:20200908T090000
DTEND;TZID=Europe/Ljubljana:20200908T120000
DTSTAMP:20260422T224820Z
UID:fmf-AFLABS-URNIK:rezervacija:6296
ATTENDEE:2. letnik (APM)
CATEGORIES:Reservation
COLOR:royalblue
DESCRIPTION:Predmeti: Programiranje 2 (APM-2)\nLetniki: 2. letnik (APM)\nI
 zvajalci: Matjaž Zaveršnik\nProstori: 3.12
LOCATION:3.12
ORGANIZER:Matjaž Zaveršnik
X-WR-TIMEZONE:Europe/Ljubljana
END:VEVENT
END:VCALENDAR
