BEGIN:VCALENDAR
VERSION:2.0
PRODID:-//AFLabs urnik izvoz - fmf//aflabs.si//SI
DTSTAMP:20260420T064312Z
NAME:UL FMF urnik
REFRESH-INTERVAL:PT1H
SOURCE:https://urnik.fmf.uni-lj.si/teacher/151?day=2021-06-21&export=1
URL:https://urnik.fmf.uni-lj.si/teacher/151?day=2021-06-21&export=1
X-PUBLISHED-TTL:PT1H
X-WR-CALNAME:UL FMF urnik
X-WR-TIMEZONE:Europe/Ljubljana
BEGIN:VTIMEZONE
TZID:Europe/Ljubljana
BEGIN:DAYLIGHT
DTSTART:20260329T020000
RDATE:20260329T020000
RDATE:20270328T020000
TZNAME:CEST
TZOFFSETFROM:+0100
TZOFFSETTO:+0200
END:DAYLIGHT
BEGIN:STANDARD
DTSTART:20261025T030000
RDATE:20261025T030000
RDATE:20271031T030000
TZNAME:CET
TZOFFSETFROM:+0200
TZOFFSETTO:+0100
END:STANDARD
END:VTIMEZONE
BEGIN:VEVENT
SUMMARY:Programiranje 2 (APM-2)\, Vaje (V)
DTSTART;TZID=Europe/Ljubljana:20210518T100000
DTEND;TZID=Europe/Ljubljana:20210518T120000
DTSTAMP:20260420T064312Z
UID:fmf-AFLABS-URNIK:premaknjeno-srecanje:86912
ATTENDEE:2. letnik (APM)
CATEGORIES:Entry,Standard
COLOR:darkgreen
DESCRIPTION:Predmet: Programiranje 2 (APM-2)\, Vaje (V)\nLetniki: 2. letni
 k (APM)\nIzvajalci: Matjaž Zaveršnik\nProstor: 3.11
LOCATION:3.11
ORGANIZER:Matjaž Zaveršnik
RELATED-TO:fmf-AFLABS-URNIK:srecanje:5830
X-WR-TIMEZONE:Europe/Ljubljana
END:VEVENT
BEGIN:VEVENT
SUMMARY:Programiranje 2 (APM-2)\, Vaje (V)
DTSTART;TZID=Europe/Ljubljana:20210525T100000
DTEND;TZID=Europe/Ljubljana:20210525T120000
DTSTAMP:20260420T064312Z
UID:fmf-AFLABS-URNIK:premaknjeno-srecanje:86913
ATTENDEE:2. letnik (APM)
CATEGORIES:Entry,Standard
COLOR:darkgreen
DESCRIPTION:Predmet: Programiranje 2 (APM-2)\, Vaje (V)\nLetniki: 2. letni
 k (APM)\nIzvajalci: Matjaž Zaveršnik\nProstor: 3.11
LOCATION:3.11
ORGANIZER:Matjaž Zaveršnik
RELATED-TO:fmf-AFLABS-URNIK:srecanje:5830
X-WR-TIMEZONE:Europe/Ljubljana
END:VEVENT
BEGIN:VEVENT
SUMMARY:Uvod v programiranje (MAT-1\, PM-2)\, Vaje (V)\, [2]
DTSTART;TZID=Europe/Ljubljana:20210518T140000
DTEND;TZID=Europe/Ljubljana:20210518T170000
DTSTAMP:20260420T064312Z
UID:fmf-AFLABS-URNIK:premaknjeno-srecanje:117711
ATTENDEE:1. letnik (M)
ATTENDEE:2. letnik (PM)
CATEGORIES:Entry,Standard
COLOR:darkgreen
DESCRIPTION:Predmet: Uvod v programiranje (MAT-1\, PM-2)\, Vaje (V)\, [2]\
 nLetniki: 1. letnik (M)\, 2. letnik (PM)\nIzvajalci: Matjaž Zaveršnik\nP
 rostor: 3.12
LOCATION:3.12
ORGANIZER:Matjaž Zaveršnik
RELATED-TO:fmf-AFLABS-URNIK:srecanje:5965
X-WR-TIMEZONE:Europe/Ljubljana
END:VEVENT
BEGIN:VEVENT
SUMMARY:Uvod v programiranje (MAT-1\, PM-2)\, Vaje (V)\, [2]
DTSTART;TZID=Europe/Ljubljana:20210525T140000
DTEND;TZID=Europe/Ljubljana:20210525T170000
DTSTAMP:20260420T064312Z
UID:fmf-AFLABS-URNIK:premaknjeno-srecanje:117712
ATTENDEE:1. letnik (M)
ATTENDEE:2. letnik (PM)
CATEGORIES:Entry,Standard
COLOR:darkgreen
DESCRIPTION:Predmet: Uvod v programiranje (MAT-1\, PM-2)\, Vaje (V)\, [2]\
 nLetniki: 1. letnik (M)\, 2. letnik (PM)\nIzvajalci: Matjaž Zaveršnik\nP
 rostor: 3.12
LOCATION:3.12
ORGANIZER:Matjaž Zaveršnik
RELATED-TO:fmf-AFLABS-URNIK:srecanje:5965
X-WR-TIMEZONE:Europe/Ljubljana
END:VEVENT
BEGIN:VEVENT
SUMMARY:Uvod v programiranje (FM-1)\, Vaje (V)\, [3]
DTSTART;TZID=Europe/Ljubljana:20210518T170000
DTEND;TZID=Europe/Ljubljana:20210518T200000
DTSTAMP:20260420T064312Z
UID:fmf-AFLABS-URNIK:premaknjeno-srecanje:117882
ATTENDEE:1. letnik (FM)
CATEGORIES:Entry,Standard
COLOR:darkgreen
DESCRIPTION:Predmet: Uvod v programiranje (FM-1)\, Vaje (V)\, [3]\nLetniki
 : 1. letnik (FM)\nIzvajalci: Matjaž Zaveršnik\nProstor: 3.11
LOCATION:3.11
ORGANIZER:Matjaž Zaveršnik
RELATED-TO:fmf-AFLABS-URNIK:srecanje:5963
X-WR-TIMEZONE:Europe/Ljubljana
END:VEVENT
BEGIN:VEVENT
SUMMARY:Uvod v programiranje (FM-1)\, Vaje (V)\, [3]
DTSTART;TZID=Europe/Ljubljana:20210525T170000
DTEND;TZID=Europe/Ljubljana:20210525T200000
DTSTAMP:20260420T064312Z
UID:fmf-AFLABS-URNIK:premaknjeno-srecanje:117883
ATTENDEE:1. letnik (FM)
CATEGORIES:Entry,Standard
COLOR:darkgreen
DESCRIPTION:Predmet: Uvod v programiranje (FM-1)\, Vaje (V)\, [3]\nLetniki
 : 1. letnik (FM)\nIzvajalci: Matjaž Zaveršnik\nProstor: 3.11
LOCATION:3.11
ORGANIZER:Matjaž Zaveršnik
RELATED-TO:fmf-AFLABS-URNIK:srecanje:5963
X-WR-TIMEZONE:Europe/Ljubljana
END:VEVENT
BEGIN:VEVENT
SUMMARY:Programiranje 2 (FM-3\, MAT-2)\, Vaje (V)\, [1]
DTSTART;TZID=Europe/Ljubljana:20210519T120000
DTEND;TZID=Europe/Ljubljana:20210519T140000
DTSTAMP:20260420T064312Z
UID:fmf-AFLABS-URNIK:premaknjeno-srecanje:87005
ATTENDEE:2. letnik (M)
ATTENDEE:3. letnik (FM)
CATEGORIES:Entry,Standard
COLOR:darkgreen
DESCRIPTION:Predmet: Programiranje 2 (FM-3\, MAT-2)\, Vaje (V)\, [1]\nLetn
 iki: 3. letnik (FM)\, 2. letnik (M)\nIzvajalci: Matjaž Zaveršnik\nProsto
 r: 3.10
LOCATION:3.10
ORGANIZER:Matjaž Zaveršnik
RELATED-TO:fmf-AFLABS-URNIK:srecanje:5831
X-WR-TIMEZONE:Europe/Ljubljana
END:VEVENT
BEGIN:VEVENT
SUMMARY:Programiranje 2 (FM-3\, MAT-2)\, Vaje (V)\, [1]
DTSTART;TZID=Europe/Ljubljana:20210526T120000
DTEND;TZID=Europe/Ljubljana:20210526T140000
DTSTAMP:20260420T064312Z
UID:fmf-AFLABS-URNIK:premaknjeno-srecanje:87006
ATTENDEE:2. letnik (M)
ATTENDEE:3. letnik (FM)
CATEGORIES:Entry,Standard
COLOR:darkgreen
DESCRIPTION:Predmet: Programiranje 2 (FM-3\, MAT-2)\, Vaje (V)\, [1]\nLetn
 iki: 3. letnik (FM)\, 2. letnik (M)\nIzvajalci: Matjaž Zaveršnik\nProsto
 r: 3.10
LOCATION:3.10
ORGANIZER:Matjaž Zaveršnik
RELATED-TO:fmf-AFLABS-URNIK:srecanje:5831
X-WR-TIMEZONE:Europe/Ljubljana
END:VEVENT
BEGIN:VEVENT
SUMMARY:Programiranje 2 (FM-3\, MAT-2)\, Vaje (V)\, [2]
DTSTART;TZID=Europe/Ljubljana:20210519T080000
DTEND;TZID=Europe/Ljubljana:20210519T100000
DTSTAMP:20260420T064312Z
UID:fmf-AFLABS-URNIK:premaknjeno-srecanje:87097
ATTENDEE:2. letnik (M)
ATTENDEE:3. letnik (FM)
CATEGORIES:Entry,Standard
COLOR:darkgreen
DESCRIPTION:Predmet: Programiranje 2 (FM-3\, MAT-2)\, Vaje (V)\, [2]\nLetn
 iki: 3. letnik (FM)\, 2. letnik (M)\nIzvajalci: Matjaž Zaveršnik\nProsto
 r: 3.10
LOCATION:3.10
ORGANIZER:Matjaž Zaveršnik
RELATED-TO:fmf-AFLABS-URNIK:srecanje:5832
X-WR-TIMEZONE:Europe/Ljubljana
END:VEVENT
BEGIN:VEVENT
SUMMARY:Programiranje 2 (FM-3\, MAT-2)\, Vaje (V)\, [2]
DTSTART;TZID=Europe/Ljubljana:20210526T080000
DTEND;TZID=Europe/Ljubljana:20210526T100000
DTSTAMP:20260420T064312Z
UID:fmf-AFLABS-URNIK:premaknjeno-srecanje:87098
ATTENDEE:2. letnik (M)
ATTENDEE:3. letnik (FM)
CATEGORIES:Entry,Standard
COLOR:darkgreen
DESCRIPTION:Predmet: Programiranje 2 (FM-3\, MAT-2)\, Vaje (V)\, [2]\nLetn
 iki: 3. letnik (FM)\, 2. letnik (M)\nIzvajalci: Matjaž Zaveršnik\nProsto
 r: 3.10
LOCATION:3.10
ORGANIZER:Matjaž Zaveršnik
RELATED-TO:fmf-AFLABS-URNIK:srecanje:5832
X-WR-TIMEZONE:Europe/Ljubljana
END:VEVENT
BEGIN:VEVENT
SUMMARY:Uvod v programiranje (MAT-1\, PM-2)\, Vaje (V)\, [3]
DTSTART;TZID=Europe/Ljubljana:20210519T140000
DTEND;TZID=Europe/Ljubljana:20210519T170000
DTSTAMP:20260420T064312Z
UID:fmf-AFLABS-URNIK:premaknjeno-srecanje:117944
ATTENDEE:1. letnik (M)
ATTENDEE:2. letnik (PM)
CATEGORIES:Entry,Standard
COLOR:darkgreen
DESCRIPTION:Predmet: Uvod v programiranje (MAT-1\, PM-2)\, Vaje (V)\, [3]\
 nLetniki: 1. letnik (M)\, 2. letnik (PM)\nIzvajalci: Matjaž Zaveršnik\nP
 rostor: 3.11
LOCATION:3.11
ORGANIZER:Matjaž Zaveršnik
RELATED-TO:fmf-AFLABS-URNIK:srecanje:5967
X-WR-TIMEZONE:Europe/Ljubljana
END:VEVENT
BEGIN:VEVENT
SUMMARY:Uvod v programiranje (MAT-1\, PM-2)\, Vaje (V)\, [3]
DTSTART;TZID=Europe/Ljubljana:20210526T140000
DTEND;TZID=Europe/Ljubljana:20210526T170000
DTSTAMP:20260420T064312Z
UID:fmf-AFLABS-URNIK:premaknjeno-srecanje:117945
ATTENDEE:1. letnik (M)
ATTENDEE:2. letnik (PM)
CATEGORIES:Entry,Standard
COLOR:darkgreen
DESCRIPTION:Predmet: Uvod v programiranje (MAT-1\, PM-2)\, Vaje (V)\, [3]\
 nLetniki: 1. letnik (M)\, 2. letnik (PM)\nIzvajalci: Matjaž Zaveršnik\nP
 rostor: 3.11
LOCATION:3.11
ORGANIZER:Matjaž Zaveršnik
RELATED-TO:fmf-AFLABS-URNIK:srecanje:5967
X-WR-TIMEZONE:Europe/Ljubljana
END:VEVENT
BEGIN:VEVENT
SUMMARY:Rezervacija
DTSTART;TZID=Europe/Ljubljana:20210607T090000
DTEND;TZID=Europe/Ljubljana:20210607T120000
DTSTAMP:20260420T064312Z
UID:fmf-AFLABS-URNIK:rezervacija:6756
CATEGORIES:Reservation
COLOR:royalblue
DESCRIPTION:Predmeti: \nLetniki: \nIzvajalci: Matjaž Zaveršnik\nProstori
 : 3.10\, 3.11\, 3.12
LOCATION:3.10\, 3.11\, 3.12
ORGANIZER:Matjaž Zaveršnik
X-WR-TIMEZONE:Europe/Ljubljana
END:VEVENT
BEGIN:VEVENT
SUMMARY:Rezervacija
DTSTART;TZID=Europe/Ljubljana:20210624T090000
DTEND;TZID=Europe/Ljubljana:20210624T120000
DTSTAMP:20260420T064312Z
UID:fmf-AFLABS-URNIK:rezervacija:7048
CATEGORIES:Reservation
COLOR:royalblue
DESCRIPTION:Predmeti: \nLetniki: \nIzvajalci: Matjaž Zaveršnik\nProstori
 : 3.10\, 3.11
LOCATION:3.10\, 3.11
ORGANIZER:Matjaž Zaveršnik
X-WR-TIMEZONE:Europe/Ljubljana
END:VEVENT
END:VCALENDAR
