BEGIN:VCALENDAR
VERSION:2.0
PRODID:-//AFLabs urnik izvoz - fmf//aflabs.si//SI
DTSTAMP:20260425T023051Z
NAME:UL FMF urnik
REFRESH-INTERVAL:PT1H
SOURCE:https://urnik.fmf.uni-lj.si/teacher/1523?day=2024-04-29&export=1
URL:https://urnik.fmf.uni-lj.si/teacher/1523?day=2024-04-29&export=1
X-PUBLISHED-TTL:PT1H
X-WR-CALNAME:UL FMF urnik
X-WR-TIMEZONE:Europe/Ljubljana
BEGIN:VTIMEZONE
TZID:Europe/Ljubljana
BEGIN:DAYLIGHT
DTSTART:20260329T020000
RDATE:20260329T020000
RDATE:20270328T020000
TZNAME:CEST
TZOFFSETFROM:+0100
TZOFFSETTO:+0200
END:DAYLIGHT
BEGIN:STANDARD
DTSTART:20261025T030000
RDATE:20261025T030000
RDATE:20271031T030000
TZNAME:CET
TZOFFSETFROM:+0200
TZOFFSETTO:+0100
END:STANDARD
END:VTIMEZONE
BEGIN:VEVENT
SUMMARY:Matematično izražanje v angleškem jeziku (APM-1)\, Vaje (V)
DTSTART;TZID=Europe/Ljubljana:20240221T120000
DTEND;TZID=Europe/Ljubljana:20240221T140000
DTSTAMP:20260425T023051Z
UID:fmf-AFLABS-URNIK:premaknjeno-srecanje:132914
ATTENDEE:1. letnik (APM)
CATEGORIES:Entry,Standard
COLOR:darkgreen
DESCRIPTION:Predmet: Matematično izražanje v angleškem jeziku (APM-1)\,
  Vaje (V)\nLetniki: 1. letnik (APM)\nIzvajalci: Wills Ton Minh Nguyen\nPro
 stor: 3.05
LOCATION:3.05
ORGANIZER:Wills Ton Minh Nguyen
RELATED-TO:fmf-AFLABS-URNIK:srecanje:10026
X-WR-TIMEZONE:Europe/Ljubljana
END:VEVENT
BEGIN:VEVENT
SUMMARY:Matematično izražanje v angleškem jeziku (APM-1)\, Vaje (V)
DTSTART;TZID=Europe/Ljubljana:20240228T120000
DTEND;TZID=Europe/Ljubljana:20240228T140000
DTSTAMP:20260425T023051Z
UID:fmf-AFLABS-URNIK:premaknjeno-srecanje:132915
ATTENDEE:1. letnik (APM)
CATEGORIES:Entry,Standard
COLOR:darkgreen
DESCRIPTION:Predmet: Matematično izražanje v angleškem jeziku (APM-1)\,
  Vaje (V)\nLetniki: 1. letnik (APM)\nIzvajalci: Wills Ton Minh Nguyen\nPro
 stor: 3.05
LOCATION:3.05
ORGANIZER:Wills Ton Minh Nguyen
RELATED-TO:fmf-AFLABS-URNIK:srecanje:10026
X-WR-TIMEZONE:Europe/Ljubljana
END:VEVENT
BEGIN:VEVENT
SUMMARY:Matematično izražanje v angleškem jeziku (APM-1)\, Vaje (V)
DTSTART;TZID=Europe/Ljubljana:20240306T120000
DTEND;TZID=Europe/Ljubljana:20240306T140000
DTSTAMP:20260425T023051Z
UID:fmf-AFLABS-URNIK:premaknjeno-srecanje:132916
ATTENDEE:1. letnik (APM)
CATEGORIES:Entry,Standard
COLOR:darkgreen
DESCRIPTION:Predmet: Matematično izražanje v angleškem jeziku (APM-1)\,
  Vaje (V)\nLetniki: 1. letnik (APM)\nIzvajalci: Wills Ton Minh Nguyen\nPro
 stor: 3.05
LOCATION:3.05
ORGANIZER:Wills Ton Minh Nguyen
RELATED-TO:fmf-AFLABS-URNIK:srecanje:10026
X-WR-TIMEZONE:Europe/Ljubljana
END:VEVENT
BEGIN:VEVENT
SUMMARY:Matematično izražanje v angleškem jeziku (APM-1)\, Vaje (V)
DTSTART;TZID=Europe/Ljubljana:20240313T120000
DTEND;TZID=Europe/Ljubljana:20240313T140000
DTSTAMP:20260425T023051Z
UID:fmf-AFLABS-URNIK:premaknjeno-srecanje:132917
ATTENDEE:1. letnik (APM)
CATEGORIES:Entry,Standard
COLOR:darkgreen
DESCRIPTION:Predmet: Matematično izražanje v angleškem jeziku (APM-1)\,
  Vaje (V)\nLetniki: 1. letnik (APM)\nIzvajalci: Wills Ton Minh Nguyen\nPro
 stor: 3.05
LOCATION:3.05
ORGANIZER:Wills Ton Minh Nguyen
RELATED-TO:fmf-AFLABS-URNIK:srecanje:10026
X-WR-TIMEZONE:Europe/Ljubljana
END:VEVENT
BEGIN:VEVENT
SUMMARY:Matematično izražanje v angleškem jeziku (APM-1)\, Vaje (V)
DTSTART;TZID=Europe/Ljubljana:20240320T120000
DTEND;TZID=Europe/Ljubljana:20240320T140000
DTSTAMP:20260425T023051Z
UID:fmf-AFLABS-URNIK:premaknjeno-srecanje:132918
ATTENDEE:1. letnik (APM)
CATEGORIES:Entry,Standard
COLOR:darkgreen
DESCRIPTION:Predmet: Matematično izražanje v angleškem jeziku (APM-1)\,
  Vaje (V)\nLetniki: 1. letnik (APM)\nIzvajalci: Wills Ton Minh Nguyen\nPro
 stor: 3.05
LOCATION:3.05
ORGANIZER:Wills Ton Minh Nguyen
RELATED-TO:fmf-AFLABS-URNIK:srecanje:10026
X-WR-TIMEZONE:Europe/Ljubljana
END:VEVENT
BEGIN:VEVENT
SUMMARY:Matematično izražanje v angleškem jeziku (APM-1)\, Vaje (V)
DTSTART;TZID=Europe/Ljubljana:20240327T120000
DTEND;TZID=Europe/Ljubljana:20240327T140000
DTSTAMP:20260425T023051Z
UID:fmf-AFLABS-URNIK:premaknjeno-srecanje:132919
ATTENDEE:1. letnik (APM)
CATEGORIES:Entry,Standard
COLOR:darkgreen
DESCRIPTION:Predmet: Matematično izražanje v angleškem jeziku (APM-1)\,
  Vaje (V)\nLetniki: 1. letnik (APM)\nIzvajalci: Wills Ton Minh Nguyen\nPro
 stor: 3.05
LOCATION:3.05
ORGANIZER:Wills Ton Minh Nguyen
RELATED-TO:fmf-AFLABS-URNIK:srecanje:10026
X-WR-TIMEZONE:Europe/Ljubljana
END:VEVENT
BEGIN:VEVENT
SUMMARY:Matematično izražanje v angleškem jeziku (APM-1)\, Vaje (V)
DTSTART;TZID=Europe/Ljubljana:20240403T120000
DTEND;TZID=Europe/Ljubljana:20240403T140000
DTSTAMP:20260425T023051Z
UID:fmf-AFLABS-URNIK:premaknjeno-srecanje:132920
ATTENDEE:1. letnik (APM)
CATEGORIES:Entry,Standard
COLOR:darkgreen
DESCRIPTION:Predmet: Matematično izražanje v angleškem jeziku (APM-1)\,
  Vaje (V)\nLetniki: 1. letnik (APM)\nIzvajalci: Wills Ton Minh Nguyen\nPro
 stor: 3.05
LOCATION:3.05
ORGANIZER:Wills Ton Minh Nguyen
RELATED-TO:fmf-AFLABS-URNIK:srecanje:10026
X-WR-TIMEZONE:Europe/Ljubljana
END:VEVENT
BEGIN:VEVENT
SUMMARY:Matematično izražanje v angleškem jeziku (APM-1)\, Vaje (V)
DTSTART;TZID=Europe/Ljubljana:20240410T120000
DTEND;TZID=Europe/Ljubljana:20240410T140000
DTSTAMP:20260425T023051Z
UID:fmf-AFLABS-URNIK:premaknjeno-srecanje:132921
ATTENDEE:1. letnik (APM)
CATEGORIES:Entry,Standard
COLOR:darkgreen
DESCRIPTION:Predmet: Matematično izražanje v angleškem jeziku (APM-1)\,
  Vaje (V)\nLetniki: 1. letnik (APM)\nIzvajalci: Wills Ton Minh Nguyen\nPro
 stor: 3.05
LOCATION:3.05
ORGANIZER:Wills Ton Minh Nguyen
RELATED-TO:fmf-AFLABS-URNIK:srecanje:10026
X-WR-TIMEZONE:Europe/Ljubljana
END:VEVENT
BEGIN:VEVENT
SUMMARY:Matematično izražanje v angleškem jeziku (APM-1)\, Vaje (V)
DTSTART;TZID=Europe/Ljubljana:20240417T120000
DTEND;TZID=Europe/Ljubljana:20240417T140000
DTSTAMP:20260425T023051Z
UID:fmf-AFLABS-URNIK:premaknjeno-srecanje:132922
ATTENDEE:1. letnik (APM)
CATEGORIES:Entry,Standard
COLOR:darkgreen
DESCRIPTION:Predmet: Matematično izražanje v angleškem jeziku (APM-1)\,
  Vaje (V)\nLetniki: 1. letnik (APM)\nIzvajalci: Wills Ton Minh Nguyen\nPro
 stor: 3.05
LOCATION:3.05
ORGANIZER:Wills Ton Minh Nguyen
RELATED-TO:fmf-AFLABS-URNIK:srecanje:10026
X-WR-TIMEZONE:Europe/Ljubljana
END:VEVENT
BEGIN:VEVENT
SUMMARY:Matematično izražanje v angleškem jeziku (APM-1)\, Vaje (V)
DTSTART;TZID=Europe/Ljubljana:20240424T120000
DTEND;TZID=Europe/Ljubljana:20240424T140000
DTSTAMP:20260425T023051Z
UID:fmf-AFLABS-URNIK:premaknjeno-srecanje:132923
ATTENDEE:1. letnik (APM)
CATEGORIES:Entry,Standard
COLOR:darkgreen
DESCRIPTION:Predmet: Matematično izražanje v angleškem jeziku (APM-1)\,
  Vaje (V)\nLetniki: 1. letnik (APM)\nIzvajalci: Wills Ton Minh Nguyen\nPro
 stor: 3.05
LOCATION:3.05
ORGANIZER:Wills Ton Minh Nguyen
RELATED-TO:fmf-AFLABS-URNIK:srecanje:10026
X-WR-TIMEZONE:Europe/Ljubljana
END:VEVENT
BEGIN:VEVENT
SUMMARY:Matematično izražanje v angleškem jeziku (APM-1)\, Vaje (V)
DTSTART;TZID=Europe/Ljubljana:20240501T120000
DTEND;TZID=Europe/Ljubljana:20240501T140000
DTSTAMP:20260425T023051Z
UID:fmf-AFLABS-URNIK:premaknjeno-srecanje:132924
ATTENDEE:1. letnik (APM)
CATEGORIES:Entry,Standard
COLOR:darkgreen
DESCRIPTION:Predmet: Matematično izražanje v angleškem jeziku (APM-1)\,
  Vaje (V)\nLetniki: 1. letnik (APM)\nIzvajalci: Wills Ton Minh Nguyen\nPro
 stor: 3.05
LOCATION:3.05
ORGANIZER:Wills Ton Minh Nguyen
RELATED-TO:fmf-AFLABS-URNIK:srecanje:10026
X-WR-TIMEZONE:Europe/Ljubljana
END:VEVENT
BEGIN:VEVENT
SUMMARY:Matematično izražanje v angleškem jeziku (APM-1)\, Vaje (V)
DTSTART;TZID=Europe/Ljubljana:20240508T120000
DTEND;TZID=Europe/Ljubljana:20240508T140000
DTSTAMP:20260425T023051Z
UID:fmf-AFLABS-URNIK:premaknjeno-srecanje:132925
ATTENDEE:1. letnik (APM)
CATEGORIES:Entry,Standard
COLOR:darkgreen
DESCRIPTION:Predmet: Matematično izražanje v angleškem jeziku (APM-1)\,
  Vaje (V)\nLetniki: 1. letnik (APM)\nIzvajalci: Wills Ton Minh Nguyen\nPro
 stor: 3.05
LOCATION:3.05
ORGANIZER:Wills Ton Minh Nguyen
RELATED-TO:fmf-AFLABS-URNIK:srecanje:10026
X-WR-TIMEZONE:Europe/Ljubljana
END:VEVENT
BEGIN:VEVENT
SUMMARY:Matematično izražanje v angleškem jeziku (APM-1)\, Vaje (V)
DTSTART;TZID=Europe/Ljubljana:20240515T120000
DTEND;TZID=Europe/Ljubljana:20240515T140000
DTSTAMP:20260425T023051Z
UID:fmf-AFLABS-URNIK:premaknjeno-srecanje:132926
ATTENDEE:1. letnik (APM)
CATEGORIES:Entry,Standard
COLOR:darkgreen
DESCRIPTION:Predmet: Matematično izražanje v angleškem jeziku (APM-1)\,
  Vaje (V)\nLetniki: 1. letnik (APM)\nIzvajalci: Wills Ton Minh Nguyen\nPro
 stor: 3.05
LOCATION:3.05
ORGANIZER:Wills Ton Minh Nguyen
RELATED-TO:fmf-AFLABS-URNIK:srecanje:10026
X-WR-TIMEZONE:Europe/Ljubljana
END:VEVENT
BEGIN:VEVENT
SUMMARY:Matematično izražanje v angleškem jeziku (APM-1)\, Vaje (V)
DTSTART;TZID=Europe/Ljubljana:20240522T120000
DTEND;TZID=Europe/Ljubljana:20240522T140000
DTSTAMP:20260425T023051Z
UID:fmf-AFLABS-URNIK:premaknjeno-srecanje:132927
ATTENDEE:1. letnik (APM)
CATEGORIES:Entry,Standard
COLOR:darkgreen
DESCRIPTION:Predmet: Matematično izražanje v angleškem jeziku (APM-1)\,
  Vaje (V)\nLetniki: 1. letnik (APM)\nIzvajalci: Wills Ton Minh Nguyen\nPro
 stor: 3.05
LOCATION:3.05
ORGANIZER:Wills Ton Minh Nguyen
RELATED-TO:fmf-AFLABS-URNIK:srecanje:10026
X-WR-TIMEZONE:Europe/Ljubljana
END:VEVENT
BEGIN:VEVENT
SUMMARY:Matematično izražanje v angleškem jeziku (APM-1)\, Vaje (V)
DTSTART;TZID=Europe/Ljubljana:20240529T120000
DTEND;TZID=Europe/Ljubljana:20240529T140000
DTSTAMP:20260425T023051Z
UID:fmf-AFLABS-URNIK:premaknjeno-srecanje:132928
ATTENDEE:1. letnik (APM)
CATEGORIES:Entry,Standard
COLOR:darkgreen
DESCRIPTION:Predmet: Matematično izražanje v angleškem jeziku (APM-1)\,
  Vaje (V)\nLetniki: 1. letnik (APM)\nIzvajalci: Wills Ton Minh Nguyen\nPro
 stor: 3.05
LOCATION:3.05
ORGANIZER:Wills Ton Minh Nguyen
RELATED-TO:fmf-AFLABS-URNIK:srecanje:10026
X-WR-TIMEZONE:Europe/Ljubljana
END:VEVENT
END:VCALENDAR
