BEGIN:VCALENDAR
VERSION:2.0
PRODID:-//AFLabs urnik izvoz - fmf//aflabs.si//SI
DTSTAMP:20260424T070611Z
NAME:UL FMF urnik
REFRESH-INTERVAL:PT1H
SOURCE:https://urnik.fmf.uni-lj.si/teacher/153?day=2020-06-29&export=1
URL:https://urnik.fmf.uni-lj.si/teacher/153?day=2020-06-29&export=1
X-PUBLISHED-TTL:PT1H
X-WR-CALNAME:UL FMF urnik
X-WR-TIMEZONE:Europe/Ljubljana
BEGIN:VTIMEZONE
TZID:Europe/Ljubljana
BEGIN:DAYLIGHT
DTSTART:20260329T020000
RDATE:20260329T020000
RDATE:20270328T020000
TZNAME:CEST
TZOFFSETFROM:+0100
TZOFFSETTO:+0200
END:DAYLIGHT
BEGIN:STANDARD
DTSTART:20261025T030000
RDATE:20261025T030000
RDATE:20271031T030000
TZNAME:CET
TZOFFSETFROM:+0200
TZOFFSETTO:+0100
END:STANDARD
END:VTIMEZONE
BEGIN:VEVENT
SUMMARY:Matematika za nadarjene (PM-4\, PM-5)\, Vaje (V)
DTSTART;TZID=Europe/Ljubljana:20200525T100000
DTEND;TZID=Europe/Ljubljana:20200525T120000
DTSTAMP:20260424T070611Z
UID:fmf-AFLABS-URNIK:premaknjeno-srecanje:67838
ATTENDEE:4. letnik (PM)
ATTENDEE:5. letnik (PM)
CATEGORIES:Entry,Standard
COLOR:darkgreen
DESCRIPTION:Predmet: Matematika za nadarjene (PM-4\, PM-5)\, Vaje (V)\nLet
 niki: 4. letnik (PM)\, 5. letnik (PM)\nIzvajalci: Vesna Iršič\nProstor: 
 3.05
LOCATION:3.05
ORGANIZER:Vesna Iršič
RELATED-TO:fmf-AFLABS-URNIK:srecanje:4536
X-WR-TIMEZONE:Europe/Ljubljana
END:VEVENT
BEGIN:VEVENT
SUMMARY:Izbrana poglavja iz računalniške matematike (MAT-D)\, Vaje (V)
DTSTART;TZID=Europe/Ljubljana:20200526T120000
DTEND;TZID=Europe/Ljubljana:20200526T140000
DTSTAMP:20260424T070611Z
UID:fmf-AFLABS-URNIK:premaknjeno-srecanje:44170
ATTENDEE:doktorski študij (M)
CATEGORIES:Entry,Standard
COLOR:darkgreen
DESCRIPTION:Predmet: Izbrana poglavja iz računalniške matematike (MAT-D)
 \, Vaje (V)\nLetniki: doktorski študij (M)\nIzvajalci: Vesna Iršič\nPro
 stor: 3.07
LOCATION:3.07
ORGANIZER:Vesna Iršič
RELATED-TO:fmf-AFLABS-URNIK:srecanje:4561
X-WR-TIMEZONE:Europe/Ljubljana
END:VEVENT
BEGIN:VEVENT
SUMMARY:Rezervacija
DTSTART;TZID=Europe/Ljubljana:20200619T100000
DTEND;TZID=Europe/Ljubljana:20200619T120000
DTSTAMP:20260424T070611Z
UID:fmf-AFLABS-URNIK:rezervacija:5593
CATEGORIES:Reservation
COLOR:royalblue
DESCRIPTION:Predmeti: \nLetniki: \nIzvajalci: Vesna Iršič\, Matjaž Konv
 alinka\nProstori: 2.03
LOCATION:2.03
ORGANIZER:Vesna Iršič, Matjaž Konvalinka
X-WR-TIMEZONE:Europe/Ljubljana
END:VEVENT
END:VCALENDAR
