BEGIN:VCALENDAR
VERSION:2.0
PRODID:-//AFLabs urnik izvoz - fmf//aflabs.si//SI
DTSTAMP:20260423T044631Z
NAME:UL FMF urnik
REFRESH-INTERVAL:PT1H
SOURCE:https://urnik.fmf.uni-lj.si/teacher/154?day=2022-01-10&export=1
URL:https://urnik.fmf.uni-lj.si/teacher/154?day=2022-01-10&export=1
X-PUBLISHED-TTL:PT1H
X-WR-CALNAME:UL FMF urnik
X-WR-TIMEZONE:Europe/Ljubljana
BEGIN:VTIMEZONE
TZID:Europe/Ljubljana
BEGIN:DAYLIGHT
DTSTART:20260329T020000
RDATE:20260329T020000
RDATE:20270328T020000
TZNAME:CEST
TZOFFSETFROM:+0100
TZOFFSETTO:+0200
END:DAYLIGHT
BEGIN:STANDARD
DTSTART:20261025T030000
RDATE:20261025T030000
RDATE:20271031T030000
TZNAME:CET
TZOFFSETFROM:+0200
TZOFFSETTO:+0100
END:STANDARD
END:VTIMEZONE
BEGIN:VEVENT
SUMMARY:Eksperimentalna fizika delcev in jedra (FIZ-M2\, MEF-1\, MEF-2)\, 
 Vaje (V)
DTSTART;TZID=Europe/Ljubljana:20211005T160000
DTEND;TZID=Europe/Ljubljana:20211005T170000
DTSTAMP:20260423T044631Z
UID:fmf-AFLABS-URNIK:premaknjeno-srecanje:17703
ATTENDEE:1. letnik (Medicinska fizika, 2. stopnja)
ATTENDEE:2. letnik (Fizika, 2. stopnja)
ATTENDEE:2. letnik (Medicinska fizika, 2. stopnja)
CATEGORIES:Entry,Standard
COLOR:darkgreen
DESCRIPTION:Predmet: Eksperimentalna fizika delcev in jedra (FIZ-M2\, MEF-
 1\, MEF-2)\, Vaje (V)\nLetniki: 2. letnik (Fizika\, 2. stopnja)\, 1. letni
 k (Medicinska fizika\, 2. stopnja)\, 2. letnik (Medicinska fizika\, 2. sto
 pnja)\nIzvajalci: Rok Dolenec\nProstor: F3
LOCATION:F3
ORGANIZER:Rok Dolenec
RELATED-TO:fmf-AFLABS-URNIK:srecanje:6171
X-WR-TIMEZONE:Europe/Ljubljana
END:VEVENT
BEGIN:VEVENT
SUMMARY:Eksperimentalna fizika delcev in jedra (FIZ-M2\, MEF-1\, MEF-2)\, 
 Vaje (V)
DTSTART;TZID=Europe/Ljubljana:20211012T160000
DTEND;TZID=Europe/Ljubljana:20211012T170000
DTSTAMP:20260423T044631Z
UID:fmf-AFLABS-URNIK:premaknjeno-srecanje:17704
ATTENDEE:1. letnik (Medicinska fizika, 2. stopnja)
ATTENDEE:2. letnik (Fizika, 2. stopnja)
ATTENDEE:2. letnik (Medicinska fizika, 2. stopnja)
CATEGORIES:Entry,Standard
COLOR:darkgreen
DESCRIPTION:Predmet: Eksperimentalna fizika delcev in jedra (FIZ-M2\, MEF-
 1\, MEF-2)\, Vaje (V)\nLetniki: 2. letnik (Fizika\, 2. stopnja)\, 1. letni
 k (Medicinska fizika\, 2. stopnja)\, 2. letnik (Medicinska fizika\, 2. sto
 pnja)\nIzvajalci: Rok Dolenec\nProstor: F3
LOCATION:F3
ORGANIZER:Rok Dolenec
RELATED-TO:fmf-AFLABS-URNIK:srecanje:6171
X-WR-TIMEZONE:Europe/Ljubljana
END:VEVENT
BEGIN:VEVENT
SUMMARY:Eksperimentalna fizika delcev in jedra (FIZ-M2\, MEF-1\, MEF-2)\, 
 Vaje (V)
DTSTART;TZID=Europe/Ljubljana:20211019T160000
DTEND;TZID=Europe/Ljubljana:20211019T170000
DTSTAMP:20260423T044631Z
UID:fmf-AFLABS-URNIK:premaknjeno-srecanje:17705
ATTENDEE:1. letnik (Medicinska fizika, 2. stopnja)
ATTENDEE:2. letnik (Fizika, 2. stopnja)
ATTENDEE:2. letnik (Medicinska fizika, 2. stopnja)
CATEGORIES:Entry,Standard
COLOR:darkgreen
DESCRIPTION:Predmet: Eksperimentalna fizika delcev in jedra (FIZ-M2\, MEF-
 1\, MEF-2)\, Vaje (V)\nLetniki: 2. letnik (Fizika\, 2. stopnja)\, 1. letni
 k (Medicinska fizika\, 2. stopnja)\, 2. letnik (Medicinska fizika\, 2. sto
 pnja)\nIzvajalci: Rok Dolenec\nProstor: F3
LOCATION:F3
ORGANIZER:Rok Dolenec
RELATED-TO:fmf-AFLABS-URNIK:srecanje:6171
X-WR-TIMEZONE:Europe/Ljubljana
END:VEVENT
BEGIN:VEVENT
SUMMARY:Eksperimentalna fizika delcev in jedra (FIZ-M2\, MEF-1\, MEF-2)\, 
 Vaje (V)
DTSTART;TZID=Europe/Ljubljana:20211026T160000
DTEND;TZID=Europe/Ljubljana:20211026T170000
DTSTAMP:20260423T044631Z
UID:fmf-AFLABS-URNIK:premaknjeno-srecanje:17706
ATTENDEE:1. letnik (Medicinska fizika, 2. stopnja)
ATTENDEE:2. letnik (Fizika, 2. stopnja)
ATTENDEE:2. letnik (Medicinska fizika, 2. stopnja)
CATEGORIES:Entry,Standard
COLOR:darkgreen
DESCRIPTION:Predmet: Eksperimentalna fizika delcev in jedra (FIZ-M2\, MEF-
 1\, MEF-2)\, Vaje (V)\nLetniki: 2. letnik (Fizika\, 2. stopnja)\, 1. letni
 k (Medicinska fizika\, 2. stopnja)\, 2. letnik (Medicinska fizika\, 2. sto
 pnja)\nIzvajalci: Rok Dolenec\nProstor: F3
LOCATION:F3
ORGANIZER:Rok Dolenec
RELATED-TO:fmf-AFLABS-URNIK:srecanje:6171
X-WR-TIMEZONE:Europe/Ljubljana
END:VEVENT
BEGIN:VEVENT
SUMMARY:Eksperimentalna fizika delcev in jedra (FIZ-M2\, MEF-1\, MEF-2)\, 
 Vaje (V)
DTSTART;TZID=Europe/Ljubljana:20211102T160000
DTEND;TZID=Europe/Ljubljana:20211102T170000
DTSTAMP:20260423T044631Z
UID:fmf-AFLABS-URNIK:premaknjeno-srecanje:17707
ATTENDEE:1. letnik (Medicinska fizika, 2. stopnja)
ATTENDEE:2. letnik (Fizika, 2. stopnja)
ATTENDEE:2. letnik (Medicinska fizika, 2. stopnja)
CATEGORIES:Entry,Standard
COLOR:darkgreen
DESCRIPTION:Predmet: Eksperimentalna fizika delcev in jedra (FIZ-M2\, MEF-
 1\, MEF-2)\, Vaje (V)\nLetniki: 2. letnik (Fizika\, 2. stopnja)\, 1. letni
 k (Medicinska fizika\, 2. stopnja)\, 2. letnik (Medicinska fizika\, 2. sto
 pnja)\nIzvajalci: Rok Dolenec\nProstor: F3
LOCATION:F3
ORGANIZER:Rok Dolenec
RELATED-TO:fmf-AFLABS-URNIK:srecanje:6171
X-WR-TIMEZONE:Europe/Ljubljana
END:VEVENT
BEGIN:VEVENT
SUMMARY:Eksperimentalna fizika delcev in jedra (FIZ-M2\, MEF-1\, MEF-2)\, 
 Vaje (V)
DTSTART;TZID=Europe/Ljubljana:20211109T160000
DTEND;TZID=Europe/Ljubljana:20211109T170000
DTSTAMP:20260423T044631Z
UID:fmf-AFLABS-URNIK:premaknjeno-srecanje:17708
ATTENDEE:1. letnik (Medicinska fizika, 2. stopnja)
ATTENDEE:2. letnik (Fizika, 2. stopnja)
ATTENDEE:2. letnik (Medicinska fizika, 2. stopnja)
CATEGORIES:Entry,Standard
COLOR:darkgreen
DESCRIPTION:Predmet: Eksperimentalna fizika delcev in jedra (FIZ-M2\, MEF-
 1\, MEF-2)\, Vaje (V)\nLetniki: 2. letnik (Fizika\, 2. stopnja)\, 1. letni
 k (Medicinska fizika\, 2. stopnja)\, 2. letnik (Medicinska fizika\, 2. sto
 pnja)\nIzvajalci: Rok Dolenec\nProstor: F3
LOCATION:F3
ORGANIZER:Rok Dolenec
RELATED-TO:fmf-AFLABS-URNIK:srecanje:6171
X-WR-TIMEZONE:Europe/Ljubljana
END:VEVENT
BEGIN:VEVENT
SUMMARY:Eksperimentalna fizika delcev in jedra (FIZ-M2\, MEF-1\, MEF-2)\, 
 Vaje (V)
DTSTART;TZID=Europe/Ljubljana:20211116T160000
DTEND;TZID=Europe/Ljubljana:20211116T170000
DTSTAMP:20260423T044631Z
UID:fmf-AFLABS-URNIK:premaknjeno-srecanje:17709
ATTENDEE:1. letnik (Medicinska fizika, 2. stopnja)
ATTENDEE:2. letnik (Fizika, 2. stopnja)
ATTENDEE:2. letnik (Medicinska fizika, 2. stopnja)
CATEGORIES:Entry,Standard
COLOR:darkgreen
DESCRIPTION:Predmet: Eksperimentalna fizika delcev in jedra (FIZ-M2\, MEF-
 1\, MEF-2)\, Vaje (V)\nLetniki: 2. letnik (Fizika\, 2. stopnja)\, 1. letni
 k (Medicinska fizika\, 2. stopnja)\, 2. letnik (Medicinska fizika\, 2. sto
 pnja)\nIzvajalci: Rok Dolenec\nProstor: F3
LOCATION:F3
ORGANIZER:Rok Dolenec
RELATED-TO:fmf-AFLABS-URNIK:srecanje:6171
X-WR-TIMEZONE:Europe/Ljubljana
END:VEVENT
BEGIN:VEVENT
SUMMARY:Eksperimentalna fizika delcev in jedra (FIZ-M2\, MEF-1\, MEF-2)\, 
 Vaje (V)
DTSTART;TZID=Europe/Ljubljana:20211123T160000
DTEND;TZID=Europe/Ljubljana:20211123T170000
DTSTAMP:20260423T044631Z
UID:fmf-AFLABS-URNIK:premaknjeno-srecanje:17710
ATTENDEE:1. letnik (Medicinska fizika, 2. stopnja)
ATTENDEE:2. letnik (Fizika, 2. stopnja)
ATTENDEE:2. letnik (Medicinska fizika, 2. stopnja)
CATEGORIES:Entry,Standard
COLOR:darkgreen
DESCRIPTION:Predmet: Eksperimentalna fizika delcev in jedra (FIZ-M2\, MEF-
 1\, MEF-2)\, Vaje (V)\nLetniki: 2. letnik (Fizika\, 2. stopnja)\, 1. letni
 k (Medicinska fizika\, 2. stopnja)\, 2. letnik (Medicinska fizika\, 2. sto
 pnja)\nIzvajalci: Rok Dolenec\nProstor: F3
LOCATION:F3
ORGANIZER:Rok Dolenec
RELATED-TO:fmf-AFLABS-URNIK:srecanje:6171
X-WR-TIMEZONE:Europe/Ljubljana
END:VEVENT
BEGIN:VEVENT
SUMMARY:Eksperimentalna fizika delcev in jedra (FIZ-M2\, MEF-1\, MEF-2)\, 
 Vaje (V)
DTSTART;TZID=Europe/Ljubljana:20211130T160000
DTEND;TZID=Europe/Ljubljana:20211130T170000
DTSTAMP:20260423T044631Z
UID:fmf-AFLABS-URNIK:premaknjeno-srecanje:17711
ATTENDEE:1. letnik (Medicinska fizika, 2. stopnja)
ATTENDEE:2. letnik (Fizika, 2. stopnja)
ATTENDEE:2. letnik (Medicinska fizika, 2. stopnja)
CATEGORIES:Entry,Standard
COLOR:darkgreen
DESCRIPTION:Predmet: Eksperimentalna fizika delcev in jedra (FIZ-M2\, MEF-
 1\, MEF-2)\, Vaje (V)\nLetniki: 2. letnik (Fizika\, 2. stopnja)\, 1. letni
 k (Medicinska fizika\, 2. stopnja)\, 2. letnik (Medicinska fizika\, 2. sto
 pnja)\nIzvajalci: Rok Dolenec\nProstor: F3
LOCATION:F3
ORGANIZER:Rok Dolenec
RELATED-TO:fmf-AFLABS-URNIK:srecanje:6171
X-WR-TIMEZONE:Europe/Ljubljana
END:VEVENT
BEGIN:VEVENT
SUMMARY:Eksperimentalna fizika delcev in jedra (FIZ-M2\, MEF-1\, MEF-2)\, 
 Vaje (V)
DTSTART;TZID=Europe/Ljubljana:20211207T160000
DTEND;TZID=Europe/Ljubljana:20211207T170000
DTSTAMP:20260423T044631Z
UID:fmf-AFLABS-URNIK:premaknjeno-srecanje:17712
ATTENDEE:1. letnik (Medicinska fizika, 2. stopnja)
ATTENDEE:2. letnik (Fizika, 2. stopnja)
ATTENDEE:2. letnik (Medicinska fizika, 2. stopnja)
CATEGORIES:Entry,Standard
COLOR:darkgreen
DESCRIPTION:Predmet: Eksperimentalna fizika delcev in jedra (FIZ-M2\, MEF-
 1\, MEF-2)\, Vaje (V)\nLetniki: 2. letnik (Fizika\, 2. stopnja)\, 1. letni
 k (Medicinska fizika\, 2. stopnja)\, 2. letnik (Medicinska fizika\, 2. sto
 pnja)\nIzvajalci: Rok Dolenec\nProstor: F3
LOCATION:F3
ORGANIZER:Rok Dolenec
RELATED-TO:fmf-AFLABS-URNIK:srecanje:6171
X-WR-TIMEZONE:Europe/Ljubljana
END:VEVENT
BEGIN:VEVENT
SUMMARY:Eksperimentalna fizika delcev in jedra (FIZ-M2\, MEF-1\, MEF-2)\, 
 Vaje (V)
DTSTART;TZID=Europe/Ljubljana:20211214T160000
DTEND;TZID=Europe/Ljubljana:20211214T170000
DTSTAMP:20260423T044631Z
UID:fmf-AFLABS-URNIK:premaknjeno-srecanje:17713
ATTENDEE:1. letnik (Medicinska fizika, 2. stopnja)
ATTENDEE:2. letnik (Fizika, 2. stopnja)
ATTENDEE:2. letnik (Medicinska fizika, 2. stopnja)
CATEGORIES:Entry,Standard
COLOR:darkgreen
DESCRIPTION:Predmet: Eksperimentalna fizika delcev in jedra (FIZ-M2\, MEF-
 1\, MEF-2)\, Vaje (V)\nLetniki: 2. letnik (Fizika\, 2. stopnja)\, 1. letni
 k (Medicinska fizika\, 2. stopnja)\, 2. letnik (Medicinska fizika\, 2. sto
 pnja)\nIzvajalci: Rok Dolenec\nProstor: F3
LOCATION:F3
ORGANIZER:Rok Dolenec
RELATED-TO:fmf-AFLABS-URNIK:srecanje:6171
X-WR-TIMEZONE:Europe/Ljubljana
END:VEVENT
BEGIN:VEVENT
SUMMARY:Eksperimentalna fizika delcev in jedra (FIZ-M2\, MEF-1\, MEF-2)\, 
 Vaje (V)
DTSTART;TZID=Europe/Ljubljana:20211221T160000
DTEND;TZID=Europe/Ljubljana:20211221T170000
DTSTAMP:20260423T044631Z
UID:fmf-AFLABS-URNIK:premaknjeno-srecanje:17714
ATTENDEE:1. letnik (Medicinska fizika, 2. stopnja)
ATTENDEE:2. letnik (Fizika, 2. stopnja)
ATTENDEE:2. letnik (Medicinska fizika, 2. stopnja)
CATEGORIES:Entry,Standard
COLOR:darkgreen
DESCRIPTION:Predmet: Eksperimentalna fizika delcev in jedra (FIZ-M2\, MEF-
 1\, MEF-2)\, Vaje (V)\nLetniki: 2. letnik (Fizika\, 2. stopnja)\, 1. letni
 k (Medicinska fizika\, 2. stopnja)\, 2. letnik (Medicinska fizika\, 2. sto
 pnja)\nIzvajalci: Rok Dolenec\nProstor: F3
LOCATION:F3
ORGANIZER:Rok Dolenec
RELATED-TO:fmf-AFLABS-URNIK:srecanje:6171
X-WR-TIMEZONE:Europe/Ljubljana
END:VEVENT
BEGIN:VEVENT
SUMMARY:Eksperimentalna fizika delcev in jedra (FIZ-M2\, MEF-1\, MEF-2)\, 
 Vaje (V)
DTSTART;TZID=Europe/Ljubljana:20211228T160000
DTEND;TZID=Europe/Ljubljana:20211228T170000
DTSTAMP:20260423T044631Z
UID:fmf-AFLABS-URNIK:premaknjeno-srecanje:17715
ATTENDEE:1. letnik (Medicinska fizika, 2. stopnja)
ATTENDEE:2. letnik (Fizika, 2. stopnja)
ATTENDEE:2. letnik (Medicinska fizika, 2. stopnja)
CATEGORIES:Entry,Standard
COLOR:darkgreen
DESCRIPTION:Predmet: Eksperimentalna fizika delcev in jedra (FIZ-M2\, MEF-
 1\, MEF-2)\, Vaje (V)\nLetniki: 2. letnik (Fizika\, 2. stopnja)\, 1. letni
 k (Medicinska fizika\, 2. stopnja)\, 2. letnik (Medicinska fizika\, 2. sto
 pnja)\nIzvajalci: Rok Dolenec\nProstor: F3
LOCATION:F3
ORGANIZER:Rok Dolenec
RELATED-TO:fmf-AFLABS-URNIK:srecanje:6171
X-WR-TIMEZONE:Europe/Ljubljana
END:VEVENT
BEGIN:VEVENT
SUMMARY:Eksperimentalna fizika delcev in jedra (FIZ-M2\, MEF-1\, MEF-2)\, 
 Vaje (V)
DTSTART;TZID=Europe/Ljubljana:20220104T160000
DTEND;TZID=Europe/Ljubljana:20220104T170000
DTSTAMP:20260423T044631Z
UID:fmf-AFLABS-URNIK:premaknjeno-srecanje:17716
ATTENDEE:1. letnik (Medicinska fizika, 2. stopnja)
ATTENDEE:2. letnik (Fizika, 2. stopnja)
ATTENDEE:2. letnik (Medicinska fizika, 2. stopnja)
CATEGORIES:Entry,Standard
COLOR:darkgreen
DESCRIPTION:Predmet: Eksperimentalna fizika delcev in jedra (FIZ-M2\, MEF-
 1\, MEF-2)\, Vaje (V)\nLetniki: 2. letnik (Fizika\, 2. stopnja)\, 1. letni
 k (Medicinska fizika\, 2. stopnja)\, 2. letnik (Medicinska fizika\, 2. sto
 pnja)\nIzvajalci: Rok Dolenec\nProstor: F3
LOCATION:F3
ORGANIZER:Rok Dolenec
RELATED-TO:fmf-AFLABS-URNIK:srecanje:6171
X-WR-TIMEZONE:Europe/Ljubljana
END:VEVENT
BEGIN:VEVENT
SUMMARY:Eksperimentalna fizika delcev in jedra (FIZ-M2\, MEF-1\, MEF-2)\, 
 Vaje (V)
DTSTART;TZID=Europe/Ljubljana:20220111T160000
DTEND;TZID=Europe/Ljubljana:20220111T170000
DTSTAMP:20260423T044631Z
UID:fmf-AFLABS-URNIK:premaknjeno-srecanje:17717
ATTENDEE:1. letnik (Medicinska fizika, 2. stopnja)
ATTENDEE:2. letnik (Fizika, 2. stopnja)
ATTENDEE:2. letnik (Medicinska fizika, 2. stopnja)
CATEGORIES:Entry,Standard
COLOR:darkgreen
DESCRIPTION:Predmet: Eksperimentalna fizika delcev in jedra (FIZ-M2\, MEF-
 1\, MEF-2)\, Vaje (V)\nLetniki: 2. letnik (Fizika\, 2. stopnja)\, 1. letni
 k (Medicinska fizika\, 2. stopnja)\, 2. letnik (Medicinska fizika\, 2. sto
 pnja)\nIzvajalci: Rok Dolenec\nProstor: F3
LOCATION:F3
ORGANIZER:Rok Dolenec
RELATED-TO:fmf-AFLABS-URNIK:srecanje:6171
X-WR-TIMEZONE:Europe/Ljubljana
END:VEVENT
BEGIN:VEVENT
SUMMARY:Rezervacija
DTSTART;TZID=Europe/Ljubljana:20220125T140000
DTEND;TZID=Europe/Ljubljana:20220125T160000
DTSTAMP:20260423T044631Z
UID:fmf-AFLABS-URNIK:rezervacija:8365
ATTENDEE:1. letnik (Medicinska fizika, 2. stopnja)
ATTENDEE:2. letnik (Fizika, 2. stopnja)
ATTENDEE:2. letnik (Medicinska fizika, 2. stopnja)
CATEGORIES:Reservation
COLOR:royalblue
DESCRIPTION:Predmeti: Eksperimentalna fizika delcev in jedra (FIZ-M2\, MEF
 -1\, MEF-2)\nLetniki: 2. letnik (Fizika\, 2. stopnja)\, 1. letnik (Medicin
 ska fizika\, 2. stopnja)\, 2. letnik (Medicinska fizika\, 2. stopnja)\nIzv
 ajalci: Rok Dolenec\nProstori: F1
LOCATION:F1
ORGANIZER:Rok Dolenec
X-WR-TIMEZONE:Europe/Ljubljana
END:VEVENT
END:VCALENDAR
