BEGIN:VCALENDAR
VERSION:2.0
PRODID:-//AFLabs urnik izvoz - fmf//aflabs.si//SI
DTSTAMP:20260422T031721Z
NAME:UL FMF urnik
REFRESH-INTERVAL:PT1H
SOURCE:https://urnik.fmf.uni-lj.si/teacher/154?day=2023-02-06&export=1
URL:https://urnik.fmf.uni-lj.si/teacher/154?day=2023-02-06&export=1
X-PUBLISHED-TTL:PT1H
X-WR-CALNAME:UL FMF urnik
X-WR-TIMEZONE:Europe/Ljubljana
BEGIN:VTIMEZONE
TZID:Europe/Ljubljana
BEGIN:DAYLIGHT
DTSTART:20260329T020000
RDATE:20260329T020000
RDATE:20270328T020000
TZNAME:CEST
TZOFFSETFROM:+0100
TZOFFSETTO:+0200
END:DAYLIGHT
BEGIN:STANDARD
DTSTART:20261025T030000
RDATE:20261025T030000
RDATE:20271031T030000
TZNAME:CET
TZOFFSETFROM:+0200
TZOFFSETTO:+0100
END:STANDARD
END:VTIMEZONE
BEGIN:VEVENT
SUMMARY:Fizikalni praktikum III (FIZ-2)\, Laboratorijske vaje (L)\, [1]
DTSTART;TZID=Europe/Ljubljana:20230102T130000
DTEND;TZID=Europe/Ljubljana:20230102T160000
DTSTAMP:20260422T031721Z
UID:fmf-AFLABS-URNIK:premaknjeno-srecanje:35633
ATTENDEE:2. letnik (Fizika, 1. stopnja)
CATEGORIES:Entry,Standard
COLOR:darkgreen
DESCRIPTION:Predmet: Fizikalni praktikum III (FIZ-2)\, Laboratorijske vaje
  (L)\, [1]\nLetniki: 2. letnik (Fizika\, 1. stopnja)\nIzvajalci: Rok Dolen
 ec\nProstor: Praktikum 2
LOCATION:Praktikum 2
ORGANIZER:Rok Dolenec
RELATED-TO:fmf-AFLABS-URNIK:srecanje:7636
X-WR-TIMEZONE:Europe/Ljubljana
END:VEVENT
BEGIN:VEVENT
SUMMARY:Fizikalni praktikum III (FIZ-2)\, Laboratorijske vaje (L)\, [1]
DTSTART;TZID=Europe/Ljubljana:20230109T130000
DTEND;TZID=Europe/Ljubljana:20230109T160000
DTSTAMP:20260422T031721Z
UID:fmf-AFLABS-URNIK:premaknjeno-srecanje:35634
ATTENDEE:2. letnik (Fizika, 1. stopnja)
CATEGORIES:Entry,Standard
COLOR:darkgreen
DESCRIPTION:Predmet: Fizikalni praktikum III (FIZ-2)\, Laboratorijske vaje
  (L)\, [1]\nLetniki: 2. letnik (Fizika\, 1. stopnja)\nIzvajalci: Rok Dolen
 ec\nProstor: Praktikum 2
LOCATION:Praktikum 2
ORGANIZER:Rok Dolenec
RELATED-TO:fmf-AFLABS-URNIK:srecanje:7636
X-WR-TIMEZONE:Europe/Ljubljana
END:VEVENT
BEGIN:VEVENT
SUMMARY:Fizikalni praktikum III (FIZ-2)\, Laboratorijske vaje (L)\, [1]
DTSTART;TZID=Europe/Ljubljana:20230116T130000
DTEND;TZID=Europe/Ljubljana:20230116T160000
DTSTAMP:20260422T031721Z
UID:fmf-AFLABS-URNIK:premaknjeno-srecanje:35635
ATTENDEE:2. letnik (Fizika, 1. stopnja)
CATEGORIES:Entry,Standard
COLOR:darkgreen
DESCRIPTION:Predmet: Fizikalni praktikum III (FIZ-2)\, Laboratorijske vaje
  (L)\, [1]\nLetniki: 2. letnik (Fizika\, 1. stopnja)\nIzvajalci: Rok Dolen
 ec\nProstor: Praktikum 2
LOCATION:Praktikum 2
ORGANIZER:Rok Dolenec
RELATED-TO:fmf-AFLABS-URNIK:srecanje:7636
X-WR-TIMEZONE:Europe/Ljubljana
END:VEVENT
BEGIN:VEVENT
SUMMARY:Napredni detektorji delcev in obdelava podatkov (FIZ-M1\, FIZ-M2\,
  MEF-1\, MEF-2)\, Vaje (V)
DTSTART;TZID=Europe/Ljubljana:20230103T130000
DTEND;TZID=Europe/Ljubljana:20230103T140000
DTSTAMP:20260422T031721Z
UID:fmf-AFLABS-URNIK:premaknjeno-srecanje:75734
ATTENDEE:1. letnik (Fizika, 2. stopnja)
ATTENDEE:1. letnik (Medicinska fizika, 2. stopnja)
ATTENDEE:2. letnik (Fizika, 2. stopnja)
ATTENDEE:2. letnik (Medicinska fizika, 2. stopnja)
CATEGORIES:Entry,Standard
COLOR:darkgreen
DESCRIPTION:Predmet: Napredni detektorji delcev in obdelava podatkov (FIZ-
 M1\, FIZ-M2\, MEF-1\, MEF-2)\, Vaje (V)\nLetniki: 1. letnik (Fizika\, 2. s
 topnja)\, 2. letnik (Fizika\, 2. stopnja)\, 1. letnik (Medicinska fizika\,
  2. stopnja)\, 2. letnik (Medicinska fizika\, 2. stopnja)\nIzvajalci: Rok 
 Dolenec\nProstor: P.01
LOCATION:P.01
ORGANIZER:Rok Dolenec
RELATED-TO:fmf-AFLABS-URNIK:srecanje:7849
X-WR-TIMEZONE:Europe/Ljubljana
END:VEVENT
BEGIN:VEVENT
SUMMARY:Napredni detektorji delcev in obdelava podatkov (FIZ-M1\, FIZ-M2\,
  MEF-1\, MEF-2)\, Vaje (V)
DTSTART;TZID=Europe/Ljubljana:20230110T130000
DTEND;TZID=Europe/Ljubljana:20230110T140000
DTSTAMP:20260422T031721Z
UID:fmf-AFLABS-URNIK:premaknjeno-srecanje:75735
ATTENDEE:1. letnik (Fizika, 2. stopnja)
ATTENDEE:1. letnik (Medicinska fizika, 2. stopnja)
ATTENDEE:2. letnik (Fizika, 2. stopnja)
ATTENDEE:2. letnik (Medicinska fizika, 2. stopnja)
CATEGORIES:Entry,Standard
COLOR:darkgreen
DESCRIPTION:Predmet: Napredni detektorji delcev in obdelava podatkov (FIZ-
 M1\, FIZ-M2\, MEF-1\, MEF-2)\, Vaje (V)\nLetniki: 1. letnik (Fizika\, 2. s
 topnja)\, 2. letnik (Fizika\, 2. stopnja)\, 1. letnik (Medicinska fizika\,
  2. stopnja)\, 2. letnik (Medicinska fizika\, 2. stopnja)\nIzvajalci: Rok 
 Dolenec\nProstor: P.01
LOCATION:P.01
ORGANIZER:Rok Dolenec
RELATED-TO:fmf-AFLABS-URNIK:srecanje:7849
X-WR-TIMEZONE:Europe/Ljubljana
END:VEVENT
BEGIN:VEVENT
SUMMARY:Kako stvari delujejo? (FIZ-1\, PEF-1\, PEF-2)\, Vaje (V)\, [1]
DTSTART;TZID=Europe/Ljubljana:20230215T140000
DTEND;TZID=Europe/Ljubljana:20230215T150000
DTSTAMP:20260422T031721Z
UID:fmf-AFLABS-URNIK:premaknjeno-srecanje:48555
ATTENDEE:1. letnik (Fizika, 1. stopnja)
ATTENDEE:1. letnik (Pedagoška fizika, 2. stopnja)
ATTENDEE:2. letnik (Pedagoška fizika, 2. stopnja)
CATEGORIES:Entry,Standard
COLOR:darkgreen
DESCRIPTION:Predmet: Kako stvari delujejo? (FIZ-1\, PEF-1\, PEF-2)\, Vaje 
 (V)\, [1]\nLetniki: 1. letnik (Fizika\, 1. stopnja)\, 1. letnik (Pedagošk
 a fizika\, 2. stopnja)\, 2. letnik (Pedagoška fizika\, 2. stopnja)\nIzvaj
 alci: Rok Dolenec\, Sergej Faletič\, Nastja Mahne\nProstor: MFP
LOCATION:MFP
ORGANIZER:Rok Dolenec, Sergej Faletič, Nastja Mahne
RELATED-TO:fmf-AFLABS-URNIK:srecanje:8444
X-WR-TIMEZONE:Europe/Ljubljana
END:VEVENT
BEGIN:VEVENT
SUMMARY:Kako stvari delujejo? (FIZ-1\, PEF-1\, PEF-2)\, Vaje (V)\, [1]
DTSTART;TZID=Europe/Ljubljana:20230222T140000
DTEND;TZID=Europe/Ljubljana:20230222T150000
DTSTAMP:20260422T031721Z
UID:fmf-AFLABS-URNIK:premaknjeno-srecanje:48556
ATTENDEE:1. letnik (Fizika, 1. stopnja)
ATTENDEE:1. letnik (Pedagoška fizika, 2. stopnja)
ATTENDEE:2. letnik (Pedagoška fizika, 2. stopnja)
CATEGORIES:Entry,Standard
COLOR:darkgreen
DESCRIPTION:Predmet: Kako stvari delujejo? (FIZ-1\, PEF-1\, PEF-2)\, Vaje 
 (V)\, [1]\nLetniki: 1. letnik (Fizika\, 1. stopnja)\, 1. letnik (Pedagošk
 a fizika\, 2. stopnja)\, 2. letnik (Pedagoška fizika\, 2. stopnja)\nIzvaj
 alci: Rok Dolenec\, Sergej Faletič\, Nastja Mahne\nProstor: MFP
LOCATION:MFP
ORGANIZER:Rok Dolenec, Sergej Faletič, Nastja Mahne
RELATED-TO:fmf-AFLABS-URNIK:srecanje:8444
X-WR-TIMEZONE:Europe/Ljubljana
END:VEVENT
BEGIN:VEVENT
SUMMARY:Kako stvari delujejo? (FIZ-1\, PEF-1\, PEF-2)\, Vaje (V)\, [1]
DTSTART;TZID=Europe/Ljubljana:20230301T140000
DTEND;TZID=Europe/Ljubljana:20230301T150000
DTSTAMP:20260422T031721Z
UID:fmf-AFLABS-URNIK:premaknjeno-srecanje:48557
ATTENDEE:1. letnik (Fizika, 1. stopnja)
ATTENDEE:1. letnik (Pedagoška fizika, 2. stopnja)
ATTENDEE:2. letnik (Pedagoška fizika, 2. stopnja)
CATEGORIES:Entry,Standard
COLOR:darkgreen
DESCRIPTION:Predmet: Kako stvari delujejo? (FIZ-1\, PEF-1\, PEF-2)\, Vaje 
 (V)\, [1]\nLetniki: 1. letnik (Fizika\, 1. stopnja)\, 1. letnik (Pedagošk
 a fizika\, 2. stopnja)\, 2. letnik (Pedagoška fizika\, 2. stopnja)\nIzvaj
 alci: Rok Dolenec\, Sergej Faletič\, Nastja Mahne\nProstor: MFP
LOCATION:MFP
ORGANIZER:Rok Dolenec, Sergej Faletič, Nastja Mahne
RELATED-TO:fmf-AFLABS-URNIK:srecanje:8444
X-WR-TIMEZONE:Europe/Ljubljana
END:VEVENT
BEGIN:VEVENT
SUMMARY:Kako stvari delujejo? (FIZ-1\, PEF-1\, PEF-2)\, Vaje (V)\, [1]
DTSTART;TZID=Europe/Ljubljana:20230308T140000
DTEND;TZID=Europe/Ljubljana:20230308T150000
DTSTAMP:20260422T031721Z
UID:fmf-AFLABS-URNIK:premaknjeno-srecanje:48558
ATTENDEE:1. letnik (Fizika, 1. stopnja)
ATTENDEE:1. letnik (Pedagoška fizika, 2. stopnja)
ATTENDEE:2. letnik (Pedagoška fizika, 2. stopnja)
CATEGORIES:Entry,Standard
COLOR:darkgreen
DESCRIPTION:Predmet: Kako stvari delujejo? (FIZ-1\, PEF-1\, PEF-2)\, Vaje 
 (V)\, [1]\nLetniki: 1. letnik (Fizika\, 1. stopnja)\, 1. letnik (Pedagošk
 a fizika\, 2. stopnja)\, 2. letnik (Pedagoška fizika\, 2. stopnja)\nIzvaj
 alci: Rok Dolenec\, Sergej Faletič\, Nastja Mahne\nProstor: MFP
LOCATION:MFP
ORGANIZER:Rok Dolenec, Sergej Faletič, Nastja Mahne
RELATED-TO:fmf-AFLABS-URNIK:srecanje:8444
X-WR-TIMEZONE:Europe/Ljubljana
END:VEVENT
BEGIN:VEVENT
SUMMARY:Rezervacija
DTSTART;TZID=Europe/Ljubljana:20230103T160000
DTEND;TZID=Europe/Ljubljana:20230103T180000
DTSTAMP:20260422T031721Z
UID:fmf-AFLABS-URNIK:rezervacija:10751
ATTENDEE:2. letnik (Fizika, 1. stopnja)
CATEGORIES:Reservation
COLOR:royalblue
DESCRIPTION:Predmeti: Fizikalni praktikum III (FIZ-2)\nLetniki: 2. letnik 
 (Fizika\, 1. stopnja)\nIzvajalci: Rok Dolenec\nProstori: F8
LOCATION:F8
ORGANIZER:Rok Dolenec
X-WR-TIMEZONE:Europe/Ljubljana
END:VEVENT
BEGIN:VEVENT
SUMMARY:Rezervacija
DTSTART;TZID=Europe/Ljubljana:20230110T180000
DTEND;TZID=Europe/Ljubljana:20230110T200000
DTSTAMP:20260422T031721Z
UID:fmf-AFLABS-URNIK:rezervacija:10808
ATTENDEE:1. letnik (Fizika, 2. stopnja)
ATTENDEE:1. letnik (Medicinska fizika, 2. stopnja)
ATTENDEE:2. letnik (Fizika, 2. stopnja)
ATTENDEE:2. letnik (Medicinska fizika, 2. stopnja)
CATEGORIES:Reservation
COLOR:royalblue
DESCRIPTION:Predmeti: Napredni detektorji delcev in obdelava podatkov (FIZ
 -M1\, FIZ-M2\, MEF-1\, MEF-2)\nLetniki: 1. letnik (Fizika\, 2. stopnja)\, 
 2. letnik (Fizika\, 2. stopnja)\, 1. letnik (Medicinska fizika\, 2. stopnj
 a)\, 2. letnik (Medicinska fizika\, 2. stopnja)\nIzvajalci: Rok Dolenec\nP
 rostori: MFP
LOCATION:MFP
ORGANIZER:Rok Dolenec
X-WR-TIMEZONE:Europe/Ljubljana
END:VEVENT
BEGIN:VEVENT
SUMMARY:Rezervacija
DTSTART;TZID=Europe/Ljubljana:20230112T160000
DTEND;TZID=Europe/Ljubljana:20230112T170000
DTSTAMP:20260422T031721Z
UID:fmf-AFLABS-URNIK:rezervacija:10828
ATTENDEE:2. letnik (Fizika, 1. stopnja)
CATEGORIES:Reservation
COLOR:royalblue
DESCRIPTION:Predmeti: Fizikalni praktikum III (FIZ-2)\nLetniki: 2. letnik 
 (Fizika\, 1. stopnja)\nIzvajalci: Rok Dolenec\nProstori: F8
LOCATION:F8
ORGANIZER:Rok Dolenec
X-WR-TIMEZONE:Europe/Ljubljana
END:VEVENT
BEGIN:VEVENT
SUMMARY:Rezervacija
DTSTART;TZID=Europe/Ljubljana:20230113T110000
DTEND;TZID=Europe/Ljubljana:20230113T120000
DTSTAMP:20260422T031721Z
UID:fmf-AFLABS-URNIK:rezervacija:10838
ATTENDEE:2. letnik (Fizika, 1. stopnja)
CATEGORIES:Reservation
COLOR:royalblue
DESCRIPTION:Predmeti: Fizikalni praktikum III (FIZ-2)\nLetniki: 2. letnik 
 (Fizika\, 1. stopnja)\nIzvajalci: Rok Dolenec\nProstori: F8
LOCATION:F8
ORGANIZER:Rok Dolenec
X-WR-TIMEZONE:Europe/Ljubljana
END:VEVENT
BEGIN:VEVENT
SUMMARY:Rezervacija
DTSTART;TZID=Europe/Ljubljana:20230125T130000
DTEND;TZID=Europe/Ljubljana:20230125T140000
DTSTAMP:20260422T031721Z
UID:fmf-AFLABS-URNIK:rezervacija:11022
ATTENDEE:1. letnik (Fizika, 2. stopnja)
ATTENDEE:1. letnik (Medicinska fizika, 2. stopnja)
ATTENDEE:2. letnik (Fizika, 2. stopnja)
ATTENDEE:2. letnik (Medicinska fizika, 2. stopnja)
CATEGORIES:Reservation
COLOR:royalblue
DESCRIPTION:Predmeti: Napredni detektorji delcev in obdelava podatkov (FIZ
 -M1\, FIZ-M2\, MEF-1\, MEF-2)\nLetniki: 1. letnik (Fizika\, 2. stopnja)\, 
 2. letnik (Fizika\, 2. stopnja)\, 1. letnik (Medicinska fizika\, 2. stopnj
 a)\, 2. letnik (Medicinska fizika\, 2. stopnja)\nIzvajalci: Rok Dolenec\nP
 rostori: F6
LOCATION:F6
ORGANIZER:Rok Dolenec
X-WR-TIMEZONE:Europe/Ljubljana
END:VEVENT
BEGIN:VEVENT
SUMMARY:Rezervacija
DTSTART;TZID=Europe/Ljubljana:20230131T130000
DTEND;TZID=Europe/Ljubljana:20230131T150000
DTSTAMP:20260422T031721Z
UID:fmf-AFLABS-URNIK:rezervacija:11102
ATTENDEE:1. letnik (Fizika, 2. stopnja)
ATTENDEE:1. letnik (Medicinska fizika, 2. stopnja)
ATTENDEE:2. letnik (Fizika, 2. stopnja)
ATTENDEE:2. letnik (Medicinska fizika, 2. stopnja)
CATEGORIES:Reservation
COLOR:royalblue
DESCRIPTION:Predmeti: Napredni detektorji delcev in obdelava podatkov (FIZ
 -M1\, FIZ-M2\, MEF-1\, MEF-2)\nLetniki: 1. letnik (Fizika\, 2. stopnja)\, 
 2. letnik (Fizika\, 2. stopnja)\, 1. letnik (Medicinska fizika\, 2. stopnj
 a)\, 2. letnik (Medicinska fizika\, 2. stopnja)\nIzvajalci: Rok Dolenec\nP
 rostori: F1
LOCATION:F1
ORGANIZER:Rok Dolenec
X-WR-TIMEZONE:Europe/Ljubljana
END:VEVENT
BEGIN:VEVENT
SUMMARY:Rezervacija
DTSTART;TZID=Europe/Ljubljana:20230210T130000
DTEND;TZID=Europe/Ljubljana:20230210T150000
DTSTAMP:20260422T031721Z
UID:fmf-AFLABS-URNIK:rezervacija:11237
ATTENDEE:1. letnik (Medicinska fizika, 2. stopnja)
ATTENDEE:2. letnik (Fizika, 2. stopnja)
ATTENDEE:2. letnik (Medicinska fizika, 2. stopnja)
CATEGORIES:Reservation
COLOR:royalblue
DESCRIPTION:Predmeti: Eksperimentalna fizika delcev in jedra (FIZ-M2\, MEF
 -1\, MEF-2)\nLetniki: 2. letnik (Fizika\, 2. stopnja)\, 1. letnik (Medicin
 ska fizika\, 2. stopnja)\, 2. letnik (Medicinska fizika\, 2. stopnja)\nIzv
 ajalci: Rok Dolenec\nProstori: F3
LOCATION:F3
ORGANIZER:Rok Dolenec
X-WR-TIMEZONE:Europe/Ljubljana
END:VEVENT
END:VCALENDAR
