BEGIN:VCALENDAR
VERSION:2.0
PRODID:-//AFLabs urnik izvoz - fmf//aflabs.si//SI
DTSTAMP:20260422T005729Z
NAME:UL FMF urnik
REFRESH-INTERVAL:PT1H
SOURCE:https://urnik.fmf.uni-lj.si/teacher/154?day=2024-08-19&export=1
URL:https://urnik.fmf.uni-lj.si/teacher/154?day=2024-08-19&export=1
X-PUBLISHED-TTL:PT1H
X-WR-CALNAME:UL FMF urnik
X-WR-TIMEZONE:Europe/Ljubljana
BEGIN:VTIMEZONE
TZID:Europe/Ljubljana
BEGIN:DAYLIGHT
DTSTART:20260329T020000
RDATE:20260329T020000
RDATE:20270328T020000
TZNAME:CEST
TZOFFSETFROM:+0100
TZOFFSETTO:+0200
END:DAYLIGHT
BEGIN:STANDARD
DTSTART:20261025T030000
RDATE:20261025T030000
RDATE:20271031T030000
TZNAME:CET
TZOFFSETFROM:+0200
TZOFFSETTO:+0100
END:STANDARD
END:VTIMEZONE
BEGIN:VEVENT
SUMMARY:EFJOD pisni izpit
DTSTART;TZID=Europe/Ljubljana:20240913T100000
DTEND;TZID=Europe/Ljubljana:20240913T120000
DTSTAMP:20260422T005729Z
UID:fmf-AFLABS-URNIK:rezervacija:17834
ATTENDEE:1. letnik (Medicinska fizika, 2. stopnja)
ATTENDEE:2. letnik (Fizika, 2. stopnja)
ATTENDEE:2. letnik (Medicinska fizika, 2. stopnja)
CATEGORIES:Reservation
COLOR:royalblue
DESCRIPTION:Predmeti: Eksperimentalna fizika delcev in jedra (FIZ-M2\, MEF
 -1\, MEF-2)\nLetniki: 2. letnik (Fizika\, 2. stopnja)\, 1. letnik (Medicin
 ska fizika\, 2. stopnja)\, 2. letnik (Medicinska fizika\, 2. stopnja)\nIzv
 ajalci: Rok Dolenec\nProstori: F3
LOCATION:F3
ORGANIZER:Rok Dolenec
X-WR-TIMEZONE:Europe/Ljubljana
END:VEVENT
END:VCALENDAR
