BEGIN:VCALENDAR
VERSION:2.0
PRODID:-//AFLabs urnik izvoz - fmf//aflabs.si//SI
DTSTAMP:20260423T063919Z
NAME:UL FMF urnik
REFRESH-INTERVAL:PT1H
SOURCE:https://urnik.fmf.uni-lj.si/teacher/15?day=2025-06-02&export=1
URL:https://urnik.fmf.uni-lj.si/teacher/15?day=2025-06-02&export=1
X-PUBLISHED-TTL:PT1H
X-WR-CALNAME:UL FMF urnik
X-WR-TIMEZONE:Europe/Ljubljana
BEGIN:VTIMEZONE
TZID:Europe/Ljubljana
BEGIN:DAYLIGHT
DTSTART:20260329T020000
RDATE:20260329T020000
RDATE:20270328T020000
TZNAME:CEST
TZOFFSETFROM:+0100
TZOFFSETTO:+0200
END:DAYLIGHT
BEGIN:STANDARD
DTSTART:20261025T030000
RDATE:20261025T030000
RDATE:20271031T030000
TZNAME:CET
TZOFFSETFROM:+0200
TZOFFSETTO:+0100
END:STANDARD
END:VTIMEZONE
BEGIN:VEVENT
SUMMARY:Analiza omrežij ()\, Predavanja (P)\, [(APRIL\, MAJ)]
DTSTART;TZID=Europe/Ljubljana:20250218T170000
DTEND;TZID=Europe/Ljubljana:20250218T200000
DTSTAMP:20260423T063919Z
UID:fmf-AFLABS-URNIK:premaknjeno-srecanje:198504
CATEGORIES:Entry,Standard
COLOR:darkgreen
DESCRIPTION:Predmet: Analiza omrežij ()\, Predavanja (P)\, [(APRIL\, MAJ)
 ]\nLetniki: \nIzvajalci: Vladimir Batagelj\nProstor: 3.12
LOCATION:3.12
ORGANIZER:Vladimir Batagelj
RELATED-TO:fmf-AFLABS-URNIK:srecanje:14719
X-WR-TIMEZONE:Europe/Ljubljana
END:VEVENT
BEGIN:VEVENT
SUMMARY:Analiza omrežij ()\, Predavanja (P)\, [(APRIL\, MAJ)]
DTSTART;TZID=Europe/Ljubljana:20250225T170000
DTEND;TZID=Europe/Ljubljana:20250225T200000
DTSTAMP:20260423T063919Z
UID:fmf-AFLABS-URNIK:premaknjeno-srecanje:198505
CATEGORIES:Entry,Standard
COLOR:darkgreen
DESCRIPTION:Predmet: Analiza omrežij ()\, Predavanja (P)\, [(APRIL\, MAJ)
 ]\nLetniki: \nIzvajalci: Vladimir Batagelj\nProstor: 3.12
LOCATION:3.12
ORGANIZER:Vladimir Batagelj
RELATED-TO:fmf-AFLABS-URNIK:srecanje:14719
X-WR-TIMEZONE:Europe/Ljubljana
END:VEVENT
BEGIN:VEVENT
SUMMARY:Analiza omrežij ()\, Predavanja (P)\, [(APRIL\, MAJ)]
DTSTART;TZID=Europe/Ljubljana:20250304T170000
DTEND;TZID=Europe/Ljubljana:20250304T200000
DTSTAMP:20260423T063919Z
UID:fmf-AFLABS-URNIK:premaknjeno-srecanje:198506
CATEGORIES:Entry,Standard
COLOR:darkgreen
DESCRIPTION:Predmet: Analiza omrežij ()\, Predavanja (P)\, [(APRIL\, MAJ)
 ]\nLetniki: \nIzvajalci: Vladimir Batagelj\nProstor: 3.12
LOCATION:3.12
ORGANIZER:Vladimir Batagelj
RELATED-TO:fmf-AFLABS-URNIK:srecanje:14719
X-WR-TIMEZONE:Europe/Ljubljana
END:VEVENT
BEGIN:VEVENT
SUMMARY:Analiza omrežij ()\, Predavanja (P)\, [(APRIL\, MAJ)]
DTSTART;TZID=Europe/Ljubljana:20250311T170000
DTEND;TZID=Europe/Ljubljana:20250311T200000
DTSTAMP:20260423T063919Z
UID:fmf-AFLABS-URNIK:premaknjeno-srecanje:198507
CATEGORIES:Entry,Standard
COLOR:darkgreen
DESCRIPTION:Predmet: Analiza omrežij ()\, Predavanja (P)\, [(APRIL\, MAJ)
 ]\nLetniki: \nIzvajalci: Vladimir Batagelj\nProstor: 3.12
LOCATION:3.12
ORGANIZER:Vladimir Batagelj
RELATED-TO:fmf-AFLABS-URNIK:srecanje:14719
X-WR-TIMEZONE:Europe/Ljubljana
END:VEVENT
BEGIN:VEVENT
SUMMARY:Analiza omrežij ()\, Predavanja (P)\, [(APRIL\, MAJ)]
DTSTART;TZID=Europe/Ljubljana:20250318T170000
DTEND;TZID=Europe/Ljubljana:20250318T200000
DTSTAMP:20260423T063919Z
UID:fmf-AFLABS-URNIK:premaknjeno-srecanje:198508
CATEGORIES:Entry,Standard
COLOR:darkgreen
DESCRIPTION:Predmet: Analiza omrežij ()\, Predavanja (P)\, [(APRIL\, MAJ)
 ]\nLetniki: \nIzvajalci: Vladimir Batagelj\nProstor: 3.12
LOCATION:3.12
ORGANIZER:Vladimir Batagelj
RELATED-TO:fmf-AFLABS-URNIK:srecanje:14719
X-WR-TIMEZONE:Europe/Ljubljana
END:VEVENT
BEGIN:VEVENT
SUMMARY:Analiza omrežij ()\, Predavanja (P)\, [(APRIL\, MAJ)]
DTSTART;TZID=Europe/Ljubljana:20250325T170000
DTEND;TZID=Europe/Ljubljana:20250325T200000
DTSTAMP:20260423T063919Z
UID:fmf-AFLABS-URNIK:premaknjeno-srecanje:198509
CATEGORIES:Entry,Standard
COLOR:darkgreen
DESCRIPTION:Predmet: Analiza omrežij ()\, Predavanja (P)\, [(APRIL\, MAJ)
 ]\nLetniki: \nIzvajalci: Vladimir Batagelj\nProstor: 3.12
LOCATION:3.12
ORGANIZER:Vladimir Batagelj
RELATED-TO:fmf-AFLABS-URNIK:srecanje:14719
X-WR-TIMEZONE:Europe/Ljubljana
END:VEVENT
BEGIN:VEVENT
SUMMARY:Analiza omrežij ()\, Predavanja (P)\, [(APRIL\, MAJ)]
DTSTART;TZID=Europe/Ljubljana:20250401T170000
DTEND;TZID=Europe/Ljubljana:20250401T200000
DTSTAMP:20260423T063919Z
UID:fmf-AFLABS-URNIK:premaknjeno-srecanje:198510
CATEGORIES:Entry,Standard
COLOR:darkgreen
DESCRIPTION:Predmet: Analiza omrežij ()\, Predavanja (P)\, [(APRIL\, MAJ)
 ]\nLetniki: \nIzvajalci: Vladimir Batagelj\nProstor: 3.12
LOCATION:3.12
ORGANIZER:Vladimir Batagelj
RELATED-TO:fmf-AFLABS-URNIK:srecanje:14719
X-WR-TIMEZONE:Europe/Ljubljana
END:VEVENT
BEGIN:VEVENT
SUMMARY:Analiza omrežij ()\, Predavanja (P)\, [(APRIL\, MAJ)]
DTSTART;TZID=Europe/Ljubljana:20250408T170000
DTEND;TZID=Europe/Ljubljana:20250408T200000
DTSTAMP:20260423T063919Z
UID:fmf-AFLABS-URNIK:premaknjeno-srecanje:198511
CATEGORIES:Entry,Standard
COLOR:darkgreen
DESCRIPTION:Predmet: Analiza omrežij ()\, Predavanja (P)\, [(APRIL\, MAJ)
 ]\nLetniki: \nIzvajalci: Vladimir Batagelj\nProstor: 3.12
LOCATION:3.12
ORGANIZER:Vladimir Batagelj
RELATED-TO:fmf-AFLABS-URNIK:srecanje:14719
X-WR-TIMEZONE:Europe/Ljubljana
END:VEVENT
BEGIN:VEVENT
SUMMARY:Analiza omrežij ()\, Predavanja (P)\, [(APRIL\, MAJ)]
DTSTART;TZID=Europe/Ljubljana:20250415T170000
DTEND;TZID=Europe/Ljubljana:20250415T200000
DTSTAMP:20260423T063919Z
UID:fmf-AFLABS-URNIK:premaknjeno-srecanje:198512
CATEGORIES:Entry,Standard
COLOR:darkgreen
DESCRIPTION:Predmet: Analiza omrežij ()\, Predavanja (P)\, [(APRIL\, MAJ)
 ]\nLetniki: \nIzvajalci: Vladimir Batagelj\nProstor: 3.12
LOCATION:3.12
ORGANIZER:Vladimir Batagelj
RELATED-TO:fmf-AFLABS-URNIK:srecanje:14719
X-WR-TIMEZONE:Europe/Ljubljana
END:VEVENT
BEGIN:VEVENT
SUMMARY:Analiza omrežij ()\, Predavanja (P)\, [(APRIL\, MAJ)]
DTSTART;TZID=Europe/Ljubljana:20250422T170000
DTEND;TZID=Europe/Ljubljana:20250422T200000
DTSTAMP:20260423T063919Z
UID:fmf-AFLABS-URNIK:premaknjeno-srecanje:198513
CATEGORIES:Entry,Standard
COLOR:darkgreen
DESCRIPTION:Predmet: Analiza omrežij ()\, Predavanja (P)\, [(APRIL\, MAJ)
 ]\nLetniki: \nIzvajalci: Vladimir Batagelj\nProstor: 3.12
LOCATION:3.12
ORGANIZER:Vladimir Batagelj
RELATED-TO:fmf-AFLABS-URNIK:srecanje:14719
X-WR-TIMEZONE:Europe/Ljubljana
END:VEVENT
BEGIN:VEVENT
SUMMARY:Analiza omrežij ()\, Predavanja (P)\, [(APRIL\, MAJ)]
DTSTART;TZID=Europe/Ljubljana:20250429T170000
DTEND;TZID=Europe/Ljubljana:20250429T200000
DTSTAMP:20260423T063919Z
UID:fmf-AFLABS-URNIK:premaknjeno-srecanje:198514
CATEGORIES:Entry,Standard
COLOR:darkgreen
DESCRIPTION:Predmet: Analiza omrežij ()\, Predavanja (P)\, [(APRIL\, MAJ)
 ]\nLetniki: \nIzvajalci: Vladimir Batagelj\nProstor: 3.12
LOCATION:3.12
ORGANIZER:Vladimir Batagelj
RELATED-TO:fmf-AFLABS-URNIK:srecanje:14719
X-WR-TIMEZONE:Europe/Ljubljana
END:VEVENT
BEGIN:VEVENT
SUMMARY:Analiza omrežij ()\, Predavanja (P)\, [(APRIL\, MAJ)]
DTSTART;TZID=Europe/Ljubljana:20250506T170000
DTEND;TZID=Europe/Ljubljana:20250506T200000
DTSTAMP:20260423T063919Z
UID:fmf-AFLABS-URNIK:premaknjeno-srecanje:198515
CATEGORIES:Entry,Standard
COLOR:darkgreen
DESCRIPTION:Predmet: Analiza omrežij ()\, Predavanja (P)\, [(APRIL\, MAJ)
 ]\nLetniki: \nIzvajalci: Vladimir Batagelj\nProstor: 3.12
LOCATION:3.12
ORGANIZER:Vladimir Batagelj
RELATED-TO:fmf-AFLABS-URNIK:srecanje:14719
X-WR-TIMEZONE:Europe/Ljubljana
END:VEVENT
BEGIN:VEVENT
SUMMARY:Analiza omrežij ()\, Predavanja (P)\, [(APRIL\, MAJ)]
DTSTART;TZID=Europe/Ljubljana:20250513T170000
DTEND;TZID=Europe/Ljubljana:20250513T200000
DTSTAMP:20260423T063919Z
UID:fmf-AFLABS-URNIK:premaknjeno-srecanje:198516
CATEGORIES:Entry,Standard
COLOR:darkgreen
DESCRIPTION:Predmet: Analiza omrežij ()\, Predavanja (P)\, [(APRIL\, MAJ)
 ]\nLetniki: \nIzvajalci: Vladimir Batagelj\nProstor: 3.12
LOCATION:3.12
ORGANIZER:Vladimir Batagelj
RELATED-TO:fmf-AFLABS-URNIK:srecanje:14719
X-WR-TIMEZONE:Europe/Ljubljana
END:VEVENT
BEGIN:VEVENT
SUMMARY:Analiza omrežij ()\, Predavanja (P)\, [(APRIL\, MAJ)]
DTSTART;TZID=Europe/Ljubljana:20250520T170000
DTEND;TZID=Europe/Ljubljana:20250520T200000
DTSTAMP:20260423T063919Z
UID:fmf-AFLABS-URNIK:premaknjeno-srecanje:198517
CATEGORIES:Entry,Standard
COLOR:darkgreen
DESCRIPTION:Predmet: Analiza omrežij ()\, Predavanja (P)\, [(APRIL\, MAJ)
 ]\nLetniki: \nIzvajalci: Vladimir Batagelj\nProstor: 3.12
LOCATION:3.12
ORGANIZER:Vladimir Batagelj
RELATED-TO:fmf-AFLABS-URNIK:srecanje:14719
X-WR-TIMEZONE:Europe/Ljubljana
END:VEVENT
BEGIN:VEVENT
SUMMARY:Analiza omrežij ()\, Predavanja (P)\, [(APRIL\, MAJ)]
DTSTART;TZID=Europe/Ljubljana:20250527T170000
DTEND;TZID=Europe/Ljubljana:20250527T200000
DTSTAMP:20260423T063919Z
UID:fmf-AFLABS-URNIK:premaknjeno-srecanje:198518
CATEGORIES:Entry,Standard
COLOR:darkgreen
DESCRIPTION:Predmet: Analiza omrežij ()\, Predavanja (P)\, [(APRIL\, MAJ)
 ]\nLetniki: \nIzvajalci: Vladimir Batagelj\nProstor: 3.12
LOCATION:3.12
ORGANIZER:Vladimir Batagelj
RELATED-TO:fmf-AFLABS-URNIK:srecanje:14719
X-WR-TIMEZONE:Europe/Ljubljana
END:VEVENT
BEGIN:VEVENT
SUMMARY:Analiza omrežij ()\, Predavanja (P)\, [(APRIL\, MAJ)]
DTSTART;TZID=Europe/Ljubljana:20250603T170000
DTEND;TZID=Europe/Ljubljana:20250603T200000
DTSTAMP:20260423T063919Z
UID:fmf-AFLABS-URNIK:premaknjeno-srecanje:198519
CATEGORIES:Entry,Standard
COLOR:darkgreen
DESCRIPTION:Predmet: Analiza omrežij ()\, Predavanja (P)\, [(APRIL\, MAJ)
 ]\nLetniki: \nIzvajalci: Vladimir Batagelj\nProstor: 3.12
LOCATION:3.12
ORGANIZER:Vladimir Batagelj
RELATED-TO:fmf-AFLABS-URNIK:srecanje:14719
X-WR-TIMEZONE:Europe/Ljubljana
END:VEVENT
BEGIN:VEVENT
SUMMARY:Govorilna ura ()\, Predavanja (P)
DTSTART;TZID=Europe/Ljubljana:20250219T140000
DTEND;TZID=Europe/Ljubljana:20250219T150000
DTSTAMP:20260423T063919Z
UID:fmf-AFLABS-URNIK:premaknjeno-srecanje:200776
CATEGORIES:Entry,Standard
COLOR:darkgreen
DESCRIPTION:Predmet: Govorilna ura ()\, Predavanja (P)\nLetniki: \nIzvajal
 ci: Vladimir Batagelj\nProstor: 4.06
LOCATION:4.06
ORGANIZER:Vladimir Batagelj
RELATED-TO:fmf-AFLABS-URNIK:srecanje:14861
X-WR-TIMEZONE:Europe/Ljubljana
END:VEVENT
BEGIN:VEVENT
SUMMARY:Govorilna ura ()\, Predavanja (P)
DTSTART;TZID=Europe/Ljubljana:20250226T140000
DTEND;TZID=Europe/Ljubljana:20250226T150000
DTSTAMP:20260423T063919Z
UID:fmf-AFLABS-URNIK:premaknjeno-srecanje:200777
CATEGORIES:Entry,Standard
COLOR:darkgreen
DESCRIPTION:Predmet: Govorilna ura ()\, Predavanja (P)\nLetniki: \nIzvajal
 ci: Vladimir Batagelj\nProstor: 4.06
LOCATION:4.06
ORGANIZER:Vladimir Batagelj
RELATED-TO:fmf-AFLABS-URNIK:srecanje:14861
X-WR-TIMEZONE:Europe/Ljubljana
END:VEVENT
BEGIN:VEVENT
SUMMARY:Govorilna ura ()\, Predavanja (P)
DTSTART;TZID=Europe/Ljubljana:20250305T140000
DTEND;TZID=Europe/Ljubljana:20250305T150000
DTSTAMP:20260423T063919Z
UID:fmf-AFLABS-URNIK:premaknjeno-srecanje:200778
CATEGORIES:Entry,Standard
COLOR:darkgreen
DESCRIPTION:Predmet: Govorilna ura ()\, Predavanja (P)\nLetniki: \nIzvajal
 ci: Vladimir Batagelj\nProstor: 4.06
LOCATION:4.06
ORGANIZER:Vladimir Batagelj
RELATED-TO:fmf-AFLABS-URNIK:srecanje:14861
X-WR-TIMEZONE:Europe/Ljubljana
END:VEVENT
BEGIN:VEVENT
SUMMARY:Govorilna ura ()\, Predavanja (P)
DTSTART;TZID=Europe/Ljubljana:20250312T140000
DTEND;TZID=Europe/Ljubljana:20250312T150000
DTSTAMP:20260423T063919Z
UID:fmf-AFLABS-URNIK:premaknjeno-srecanje:200779
CATEGORIES:Entry,Standard
COLOR:darkgreen
DESCRIPTION:Predmet: Govorilna ura ()\, Predavanja (P)\nLetniki: \nIzvajal
 ci: Vladimir Batagelj\nProstor: 4.06
LOCATION:4.06
ORGANIZER:Vladimir Batagelj
RELATED-TO:fmf-AFLABS-URNIK:srecanje:14861
X-WR-TIMEZONE:Europe/Ljubljana
END:VEVENT
BEGIN:VEVENT
SUMMARY:Govorilna ura ()\, Predavanja (P)
DTSTART;TZID=Europe/Ljubljana:20250319T140000
DTEND;TZID=Europe/Ljubljana:20250319T150000
DTSTAMP:20260423T063919Z
UID:fmf-AFLABS-URNIK:premaknjeno-srecanje:200780
CATEGORIES:Entry,Standard
COLOR:darkgreen
DESCRIPTION:Predmet: Govorilna ura ()\, Predavanja (P)\nLetniki: \nIzvajal
 ci: Vladimir Batagelj\nProstor: 4.06
LOCATION:4.06
ORGANIZER:Vladimir Batagelj
RELATED-TO:fmf-AFLABS-URNIK:srecanje:14861
X-WR-TIMEZONE:Europe/Ljubljana
END:VEVENT
BEGIN:VEVENT
SUMMARY:Govorilna ura ()\, Predavanja (P)
DTSTART;TZID=Europe/Ljubljana:20250326T140000
DTEND;TZID=Europe/Ljubljana:20250326T150000
DTSTAMP:20260423T063919Z
UID:fmf-AFLABS-URNIK:premaknjeno-srecanje:200781
CATEGORIES:Entry,Standard
COLOR:darkgreen
DESCRIPTION:Predmet: Govorilna ura ()\, Predavanja (P)\nLetniki: \nIzvajal
 ci: Vladimir Batagelj\nProstor: 4.06
LOCATION:4.06
ORGANIZER:Vladimir Batagelj
RELATED-TO:fmf-AFLABS-URNIK:srecanje:14861
X-WR-TIMEZONE:Europe/Ljubljana
END:VEVENT
BEGIN:VEVENT
SUMMARY:Govorilna ura ()\, Predavanja (P)
DTSTART;TZID=Europe/Ljubljana:20250402T140000
DTEND;TZID=Europe/Ljubljana:20250402T150000
DTSTAMP:20260423T063919Z
UID:fmf-AFLABS-URNIK:premaknjeno-srecanje:200782
CATEGORIES:Entry,Standard
COLOR:darkgreen
DESCRIPTION:Predmet: Govorilna ura ()\, Predavanja (P)\nLetniki: \nIzvajal
 ci: Vladimir Batagelj\nProstor: 4.06
LOCATION:4.06
ORGANIZER:Vladimir Batagelj
RELATED-TO:fmf-AFLABS-URNIK:srecanje:14861
X-WR-TIMEZONE:Europe/Ljubljana
END:VEVENT
BEGIN:VEVENT
SUMMARY:Govorilna ura ()\, Predavanja (P)
DTSTART;TZID=Europe/Ljubljana:20250409T140000
DTEND;TZID=Europe/Ljubljana:20250409T150000
DTSTAMP:20260423T063919Z
UID:fmf-AFLABS-URNIK:premaknjeno-srecanje:200783
CATEGORIES:Entry,Standard
COLOR:darkgreen
DESCRIPTION:Predmet: Govorilna ura ()\, Predavanja (P)\nLetniki: \nIzvajal
 ci: Vladimir Batagelj\nProstor: 4.06
LOCATION:4.06
ORGANIZER:Vladimir Batagelj
RELATED-TO:fmf-AFLABS-URNIK:srecanje:14861
X-WR-TIMEZONE:Europe/Ljubljana
END:VEVENT
BEGIN:VEVENT
SUMMARY:Govorilna ura ()\, Predavanja (P)
DTSTART;TZID=Europe/Ljubljana:20250416T140000
DTEND;TZID=Europe/Ljubljana:20250416T150000
DTSTAMP:20260423T063919Z
UID:fmf-AFLABS-URNIK:premaknjeno-srecanje:200784
CATEGORIES:Entry,Standard
COLOR:darkgreen
DESCRIPTION:Predmet: Govorilna ura ()\, Predavanja (P)\nLetniki: \nIzvajal
 ci: Vladimir Batagelj\nProstor: 4.06
LOCATION:4.06
ORGANIZER:Vladimir Batagelj
RELATED-TO:fmf-AFLABS-URNIK:srecanje:14861
X-WR-TIMEZONE:Europe/Ljubljana
END:VEVENT
BEGIN:VEVENT
SUMMARY:Govorilna ura ()\, Predavanja (P)
DTSTART;TZID=Europe/Ljubljana:20250423T140000
DTEND;TZID=Europe/Ljubljana:20250423T150000
DTSTAMP:20260423T063919Z
UID:fmf-AFLABS-URNIK:premaknjeno-srecanje:200785
CATEGORIES:Entry,Standard
COLOR:darkgreen
DESCRIPTION:Predmet: Govorilna ura ()\, Predavanja (P)\nLetniki: \nIzvajal
 ci: Vladimir Batagelj\nProstor: 4.06
LOCATION:4.06
ORGANIZER:Vladimir Batagelj
RELATED-TO:fmf-AFLABS-URNIK:srecanje:14861
X-WR-TIMEZONE:Europe/Ljubljana
END:VEVENT
BEGIN:VEVENT
SUMMARY:Govorilna ura ()\, Predavanja (P)
DTSTART;TZID=Europe/Ljubljana:20250430T140000
DTEND;TZID=Europe/Ljubljana:20250430T150000
DTSTAMP:20260423T063919Z
UID:fmf-AFLABS-URNIK:premaknjeno-srecanje:200786
CATEGORIES:Entry,Standard
COLOR:darkgreen
DESCRIPTION:Predmet: Govorilna ura ()\, Predavanja (P)\nLetniki: \nIzvajal
 ci: Vladimir Batagelj\nProstor: 4.06
LOCATION:4.06
ORGANIZER:Vladimir Batagelj
RELATED-TO:fmf-AFLABS-URNIK:srecanje:14861
X-WR-TIMEZONE:Europe/Ljubljana
END:VEVENT
BEGIN:VEVENT
SUMMARY:Govorilna ura ()\, Predavanja (P)
DTSTART;TZID=Europe/Ljubljana:20250507T140000
DTEND;TZID=Europe/Ljubljana:20250507T150000
DTSTAMP:20260423T063919Z
UID:fmf-AFLABS-URNIK:premaknjeno-srecanje:200787
CATEGORIES:Entry,Standard
COLOR:darkgreen
DESCRIPTION:Predmet: Govorilna ura ()\, Predavanja (P)\nLetniki: \nIzvajal
 ci: Vladimir Batagelj\nProstor: 4.06
LOCATION:4.06
ORGANIZER:Vladimir Batagelj
RELATED-TO:fmf-AFLABS-URNIK:srecanje:14861
X-WR-TIMEZONE:Europe/Ljubljana
END:VEVENT
BEGIN:VEVENT
SUMMARY:Govorilna ura ()\, Predavanja (P)
DTSTART;TZID=Europe/Ljubljana:20250514T140000
DTEND;TZID=Europe/Ljubljana:20250514T150000
DTSTAMP:20260423T063919Z
UID:fmf-AFLABS-URNIK:premaknjeno-srecanje:200788
CATEGORIES:Entry,Standard
COLOR:darkgreen
DESCRIPTION:Predmet: Govorilna ura ()\, Predavanja (P)\nLetniki: \nIzvajal
 ci: Vladimir Batagelj\nProstor: 4.06
LOCATION:4.06
ORGANIZER:Vladimir Batagelj
RELATED-TO:fmf-AFLABS-URNIK:srecanje:14861
X-WR-TIMEZONE:Europe/Ljubljana
END:VEVENT
BEGIN:VEVENT
SUMMARY:Govorilna ura ()\, Predavanja (P)
DTSTART;TZID=Europe/Ljubljana:20250521T140000
DTEND;TZID=Europe/Ljubljana:20250521T150000
DTSTAMP:20260423T063919Z
UID:fmf-AFLABS-URNIK:premaknjeno-srecanje:200789
CATEGORIES:Entry,Standard
COLOR:darkgreen
DESCRIPTION:Predmet: Govorilna ura ()\, Predavanja (P)\nLetniki: \nIzvajal
 ci: Vladimir Batagelj\nProstor: 4.06
LOCATION:4.06
ORGANIZER:Vladimir Batagelj
RELATED-TO:fmf-AFLABS-URNIK:srecanje:14861
X-WR-TIMEZONE:Europe/Ljubljana
END:VEVENT
BEGIN:VEVENT
SUMMARY:Govorilna ura ()\, Predavanja (P)
DTSTART;TZID=Europe/Ljubljana:20250528T140000
DTEND;TZID=Europe/Ljubljana:20250528T150000
DTSTAMP:20260423T063919Z
UID:fmf-AFLABS-URNIK:premaknjeno-srecanje:200790
CATEGORIES:Entry,Standard
COLOR:darkgreen
DESCRIPTION:Predmet: Govorilna ura ()\, Predavanja (P)\nLetniki: \nIzvajal
 ci: Vladimir Batagelj\nProstor: 4.06
LOCATION:4.06
ORGANIZER:Vladimir Batagelj
RELATED-TO:fmf-AFLABS-URNIK:srecanje:14861
X-WR-TIMEZONE:Europe/Ljubljana
END:VEVENT
BEGIN:VEVENT
SUMMARY:Govorilna ura ()\, Predavanja (P)
DTSTART;TZID=Europe/Ljubljana:20250604T140000
DTEND;TZID=Europe/Ljubljana:20250604T150000
DTSTAMP:20260423T063919Z
UID:fmf-AFLABS-URNIK:premaknjeno-srecanje:200791
CATEGORIES:Entry,Standard
COLOR:darkgreen
DESCRIPTION:Predmet: Govorilna ura ()\, Predavanja (P)\nLetniki: \nIzvajal
 ci: Vladimir Batagelj\nProstor: 4.06
LOCATION:4.06
ORGANIZER:Vladimir Batagelj
RELATED-TO:fmf-AFLABS-URNIK:srecanje:14861
X-WR-TIMEZONE:Europe/Ljubljana
END:VEVENT
BEGIN:VEVENT
SUMMARY:Sredin seminar ()\, Seminar (S)
DTSTART;TZID=Europe/Ljubljana:20250219T180000
DTEND;TZID=Europe/Ljubljana:20250219T200000
DTSTAMP:20260423T063919Z
UID:fmf-AFLABS-URNIK:premaknjeno-srecanje:206056
CATEGORIES:Entry,Standard
COLOR:darkgreen
DESCRIPTION:Predmet: Sredin seminar ()\, Seminar (S)\nLetniki: \nIzvajalci
 : Vladimir Batagelj\nProstor: 2.02
LOCATION:2.02
ORGANIZER:Vladimir Batagelj
RELATED-TO:fmf-AFLABS-URNIK:srecanje:15191
X-WR-TIMEZONE:Europe/Ljubljana
END:VEVENT
BEGIN:VEVENT
SUMMARY:Sredin seminar ()\, Seminar (S)
DTSTART;TZID=Europe/Ljubljana:20250226T180000
DTEND;TZID=Europe/Ljubljana:20250226T200000
DTSTAMP:20260423T063919Z
UID:fmf-AFLABS-URNIK:premaknjeno-srecanje:206057
CATEGORIES:Entry,Standard
COLOR:darkgreen
DESCRIPTION:Predmet: Sredin seminar ()\, Seminar (S)\nLetniki: \nIzvajalci
 : Vladimir Batagelj\nProstor: 2.02
LOCATION:2.02
ORGANIZER:Vladimir Batagelj
RELATED-TO:fmf-AFLABS-URNIK:srecanje:15191
X-WR-TIMEZONE:Europe/Ljubljana
END:VEVENT
BEGIN:VEVENT
SUMMARY:Sredin seminar ()\, Seminar (S)
DTSTART;TZID=Europe/Ljubljana:20250305T180000
DTEND;TZID=Europe/Ljubljana:20250305T200000
DTSTAMP:20260423T063919Z
UID:fmf-AFLABS-URNIK:premaknjeno-srecanje:206058
CATEGORIES:Entry,Standard
COLOR:darkgreen
DESCRIPTION:Predmet: Sredin seminar ()\, Seminar (S)\nLetniki: \nIzvajalci
 : Vladimir Batagelj\nProstor: 2.02
LOCATION:2.02
ORGANIZER:Vladimir Batagelj
RELATED-TO:fmf-AFLABS-URNIK:srecanje:15191
X-WR-TIMEZONE:Europe/Ljubljana
END:VEVENT
BEGIN:VEVENT
SUMMARY:Sredin seminar ()\, Seminar (S)
DTSTART;TZID=Europe/Ljubljana:20250312T180000
DTEND;TZID=Europe/Ljubljana:20250312T200000
DTSTAMP:20260423T063919Z
UID:fmf-AFLABS-URNIK:premaknjeno-srecanje:206059
CATEGORIES:Entry,Standard
COLOR:darkgreen
DESCRIPTION:Predmet: Sredin seminar ()\, Seminar (S)\nLetniki: \nIzvajalci
 : Vladimir Batagelj\nProstor: 2.02
LOCATION:2.02
ORGANIZER:Vladimir Batagelj
RELATED-TO:fmf-AFLABS-URNIK:srecanje:15191
X-WR-TIMEZONE:Europe/Ljubljana
END:VEVENT
BEGIN:VEVENT
SUMMARY:Sredin seminar ()\, Seminar (S)
DTSTART;TZID=Europe/Ljubljana:20250319T180000
DTEND;TZID=Europe/Ljubljana:20250319T200000
DTSTAMP:20260423T063919Z
UID:fmf-AFLABS-URNIK:premaknjeno-srecanje:206060
CATEGORIES:Entry,Standard
COLOR:darkgreen
DESCRIPTION:Predmet: Sredin seminar ()\, Seminar (S)\nLetniki: \nIzvajalci
 : Vladimir Batagelj\nProstor: 2.02
LOCATION:2.02
ORGANIZER:Vladimir Batagelj
RELATED-TO:fmf-AFLABS-URNIK:srecanje:15191
X-WR-TIMEZONE:Europe/Ljubljana
END:VEVENT
BEGIN:VEVENT
SUMMARY:Sredin seminar ()\, Seminar (S)
DTSTART;TZID=Europe/Ljubljana:20250326T180000
DTEND;TZID=Europe/Ljubljana:20250326T200000
DTSTAMP:20260423T063919Z
UID:fmf-AFLABS-URNIK:premaknjeno-srecanje:206061
CATEGORIES:Entry,Standard
COLOR:darkgreen
DESCRIPTION:Predmet: Sredin seminar ()\, Seminar (S)\nLetniki: \nIzvajalci
 : Vladimir Batagelj\nProstor: 2.02
LOCATION:2.02
ORGANIZER:Vladimir Batagelj
RELATED-TO:fmf-AFLABS-URNIK:srecanje:15191
X-WR-TIMEZONE:Europe/Ljubljana
END:VEVENT
BEGIN:VEVENT
SUMMARY:Sredin seminar ()\, Seminar (S)
DTSTART;TZID=Europe/Ljubljana:20250402T180000
DTEND;TZID=Europe/Ljubljana:20250402T200000
DTSTAMP:20260423T063919Z
UID:fmf-AFLABS-URNIK:premaknjeno-srecanje:206062
CATEGORIES:Entry,Standard
COLOR:darkgreen
DESCRIPTION:Predmet: Sredin seminar ()\, Seminar (S)\nLetniki: \nIzvajalci
 : Vladimir Batagelj\nProstor: 2.02
LOCATION:2.02
ORGANIZER:Vladimir Batagelj
RELATED-TO:fmf-AFLABS-URNIK:srecanje:15191
X-WR-TIMEZONE:Europe/Ljubljana
END:VEVENT
BEGIN:VEVENT
SUMMARY:Sredin seminar ()\, Seminar (S)
DTSTART;TZID=Europe/Ljubljana:20250409T180000
DTEND;TZID=Europe/Ljubljana:20250409T200000
DTSTAMP:20260423T063919Z
UID:fmf-AFLABS-URNIK:premaknjeno-srecanje:206063
CATEGORIES:Entry,Standard
COLOR:darkgreen
DESCRIPTION:Predmet: Sredin seminar ()\, Seminar (S)\nLetniki: \nIzvajalci
 : Vladimir Batagelj\nProstor: 2.02
LOCATION:2.02
ORGANIZER:Vladimir Batagelj
RELATED-TO:fmf-AFLABS-URNIK:srecanje:15191
X-WR-TIMEZONE:Europe/Ljubljana
END:VEVENT
BEGIN:VEVENT
SUMMARY:Sredin seminar ()\, Seminar (S)
DTSTART;TZID=Europe/Ljubljana:20250416T180000
DTEND;TZID=Europe/Ljubljana:20250416T200000
DTSTAMP:20260423T063919Z
UID:fmf-AFLABS-URNIK:premaknjeno-srecanje:206064
CATEGORIES:Entry,Standard
COLOR:darkgreen
DESCRIPTION:Predmet: Sredin seminar ()\, Seminar (S)\nLetniki: \nIzvajalci
 : Vladimir Batagelj\nProstor: 2.02
LOCATION:2.02
ORGANIZER:Vladimir Batagelj
RELATED-TO:fmf-AFLABS-URNIK:srecanje:15191
X-WR-TIMEZONE:Europe/Ljubljana
END:VEVENT
BEGIN:VEVENT
SUMMARY:Sredin seminar ()\, Seminar (S)
DTSTART;TZID=Europe/Ljubljana:20250423T180000
DTEND;TZID=Europe/Ljubljana:20250423T200000
DTSTAMP:20260423T063919Z
UID:fmf-AFLABS-URNIK:premaknjeno-srecanje:206065
CATEGORIES:Entry,Standard
COLOR:darkgreen
DESCRIPTION:Predmet: Sredin seminar ()\, Seminar (S)\nLetniki: \nIzvajalci
 : Vladimir Batagelj\nProstor: 2.02
LOCATION:2.02
ORGANIZER:Vladimir Batagelj
RELATED-TO:fmf-AFLABS-URNIK:srecanje:15191
X-WR-TIMEZONE:Europe/Ljubljana
END:VEVENT
BEGIN:VEVENT
SUMMARY:Sredin seminar ()\, Seminar (S)
DTSTART;TZID=Europe/Ljubljana:20250430T180000
DTEND;TZID=Europe/Ljubljana:20250430T200000
DTSTAMP:20260423T063919Z
UID:fmf-AFLABS-URNIK:premaknjeno-srecanje:206066
CATEGORIES:Entry,Standard
COLOR:darkgreen
DESCRIPTION:Predmet: Sredin seminar ()\, Seminar (S)\nLetniki: \nIzvajalci
 : Vladimir Batagelj\nProstor: 2.02
LOCATION:2.02
ORGANIZER:Vladimir Batagelj
RELATED-TO:fmf-AFLABS-URNIK:srecanje:15191
X-WR-TIMEZONE:Europe/Ljubljana
END:VEVENT
BEGIN:VEVENT
SUMMARY:Sredin seminar ()\, Seminar (S)
DTSTART;TZID=Europe/Ljubljana:20250507T180000
DTEND;TZID=Europe/Ljubljana:20250507T200000
DTSTAMP:20260423T063919Z
UID:fmf-AFLABS-URNIK:premaknjeno-srecanje:206067
CATEGORIES:Entry,Standard
COLOR:darkgreen
DESCRIPTION:Predmet: Sredin seminar ()\, Seminar (S)\nLetniki: \nIzvajalci
 : Vladimir Batagelj\nProstor: 2.02
LOCATION:2.02
ORGANIZER:Vladimir Batagelj
RELATED-TO:fmf-AFLABS-URNIK:srecanje:15191
X-WR-TIMEZONE:Europe/Ljubljana
END:VEVENT
BEGIN:VEVENT
SUMMARY:Sredin seminar ()\, Seminar (S)
DTSTART;TZID=Europe/Ljubljana:20250514T180000
DTEND;TZID=Europe/Ljubljana:20250514T200000
DTSTAMP:20260423T063919Z
UID:fmf-AFLABS-URNIK:premaknjeno-srecanje:206068
CATEGORIES:Entry,Standard
COLOR:darkgreen
DESCRIPTION:Predmet: Sredin seminar ()\, Seminar (S)\nLetniki: \nIzvajalci
 : Vladimir Batagelj\nProstor: 2.02
LOCATION:2.02
ORGANIZER:Vladimir Batagelj
RELATED-TO:fmf-AFLABS-URNIK:srecanje:15191
X-WR-TIMEZONE:Europe/Ljubljana
END:VEVENT
BEGIN:VEVENT
SUMMARY:Sredin seminar ()\, Seminar (S)
DTSTART;TZID=Europe/Ljubljana:20250521T180000
DTEND;TZID=Europe/Ljubljana:20250521T200000
DTSTAMP:20260423T063919Z
UID:fmf-AFLABS-URNIK:premaknjeno-srecanje:206069
CATEGORIES:Entry,Standard
COLOR:darkgreen
DESCRIPTION:Predmet: Sredin seminar ()\, Seminar (S)\nLetniki: \nIzvajalci
 : Vladimir Batagelj\nProstor: 2.02
LOCATION:2.02
ORGANIZER:Vladimir Batagelj
RELATED-TO:fmf-AFLABS-URNIK:srecanje:15191
X-WR-TIMEZONE:Europe/Ljubljana
END:VEVENT
BEGIN:VEVENT
SUMMARY:Sredin seminar ()\, Seminar (S)
DTSTART;TZID=Europe/Ljubljana:20250528T180000
DTEND;TZID=Europe/Ljubljana:20250528T200000
DTSTAMP:20260423T063919Z
UID:fmf-AFLABS-URNIK:premaknjeno-srecanje:206070
CATEGORIES:Entry,Standard
COLOR:darkgreen
DESCRIPTION:Predmet: Sredin seminar ()\, Seminar (S)\nLetniki: \nIzvajalci
 : Vladimir Batagelj\nProstor: 2.02
LOCATION:2.02
ORGANIZER:Vladimir Batagelj
RELATED-TO:fmf-AFLABS-URNIK:srecanje:15191
X-WR-TIMEZONE:Europe/Ljubljana
END:VEVENT
BEGIN:VEVENT
SUMMARY:Sredin seminar ()\, Seminar (S)
DTSTART;TZID=Europe/Ljubljana:20250604T180000
DTEND;TZID=Europe/Ljubljana:20250604T200000
DTSTAMP:20260423T063919Z
UID:fmf-AFLABS-URNIK:premaknjeno-srecanje:206071
CATEGORIES:Entry,Standard
COLOR:darkgreen
DESCRIPTION:Predmet: Sredin seminar ()\, Seminar (S)\nLetniki: \nIzvajalci
 : Vladimir Batagelj\nProstor: 2.02
LOCATION:2.02
ORGANIZER:Vladimir Batagelj
RELATED-TO:fmf-AFLABS-URNIK:srecanje:15191
X-WR-TIMEZONE:Europe/Ljubljana
END:VEVENT
END:VCALENDAR
