BEGIN:VCALENDAR
VERSION:2.0
PRODID:-//AFLabs urnik izvoz - fmf//aflabs.si//SI
DTSTAMP:20260422T220811Z
NAME:UL FMF urnik
REFRESH-INTERVAL:PT1H
SOURCE:https://urnik.fmf.uni-lj.si/teacher/161?day=2021-11-01&export=1
URL:https://urnik.fmf.uni-lj.si/teacher/161?day=2021-11-01&export=1
X-PUBLISHED-TTL:PT1H
X-WR-CALNAME:UL FMF urnik
X-WR-TIMEZONE:Europe/Ljubljana
BEGIN:VTIMEZONE
TZID:Europe/Ljubljana
BEGIN:DAYLIGHT
DTSTART:20260329T020000
RDATE:20260329T020000
RDATE:20270328T020000
TZNAME:CEST
TZOFFSETFROM:+0100
TZOFFSETTO:+0200
END:DAYLIGHT
BEGIN:STANDARD
DTSTART:20261025T030000
RDATE:20261025T030000
RDATE:20271031T030000
TZNAME:CET
TZOFFSETFROM:+0200
TZOFFSETTO:+0100
END:STANDARD
END:VTIMEZONE
BEGIN:VEVENT
SUMMARY:Projektno delo 2 (FIZ-2)\, Laboratorijske vaje (L)
DTSTART;TZID=Europe/Ljubljana:20211007T170000
DTEND;TZID=Europe/Ljubljana:20211007T200000
DTSTAMP:20260422T220811Z
UID:fmf-AFLABS-URNIK:premaknjeno-srecanje:87960
ATTENDEE:2. letnik (Fizika, 1. stopnja)
CATEGORIES:Entry,Standard
COLOR:darkgreen
DESCRIPTION:Predmet: Projektno delo 2 (FIZ-2)\, Laboratorijske vaje (L)\nL
 etniki: 2. letnik (Fizika\, 1. stopnja)\nIzvajalci: Sergej Faletič\nProst
 or: None
ORGANIZER:Sergej Faletič
RELATED-TO:fmf-AFLABS-URNIK:srecanje:6507
X-WR-TIMEZONE:Europe/Ljubljana
END:VEVENT
BEGIN:VEVENT
SUMMARY:Projektno delo 2 (FIZ-2)\, Laboratorijske vaje (L)
DTSTART;TZID=Europe/Ljubljana:20211014T170000
DTEND;TZID=Europe/Ljubljana:20211014T200000
DTSTAMP:20260422T220811Z
UID:fmf-AFLABS-URNIK:premaknjeno-srecanje:87961
ATTENDEE:2. letnik (Fizika, 1. stopnja)
CATEGORIES:Entry,Standard
COLOR:darkgreen
DESCRIPTION:Predmet: Projektno delo 2 (FIZ-2)\, Laboratorijske vaje (L)\nL
 etniki: 2. letnik (Fizika\, 1. stopnja)\nIzvajalci: Sergej Faletič\nProst
 or: None
ORGANIZER:Sergej Faletič
RELATED-TO:fmf-AFLABS-URNIK:srecanje:6507
X-WR-TIMEZONE:Europe/Ljubljana
END:VEVENT
BEGIN:VEVENT
SUMMARY:Projektno delo 2 (FIZ-2)\, Laboratorijske vaje (L)
DTSTART;TZID=Europe/Ljubljana:20211021T170000
DTEND;TZID=Europe/Ljubljana:20211021T200000
DTSTAMP:20260422T220811Z
UID:fmf-AFLABS-URNIK:premaknjeno-srecanje:87962
ATTENDEE:2. letnik (Fizika, 1. stopnja)
CATEGORIES:Entry,Standard
COLOR:darkgreen
DESCRIPTION:Predmet: Projektno delo 2 (FIZ-2)\, Laboratorijske vaje (L)\nL
 etniki: 2. letnik (Fizika\, 1. stopnja)\nIzvajalci: Sergej Faletič\nProst
 or: None
ORGANIZER:Sergej Faletič
RELATED-TO:fmf-AFLABS-URNIK:srecanje:6507
X-WR-TIMEZONE:Europe/Ljubljana
END:VEVENT
BEGIN:VEVENT
SUMMARY:Projektno delo 2 (FIZ-2)\, Laboratorijske vaje (L)
DTSTART;TZID=Europe/Ljubljana:20211028T170000
DTEND;TZID=Europe/Ljubljana:20211028T200000
DTSTAMP:20260422T220811Z
UID:fmf-AFLABS-URNIK:premaknjeno-srecanje:87963
ATTENDEE:2. letnik (Fizika, 1. stopnja)
CATEGORIES:Entry,Standard
COLOR:darkgreen
DESCRIPTION:Predmet: Projektno delo 2 (FIZ-2)\, Laboratorijske vaje (L)\nL
 etniki: 2. letnik (Fizika\, 1. stopnja)\nIzvajalci: Sergej Faletič\nProst
 or: None
ORGANIZER:Sergej Faletič
RELATED-TO:fmf-AFLABS-URNIK:srecanje:6507
X-WR-TIMEZONE:Europe/Ljubljana
END:VEVENT
BEGIN:VEVENT
SUMMARY:Projektno delo 2 (FIZ-2)\, Laboratorijske vaje (L)
DTSTART;TZID=Europe/Ljubljana:20211104T170000
DTEND;TZID=Europe/Ljubljana:20211104T200000
DTSTAMP:20260422T220811Z
UID:fmf-AFLABS-URNIK:premaknjeno-srecanje:87964
ATTENDEE:2. letnik (Fizika, 1. stopnja)
CATEGORIES:Entry,Standard
COLOR:darkgreen
DESCRIPTION:Predmet: Projektno delo 2 (FIZ-2)\, Laboratorijske vaje (L)\nL
 etniki: 2. letnik (Fizika\, 1. stopnja)\nIzvajalci: Sergej Faletič\nProst
 or: None
ORGANIZER:Sergej Faletič
RELATED-TO:fmf-AFLABS-URNIK:srecanje:6507
X-WR-TIMEZONE:Europe/Ljubljana
END:VEVENT
BEGIN:VEVENT
SUMMARY:Projektno delo 2 (FIZ-2)\, Laboratorijske vaje (L)
DTSTART;TZID=Europe/Ljubljana:20211111T170000
DTEND;TZID=Europe/Ljubljana:20211111T200000
DTSTAMP:20260422T220811Z
UID:fmf-AFLABS-URNIK:premaknjeno-srecanje:87965
ATTENDEE:2. letnik (Fizika, 1. stopnja)
CATEGORIES:Entry,Standard
COLOR:darkgreen
DESCRIPTION:Predmet: Projektno delo 2 (FIZ-2)\, Laboratorijske vaje (L)\nL
 etniki: 2. letnik (Fizika\, 1. stopnja)\nIzvajalci: Sergej Faletič\nProst
 or: None
ORGANIZER:Sergej Faletič
RELATED-TO:fmf-AFLABS-URNIK:srecanje:6507
X-WR-TIMEZONE:Europe/Ljubljana
END:VEVENT
BEGIN:VEVENT
SUMMARY:Projektno delo 2 (FIZ-2)\, Laboratorijske vaje (L)
DTSTART;TZID=Europe/Ljubljana:20211118T170000
DTEND;TZID=Europe/Ljubljana:20211118T200000
DTSTAMP:20260422T220811Z
UID:fmf-AFLABS-URNIK:premaknjeno-srecanje:87966
ATTENDEE:2. letnik (Fizika, 1. stopnja)
CATEGORIES:Entry,Standard
COLOR:darkgreen
DESCRIPTION:Predmet: Projektno delo 2 (FIZ-2)\, Laboratorijske vaje (L)\nL
 etniki: 2. letnik (Fizika\, 1. stopnja)\nIzvajalci: Sergej Faletič\nProst
 or: None
ORGANIZER:Sergej Faletič
RELATED-TO:fmf-AFLABS-URNIK:srecanje:6507
X-WR-TIMEZONE:Europe/Ljubljana
END:VEVENT
BEGIN:VEVENT
SUMMARY:Projektno delo 2 (FIZ-2)\, Laboratorijske vaje (L)
DTSTART;TZID=Europe/Ljubljana:20211125T170000
DTEND;TZID=Europe/Ljubljana:20211125T200000
DTSTAMP:20260422T220811Z
UID:fmf-AFLABS-URNIK:premaknjeno-srecanje:87967
ATTENDEE:2. letnik (Fizika, 1. stopnja)
CATEGORIES:Entry,Standard
COLOR:darkgreen
DESCRIPTION:Predmet: Projektno delo 2 (FIZ-2)\, Laboratorijske vaje (L)\nL
 etniki: 2. letnik (Fizika\, 1. stopnja)\nIzvajalci: Sergej Faletič\nProst
 or: None
ORGANIZER:Sergej Faletič
RELATED-TO:fmf-AFLABS-URNIK:srecanje:6507
X-WR-TIMEZONE:Europe/Ljubljana
END:VEVENT
BEGIN:VEVENT
SUMMARY:Projektno delo 2 (FIZ-2)\, Laboratorijske vaje (L)
DTSTART;TZID=Europe/Ljubljana:20211202T170000
DTEND;TZID=Europe/Ljubljana:20211202T200000
DTSTAMP:20260422T220811Z
UID:fmf-AFLABS-URNIK:premaknjeno-srecanje:87968
ATTENDEE:2. letnik (Fizika, 1. stopnja)
CATEGORIES:Entry,Standard
COLOR:darkgreen
DESCRIPTION:Predmet: Projektno delo 2 (FIZ-2)\, Laboratorijske vaje (L)\nL
 etniki: 2. letnik (Fizika\, 1. stopnja)\nIzvajalci: Sergej Faletič\nProst
 or: None
ORGANIZER:Sergej Faletič
RELATED-TO:fmf-AFLABS-URNIK:srecanje:6507
X-WR-TIMEZONE:Europe/Ljubljana
END:VEVENT
BEGIN:VEVENT
SUMMARY:Projektno delo 2 (FIZ-2)\, Laboratorijske vaje (L)
DTSTART;TZID=Europe/Ljubljana:20211209T170000
DTEND;TZID=Europe/Ljubljana:20211209T200000
DTSTAMP:20260422T220811Z
UID:fmf-AFLABS-URNIK:premaknjeno-srecanje:87969
ATTENDEE:2. letnik (Fizika, 1. stopnja)
CATEGORIES:Entry,Standard
COLOR:darkgreen
DESCRIPTION:Predmet: Projektno delo 2 (FIZ-2)\, Laboratorijske vaje (L)\nL
 etniki: 2. letnik (Fizika\, 1. stopnja)\nIzvajalci: Sergej Faletič\nProst
 or: None
ORGANIZER:Sergej Faletič
RELATED-TO:fmf-AFLABS-URNIK:srecanje:6507
X-WR-TIMEZONE:Europe/Ljubljana
END:VEVENT
BEGIN:VEVENT
SUMMARY:Projektno delo 2 (FIZ-2)\, Laboratorijske vaje (L)
DTSTART;TZID=Europe/Ljubljana:20211216T170000
DTEND;TZID=Europe/Ljubljana:20211216T200000
DTSTAMP:20260422T220811Z
UID:fmf-AFLABS-URNIK:premaknjeno-srecanje:87970
ATTENDEE:2. letnik (Fizika, 1. stopnja)
CATEGORIES:Entry,Standard
COLOR:darkgreen
DESCRIPTION:Predmet: Projektno delo 2 (FIZ-2)\, Laboratorijske vaje (L)\nL
 etniki: 2. letnik (Fizika\, 1. stopnja)\nIzvajalci: Sergej Faletič\nProst
 or: None
ORGANIZER:Sergej Faletič
RELATED-TO:fmf-AFLABS-URNIK:srecanje:6507
X-WR-TIMEZONE:Europe/Ljubljana
END:VEVENT
BEGIN:VEVENT
SUMMARY:Projektno delo 2 (FIZ-2)\, Laboratorijske vaje (L)
DTSTART;TZID=Europe/Ljubljana:20211223T170000
DTEND;TZID=Europe/Ljubljana:20211223T200000
DTSTAMP:20260422T220811Z
UID:fmf-AFLABS-URNIK:premaknjeno-srecanje:87971
ATTENDEE:2. letnik (Fizika, 1. stopnja)
CATEGORIES:Entry,Standard
COLOR:darkgreen
DESCRIPTION:Predmet: Projektno delo 2 (FIZ-2)\, Laboratorijske vaje (L)\nL
 etniki: 2. letnik (Fizika\, 1. stopnja)\nIzvajalci: Sergej Faletič\nProst
 or: None
ORGANIZER:Sergej Faletič
RELATED-TO:fmf-AFLABS-URNIK:srecanje:6507
X-WR-TIMEZONE:Europe/Ljubljana
END:VEVENT
BEGIN:VEVENT
SUMMARY:Projektno delo 2 (FIZ-2)\, Laboratorijske vaje (L)
DTSTART;TZID=Europe/Ljubljana:20211230T170000
DTEND;TZID=Europe/Ljubljana:20211230T200000
DTSTAMP:20260422T220811Z
UID:fmf-AFLABS-URNIK:premaknjeno-srecanje:87972
ATTENDEE:2. letnik (Fizika, 1. stopnja)
CATEGORIES:Entry,Standard
COLOR:darkgreen
DESCRIPTION:Predmet: Projektno delo 2 (FIZ-2)\, Laboratorijske vaje (L)\nL
 etniki: 2. letnik (Fizika\, 1. stopnja)\nIzvajalci: Sergej Faletič\nProst
 or: None
ORGANIZER:Sergej Faletič
RELATED-TO:fmf-AFLABS-URNIK:srecanje:6507
X-WR-TIMEZONE:Europe/Ljubljana
END:VEVENT
BEGIN:VEVENT
SUMMARY:Projektno delo 2 (FIZ-2)\, Laboratorijske vaje (L)
DTSTART;TZID=Europe/Ljubljana:20220106T170000
DTEND;TZID=Europe/Ljubljana:20220106T200000
DTSTAMP:20260422T220811Z
UID:fmf-AFLABS-URNIK:premaknjeno-srecanje:87973
ATTENDEE:2. letnik (Fizika, 1. stopnja)
CATEGORIES:Entry,Standard
COLOR:darkgreen
DESCRIPTION:Predmet: Projektno delo 2 (FIZ-2)\, Laboratorijske vaje (L)\nL
 etniki: 2. letnik (Fizika\, 1. stopnja)\nIzvajalci: Sergej Faletič\nProst
 or: None
ORGANIZER:Sergej Faletič
RELATED-TO:fmf-AFLABS-URNIK:srecanje:6507
X-WR-TIMEZONE:Europe/Ljubljana
END:VEVENT
BEGIN:VEVENT
SUMMARY:Projektno delo 2 (FIZ-2)\, Laboratorijske vaje (L)
DTSTART;TZID=Europe/Ljubljana:20220113T170000
DTEND;TZID=Europe/Ljubljana:20220113T200000
DTSTAMP:20260422T220811Z
UID:fmf-AFLABS-URNIK:premaknjeno-srecanje:87974
ATTENDEE:2. letnik (Fizika, 1. stopnja)
CATEGORIES:Entry,Standard
COLOR:darkgreen
DESCRIPTION:Predmet: Projektno delo 2 (FIZ-2)\, Laboratorijske vaje (L)\nL
 etniki: 2. letnik (Fizika\, 1. stopnja)\nIzvajalci: Sergej Faletič\nProst
 or: None
ORGANIZER:Sergej Faletič
RELATED-TO:fmf-AFLABS-URNIK:srecanje:6507
X-WR-TIMEZONE:Europe/Ljubljana
END:VEVENT
END:VCALENDAR
