BEGIN:VCALENDAR
VERSION:2.0
PRODID:-//AFLabs urnik izvoz - fmf//aflabs.si//SI
DTSTAMP:20260421T161028Z
NAME:UL FMF urnik
REFRESH-INTERVAL:PT1H
SOURCE:https://urnik.fmf.uni-lj.si/teacher/161?day=2024-01-08&export=1
URL:https://urnik.fmf.uni-lj.si/teacher/161?day=2024-01-08&export=1
X-PUBLISHED-TTL:PT1H
X-WR-CALNAME:UL FMF urnik
X-WR-TIMEZONE:Europe/Ljubljana
BEGIN:VTIMEZONE
TZID:Europe/Ljubljana
BEGIN:DAYLIGHT
DTSTART:20260329T020000
RDATE:20260329T020000
RDATE:20270328T020000
TZNAME:CEST
TZOFFSETFROM:+0100
TZOFFSETTO:+0200
END:DAYLIGHT
BEGIN:STANDARD
DTSTART:20261025T030000
RDATE:20261025T030000
RDATE:20271031T030000
TZNAME:CET
TZOFFSETFROM:+0200
TZOFFSETTO:+0100
END:STANDARD
END:VTIMEZONE
BEGIN:VEVENT
SUMMARY:Fizikalni praktikum (APM-2)\, Vaje (V)
DTSTART;TZID=Europe/Ljubljana:20231003T120000
DTEND;TZID=Europe/Ljubljana:20231003T140000
DTSTAMP:20260421T161028Z
UID:fmf-AFLABS-URNIK:premaknjeno-srecanje:33559
ATTENDEE:2. letnik (APM)
CATEGORIES:Entry,Standard
COLOR:darkgreen
DESCRIPTION:Predmet: Fizikalni praktikum (APM-2)\, Vaje (V)\nLetniki: 2. l
 etnik (APM)\nIzvajalci: Sergej Faletič\, Aleš Mohorič\nProstor: Praktik
 um 104
LOCATION:Praktikum 104
ORGANIZER:Sergej Faletič, Aleš Mohorič
RELATED-TO:fmf-AFLABS-URNIK:srecanje:9136
X-WR-TIMEZONE:Europe/Ljubljana
END:VEVENT
BEGIN:VEVENT
SUMMARY:Fizikalni praktikum (APM-2)\, Vaje (V)
DTSTART;TZID=Europe/Ljubljana:20231010T120000
DTEND;TZID=Europe/Ljubljana:20231010T140000
DTSTAMP:20260421T161028Z
UID:fmf-AFLABS-URNIK:premaknjeno-srecanje:33560
ATTENDEE:2. letnik (APM)
CATEGORIES:Entry,Standard
COLOR:darkgreen
DESCRIPTION:Predmet: Fizikalni praktikum (APM-2)\, Vaje (V)\nLetniki: 2. l
 etnik (APM)\nIzvajalci: Sergej Faletič\, Aleš Mohorič\nProstor: Praktik
 um 104
LOCATION:Praktikum 104
ORGANIZER:Sergej Faletič, Aleš Mohorič
RELATED-TO:fmf-AFLABS-URNIK:srecanje:9136
X-WR-TIMEZONE:Europe/Ljubljana
END:VEVENT
BEGIN:VEVENT
SUMMARY:Fizikalni praktikum (APM-2)\, Vaje (V)
DTSTART;TZID=Europe/Ljubljana:20231017T120000
DTEND;TZID=Europe/Ljubljana:20231017T140000
DTSTAMP:20260421T161028Z
UID:fmf-AFLABS-URNIK:premaknjeno-srecanje:33561
ATTENDEE:2. letnik (APM)
CATEGORIES:Entry,Standard
COLOR:darkgreen
DESCRIPTION:Predmet: Fizikalni praktikum (APM-2)\, Vaje (V)\nLetniki: 2. l
 etnik (APM)\nIzvajalci: Sergej Faletič\, Aleš Mohorič\nProstor: Praktik
 um 104
LOCATION:Praktikum 104
ORGANIZER:Sergej Faletič, Aleš Mohorič
RELATED-TO:fmf-AFLABS-URNIK:srecanje:9136
X-WR-TIMEZONE:Europe/Ljubljana
END:VEVENT
BEGIN:VEVENT
SUMMARY:Fizikalni praktikum (APM-2)\, Vaje (V)
DTSTART;TZID=Europe/Ljubljana:20231024T120000
DTEND;TZID=Europe/Ljubljana:20231024T140000
DTSTAMP:20260421T161028Z
UID:fmf-AFLABS-URNIK:premaknjeno-srecanje:33562
ATTENDEE:2. letnik (APM)
CATEGORIES:Entry,Standard
COLOR:darkgreen
DESCRIPTION:Predmet: Fizikalni praktikum (APM-2)\, Vaje (V)\nLetniki: 2. l
 etnik (APM)\nIzvajalci: Sergej Faletič\, Aleš Mohorič\nProstor: Praktik
 um 104
LOCATION:Praktikum 104
ORGANIZER:Sergej Faletič, Aleš Mohorič
RELATED-TO:fmf-AFLABS-URNIK:srecanje:9136
X-WR-TIMEZONE:Europe/Ljubljana
END:VEVENT
BEGIN:VEVENT
SUMMARY:Fizikalni praktikum (APM-2)\, Vaje (V)
DTSTART;TZID=Europe/Ljubljana:20231031T120000
DTEND;TZID=Europe/Ljubljana:20231031T140000
DTSTAMP:20260421T161028Z
UID:fmf-AFLABS-URNIK:premaknjeno-srecanje:33563
ATTENDEE:2. letnik (APM)
CATEGORIES:Entry,Standard
COLOR:darkgreen
DESCRIPTION:Predmet: Fizikalni praktikum (APM-2)\, Vaje (V)\nLetniki: 2. l
 etnik (APM)\nIzvajalci: Sergej Faletič\, Aleš Mohorič\nProstor: Praktik
 um 104
LOCATION:Praktikum 104
ORGANIZER:Sergej Faletič, Aleš Mohorič
RELATED-TO:fmf-AFLABS-URNIK:srecanje:9136
X-WR-TIMEZONE:Europe/Ljubljana
END:VEVENT
BEGIN:VEVENT
SUMMARY:Fizikalni praktikum (APM-2)\, Vaje (V)
DTSTART;TZID=Europe/Ljubljana:20231107T120000
DTEND;TZID=Europe/Ljubljana:20231107T140000
DTSTAMP:20260421T161028Z
UID:fmf-AFLABS-URNIK:premaknjeno-srecanje:33564
ATTENDEE:2. letnik (APM)
CATEGORIES:Entry,Standard
COLOR:darkgreen
DESCRIPTION:Predmet: Fizikalni praktikum (APM-2)\, Vaje (V)\nLetniki: 2. l
 etnik (APM)\nIzvajalci: Sergej Faletič\, Aleš Mohorič\nProstor: Praktik
 um 104
LOCATION:Praktikum 104
ORGANIZER:Sergej Faletič, Aleš Mohorič
RELATED-TO:fmf-AFLABS-URNIK:srecanje:9136
X-WR-TIMEZONE:Europe/Ljubljana
END:VEVENT
BEGIN:VEVENT
SUMMARY:Fizikalni praktikum (APM-2)\, Vaje (V)
DTSTART;TZID=Europe/Ljubljana:20231114T120000
DTEND;TZID=Europe/Ljubljana:20231114T140000
DTSTAMP:20260421T161028Z
UID:fmf-AFLABS-URNIK:premaknjeno-srecanje:33565
ATTENDEE:2. letnik (APM)
CATEGORIES:Entry,Standard
COLOR:darkgreen
DESCRIPTION:Predmet: Fizikalni praktikum (APM-2)\, Vaje (V)\nLetniki: 2. l
 etnik (APM)\nIzvajalci: Sergej Faletič\, Aleš Mohorič\nProstor: Praktik
 um 104
LOCATION:Praktikum 104
ORGANIZER:Sergej Faletič, Aleš Mohorič
RELATED-TO:fmf-AFLABS-URNIK:srecanje:9136
X-WR-TIMEZONE:Europe/Ljubljana
END:VEVENT
BEGIN:VEVENT
SUMMARY:Fizikalni praktikum (APM-2)\, Vaje (V)
DTSTART;TZID=Europe/Ljubljana:20231121T120000
DTEND;TZID=Europe/Ljubljana:20231121T140000
DTSTAMP:20260421T161028Z
UID:fmf-AFLABS-URNIK:premaknjeno-srecanje:33566
ATTENDEE:2. letnik (APM)
CATEGORIES:Entry,Standard
COLOR:darkgreen
DESCRIPTION:Predmet: Fizikalni praktikum (APM-2)\, Vaje (V)\nLetniki: 2. l
 etnik (APM)\nIzvajalci: Sergej Faletič\, Aleš Mohorič\nProstor: Praktik
 um 104
LOCATION:Praktikum 104
ORGANIZER:Sergej Faletič, Aleš Mohorič
RELATED-TO:fmf-AFLABS-URNIK:srecanje:9136
X-WR-TIMEZONE:Europe/Ljubljana
END:VEVENT
BEGIN:VEVENT
SUMMARY:Fizikalni praktikum (APM-2)\, Vaje (V)
DTSTART;TZID=Europe/Ljubljana:20231128T120000
DTEND;TZID=Europe/Ljubljana:20231128T140000
DTSTAMP:20260421T161028Z
UID:fmf-AFLABS-URNIK:premaknjeno-srecanje:33567
ATTENDEE:2. letnik (APM)
CATEGORIES:Entry,Standard
COLOR:darkgreen
DESCRIPTION:Predmet: Fizikalni praktikum (APM-2)\, Vaje (V)\nLetniki: 2. l
 etnik (APM)\nIzvajalci: Sergej Faletič\, Aleš Mohorič\nProstor: Praktik
 um 104
LOCATION:Praktikum 104
ORGANIZER:Sergej Faletič, Aleš Mohorič
RELATED-TO:fmf-AFLABS-URNIK:srecanje:9136
X-WR-TIMEZONE:Europe/Ljubljana
END:VEVENT
BEGIN:VEVENT
SUMMARY:Fizikalni praktikum (APM-2)\, Vaje (V)
DTSTART;TZID=Europe/Ljubljana:20231205T120000
DTEND;TZID=Europe/Ljubljana:20231205T140000
DTSTAMP:20260421T161028Z
UID:fmf-AFLABS-URNIK:premaknjeno-srecanje:33568
ATTENDEE:2. letnik (APM)
CATEGORIES:Entry,Standard
COLOR:darkgreen
DESCRIPTION:Predmet: Fizikalni praktikum (APM-2)\, Vaje (V)\nLetniki: 2. l
 etnik (APM)\nIzvajalci: Sergej Faletič\, Aleš Mohorič\nProstor: Praktik
 um 104
LOCATION:Praktikum 104
ORGANIZER:Sergej Faletič, Aleš Mohorič
RELATED-TO:fmf-AFLABS-URNIK:srecanje:9136
X-WR-TIMEZONE:Europe/Ljubljana
END:VEVENT
BEGIN:VEVENT
SUMMARY:Fizikalni praktikum (APM-2)\, Vaje (V)
DTSTART;TZID=Europe/Ljubljana:20231212T120000
DTEND;TZID=Europe/Ljubljana:20231212T140000
DTSTAMP:20260421T161028Z
UID:fmf-AFLABS-URNIK:premaknjeno-srecanje:33569
ATTENDEE:2. letnik (APM)
CATEGORIES:Entry,Standard
COLOR:darkgreen
DESCRIPTION:Predmet: Fizikalni praktikum (APM-2)\, Vaje (V)\nLetniki: 2. l
 etnik (APM)\nIzvajalci: Sergej Faletič\, Aleš Mohorič\nProstor: Praktik
 um 104
LOCATION:Praktikum 104
ORGANIZER:Sergej Faletič, Aleš Mohorič
RELATED-TO:fmf-AFLABS-URNIK:srecanje:9136
X-WR-TIMEZONE:Europe/Ljubljana
END:VEVENT
BEGIN:VEVENT
SUMMARY:Fizikalni praktikum (APM-2)\, Vaje (V)
DTSTART;TZID=Europe/Ljubljana:20231219T120000
DTEND;TZID=Europe/Ljubljana:20231219T140000
DTSTAMP:20260421T161028Z
UID:fmf-AFLABS-URNIK:premaknjeno-srecanje:33570
ATTENDEE:2. letnik (APM)
CATEGORIES:Entry,Standard
COLOR:darkgreen
DESCRIPTION:Predmet: Fizikalni praktikum (APM-2)\, Vaje (V)\nLetniki: 2. l
 etnik (APM)\nIzvajalci: Sergej Faletič\, Aleš Mohorič\nProstor: Praktik
 um 104
LOCATION:Praktikum 104
ORGANIZER:Sergej Faletič, Aleš Mohorič
RELATED-TO:fmf-AFLABS-URNIK:srecanje:9136
X-WR-TIMEZONE:Europe/Ljubljana
END:VEVENT
BEGIN:VEVENT
SUMMARY:Fizikalni praktikum (APM-2)\, Vaje (V)
DTSTART;TZID=Europe/Ljubljana:20231226T120000
DTEND;TZID=Europe/Ljubljana:20231226T140000
DTSTAMP:20260421T161028Z
UID:fmf-AFLABS-URNIK:premaknjeno-srecanje:33571
ATTENDEE:2. letnik (APM)
CATEGORIES:Entry,Standard
COLOR:darkgreen
DESCRIPTION:Predmet: Fizikalni praktikum (APM-2)\, Vaje (V)\nLetniki: 2. l
 etnik (APM)\nIzvajalci: Sergej Faletič\, Aleš Mohorič\nProstor: Praktik
 um 104
LOCATION:Praktikum 104
ORGANIZER:Sergej Faletič, Aleš Mohorič
RELATED-TO:fmf-AFLABS-URNIK:srecanje:9136
X-WR-TIMEZONE:Europe/Ljubljana
END:VEVENT
BEGIN:VEVENT
SUMMARY:Fizikalni praktikum (APM-2)\, Vaje (V)
DTSTART;TZID=Europe/Ljubljana:20240102T120000
DTEND;TZID=Europe/Ljubljana:20240102T140000
DTSTAMP:20260421T161028Z
UID:fmf-AFLABS-URNIK:premaknjeno-srecanje:33572
ATTENDEE:2. letnik (APM)
CATEGORIES:Entry,Standard
COLOR:darkgreen
DESCRIPTION:Predmet: Fizikalni praktikum (APM-2)\, Vaje (V)\nLetniki: 2. l
 etnik (APM)\nIzvajalci: Sergej Faletič\, Aleš Mohorič\nProstor: Praktik
 um 104
LOCATION:Praktikum 104
ORGANIZER:Sergej Faletič, Aleš Mohorič
RELATED-TO:fmf-AFLABS-URNIK:srecanje:9136
X-WR-TIMEZONE:Europe/Ljubljana
END:VEVENT
BEGIN:VEVENT
SUMMARY:Fizikalni praktikum (APM-2)\, Vaje (V)
DTSTART;TZID=Europe/Ljubljana:20240109T120000
DTEND;TZID=Europe/Ljubljana:20240109T140000
DTSTAMP:20260421T161028Z
UID:fmf-AFLABS-URNIK:premaknjeno-srecanje:33573
ATTENDEE:2. letnik (APM)
CATEGORIES:Entry,Standard
COLOR:darkgreen
DESCRIPTION:Predmet: Fizikalni praktikum (APM-2)\, Vaje (V)\nLetniki: 2. l
 etnik (APM)\nIzvajalci: Sergej Faletič\, Aleš Mohorič\nProstor: Praktik
 um 104
LOCATION:Praktikum 104
ORGANIZER:Sergej Faletič, Aleš Mohorič
RELATED-TO:fmf-AFLABS-URNIK:srecanje:9136
X-WR-TIMEZONE:Europe/Ljubljana
END:VEVENT
BEGIN:VEVENT
SUMMARY:Fizikalni praktikum (APM-2)\, Vaje (V)
DTSTART;TZID=Europe/Ljubljana:20240116T120000
DTEND;TZID=Europe/Ljubljana:20240116T140000
DTSTAMP:20260421T161028Z
UID:fmf-AFLABS-URNIK:premaknjeno-srecanje:33574
ATTENDEE:2. letnik (APM)
CATEGORIES:Entry,Standard
COLOR:darkgreen
DESCRIPTION:Predmet: Fizikalni praktikum (APM-2)\, Vaje (V)\nLetniki: 2. l
 etnik (APM)\nIzvajalci: Sergej Faletič\, Aleš Mohorič\nProstor: Praktik
 um 104
LOCATION:Praktikum 104
ORGANIZER:Sergej Faletič, Aleš Mohorič
RELATED-TO:fmf-AFLABS-URNIK:srecanje:9136
X-WR-TIMEZONE:Europe/Ljubljana
END:VEVENT
BEGIN:VEVENT
SUMMARY:Projektno delo 2 (FIZ-2)\, Laboratorijske vaje (L)
DTSTART;TZID=Europe/Ljubljana:20231004T150000
DTEND;TZID=Europe/Ljubljana:20231004T180000
DTSTAMP:20260421T161028Z
UID:fmf-AFLABS-URNIK:premaknjeno-srecanje:87836
ATTENDEE:2. letnik (Fizika, 1. stopnja)
CATEGORIES:Entry,Standard
COLOR:darkgreen
DESCRIPTION:Predmet: Projektno delo 2 (FIZ-2)\, Laboratorijske vaje (L)\nL
 etniki: 2. letnik (Fizika\, 1. stopnja)\nIzvajalci: Sergej Faletič\nProst
 or: Hefajst
LOCATION:Hefajst
ORGANIZER:Sergej Faletič
RELATED-TO:fmf-AFLABS-URNIK:srecanje:9399
X-WR-TIMEZONE:Europe/Ljubljana
END:VEVENT
BEGIN:VEVENT
SUMMARY:Projektno delo 2 (FIZ-2)\, Laboratorijske vaje (L)
DTSTART;TZID=Europe/Ljubljana:20231011T150000
DTEND;TZID=Europe/Ljubljana:20231011T180000
DTSTAMP:20260421T161028Z
UID:fmf-AFLABS-URNIK:premaknjeno-srecanje:87837
ATTENDEE:2. letnik (Fizika, 1. stopnja)
CATEGORIES:Entry,Standard
COLOR:darkgreen
DESCRIPTION:Predmet: Projektno delo 2 (FIZ-2)\, Laboratorijske vaje (L)\nL
 etniki: 2. letnik (Fizika\, 1. stopnja)\nIzvajalci: Sergej Faletič\nProst
 or: Hefajst
LOCATION:Hefajst
ORGANIZER:Sergej Faletič
RELATED-TO:fmf-AFLABS-URNIK:srecanje:9399
X-WR-TIMEZONE:Europe/Ljubljana
END:VEVENT
BEGIN:VEVENT
SUMMARY:Projektno delo 2 (FIZ-2)\, Laboratorijske vaje (L)
DTSTART;TZID=Europe/Ljubljana:20231018T150000
DTEND;TZID=Europe/Ljubljana:20231018T180000
DTSTAMP:20260421T161028Z
UID:fmf-AFLABS-URNIK:premaknjeno-srecanje:87838
ATTENDEE:2. letnik (Fizika, 1. stopnja)
CATEGORIES:Entry,Standard
COLOR:darkgreen
DESCRIPTION:Predmet: Projektno delo 2 (FIZ-2)\, Laboratorijske vaje (L)\nL
 etniki: 2. letnik (Fizika\, 1. stopnja)\nIzvajalci: Sergej Faletič\nProst
 or: Hefajst
LOCATION:Hefajst
ORGANIZER:Sergej Faletič
RELATED-TO:fmf-AFLABS-URNIK:srecanje:9399
X-WR-TIMEZONE:Europe/Ljubljana
END:VEVENT
BEGIN:VEVENT
SUMMARY:Projektno delo 2 (FIZ-2)\, Laboratorijske vaje (L)
DTSTART;TZID=Europe/Ljubljana:20231025T150000
DTEND;TZID=Europe/Ljubljana:20231025T180000
DTSTAMP:20260421T161028Z
UID:fmf-AFLABS-URNIK:premaknjeno-srecanje:87839
ATTENDEE:2. letnik (Fizika, 1. stopnja)
CATEGORIES:Entry,Standard
COLOR:darkgreen
DESCRIPTION:Predmet: Projektno delo 2 (FIZ-2)\, Laboratorijske vaje (L)\nL
 etniki: 2. letnik (Fizika\, 1. stopnja)\nIzvajalci: Sergej Faletič\nProst
 or: Hefajst
LOCATION:Hefajst
ORGANIZER:Sergej Faletič
RELATED-TO:fmf-AFLABS-URNIK:srecanje:9399
X-WR-TIMEZONE:Europe/Ljubljana
END:VEVENT
BEGIN:VEVENT
SUMMARY:Projektno delo 2 (FIZ-2)\, Laboratorijske vaje (L)
DTSTART;TZID=Europe/Ljubljana:20231101T150000
DTEND;TZID=Europe/Ljubljana:20231101T180000
DTSTAMP:20260421T161028Z
UID:fmf-AFLABS-URNIK:premaknjeno-srecanje:87840
ATTENDEE:2. letnik (Fizika, 1. stopnja)
CATEGORIES:Entry,Standard
COLOR:darkgreen
DESCRIPTION:Predmet: Projektno delo 2 (FIZ-2)\, Laboratorijske vaje (L)\nL
 etniki: 2. letnik (Fizika\, 1. stopnja)\nIzvajalci: Sergej Faletič\nProst
 or: Hefajst
LOCATION:Hefajst
ORGANIZER:Sergej Faletič
RELATED-TO:fmf-AFLABS-URNIK:srecanje:9399
X-WR-TIMEZONE:Europe/Ljubljana
END:VEVENT
BEGIN:VEVENT
SUMMARY:Projektno delo 2 (FIZ-2)\, Laboratorijske vaje (L)
DTSTART;TZID=Europe/Ljubljana:20231108T150000
DTEND;TZID=Europe/Ljubljana:20231108T180000
DTSTAMP:20260421T161028Z
UID:fmf-AFLABS-URNIK:premaknjeno-srecanje:87841
ATTENDEE:2. letnik (Fizika, 1. stopnja)
CATEGORIES:Entry,Standard
COLOR:darkgreen
DESCRIPTION:Predmet: Projektno delo 2 (FIZ-2)\, Laboratorijske vaje (L)\nL
 etniki: 2. letnik (Fizika\, 1. stopnja)\nIzvajalci: Sergej Faletič\nProst
 or: Hefajst
LOCATION:Hefajst
ORGANIZER:Sergej Faletič
RELATED-TO:fmf-AFLABS-URNIK:srecanje:9399
X-WR-TIMEZONE:Europe/Ljubljana
END:VEVENT
BEGIN:VEVENT
SUMMARY:Projektno delo 2 (FIZ-2)\, Laboratorijske vaje (L)
DTSTART;TZID=Europe/Ljubljana:20231115T150000
DTEND;TZID=Europe/Ljubljana:20231115T180000
DTSTAMP:20260421T161028Z
UID:fmf-AFLABS-URNIK:premaknjeno-srecanje:87842
ATTENDEE:2. letnik (Fizika, 1. stopnja)
CATEGORIES:Entry,Standard
COLOR:darkgreen
DESCRIPTION:Predmet: Projektno delo 2 (FIZ-2)\, Laboratorijske vaje (L)\nL
 etniki: 2. letnik (Fizika\, 1. stopnja)\nIzvajalci: Sergej Faletič\nProst
 or: Hefajst
LOCATION:Hefajst
ORGANIZER:Sergej Faletič
RELATED-TO:fmf-AFLABS-URNIK:srecanje:9399
X-WR-TIMEZONE:Europe/Ljubljana
END:VEVENT
BEGIN:VEVENT
SUMMARY:Projektno delo 2 (FIZ-2)\, Laboratorijske vaje (L)
DTSTART;TZID=Europe/Ljubljana:20231122T150000
DTEND;TZID=Europe/Ljubljana:20231122T180000
DTSTAMP:20260421T161028Z
UID:fmf-AFLABS-URNIK:premaknjeno-srecanje:87843
ATTENDEE:2. letnik (Fizika, 1. stopnja)
CATEGORIES:Entry,Standard
COLOR:darkgreen
DESCRIPTION:Predmet: Projektno delo 2 (FIZ-2)\, Laboratorijske vaje (L)\nL
 etniki: 2. letnik (Fizika\, 1. stopnja)\nIzvajalci: Sergej Faletič\nProst
 or: Hefajst
LOCATION:Hefajst
ORGANIZER:Sergej Faletič
RELATED-TO:fmf-AFLABS-URNIK:srecanje:9399
X-WR-TIMEZONE:Europe/Ljubljana
END:VEVENT
BEGIN:VEVENT
SUMMARY:Projektno delo 2 (FIZ-2)\, Laboratorijske vaje (L)
DTSTART;TZID=Europe/Ljubljana:20231129T150000
DTEND;TZID=Europe/Ljubljana:20231129T180000
DTSTAMP:20260421T161028Z
UID:fmf-AFLABS-URNIK:premaknjeno-srecanje:87844
ATTENDEE:2. letnik (Fizika, 1. stopnja)
CATEGORIES:Entry,Standard
COLOR:darkgreen
DESCRIPTION:Predmet: Projektno delo 2 (FIZ-2)\, Laboratorijske vaje (L)\nL
 etniki: 2. letnik (Fizika\, 1. stopnja)\nIzvajalci: Sergej Faletič\nProst
 or: Hefajst
LOCATION:Hefajst
ORGANIZER:Sergej Faletič
RELATED-TO:fmf-AFLABS-URNIK:srecanje:9399
X-WR-TIMEZONE:Europe/Ljubljana
END:VEVENT
BEGIN:VEVENT
SUMMARY:Projektno delo 2 (FIZ-2)\, Laboratorijske vaje (L)
DTSTART;TZID=Europe/Ljubljana:20231206T150000
DTEND;TZID=Europe/Ljubljana:20231206T180000
DTSTAMP:20260421T161028Z
UID:fmf-AFLABS-URNIK:premaknjeno-srecanje:87845
ATTENDEE:2. letnik (Fizika, 1. stopnja)
CATEGORIES:Entry,Standard
COLOR:darkgreen
DESCRIPTION:Predmet: Projektno delo 2 (FIZ-2)\, Laboratorijske vaje (L)\nL
 etniki: 2. letnik (Fizika\, 1. stopnja)\nIzvajalci: Sergej Faletič\nProst
 or: Hefajst
LOCATION:Hefajst
ORGANIZER:Sergej Faletič
RELATED-TO:fmf-AFLABS-URNIK:srecanje:9399
X-WR-TIMEZONE:Europe/Ljubljana
END:VEVENT
BEGIN:VEVENT
SUMMARY:Projektno delo 2 (FIZ-2)\, Laboratorijske vaje (L)
DTSTART;TZID=Europe/Ljubljana:20231213T150000
DTEND;TZID=Europe/Ljubljana:20231213T180000
DTSTAMP:20260421T161028Z
UID:fmf-AFLABS-URNIK:premaknjeno-srecanje:87846
ATTENDEE:2. letnik (Fizika, 1. stopnja)
CATEGORIES:Entry,Standard
COLOR:darkgreen
DESCRIPTION:Predmet: Projektno delo 2 (FIZ-2)\, Laboratorijske vaje (L)\nL
 etniki: 2. letnik (Fizika\, 1. stopnja)\nIzvajalci: Sergej Faletič\nProst
 or: Hefajst
LOCATION:Hefajst
ORGANIZER:Sergej Faletič
RELATED-TO:fmf-AFLABS-URNIK:srecanje:9399
X-WR-TIMEZONE:Europe/Ljubljana
END:VEVENT
BEGIN:VEVENT
SUMMARY:Projektno delo 2 (FIZ-2)\, Laboratorijske vaje (L)
DTSTART;TZID=Europe/Ljubljana:20231220T150000
DTEND;TZID=Europe/Ljubljana:20231220T180000
DTSTAMP:20260421T161028Z
UID:fmf-AFLABS-URNIK:premaknjeno-srecanje:87847
ATTENDEE:2. letnik (Fizika, 1. stopnja)
CATEGORIES:Entry,Standard
COLOR:darkgreen
DESCRIPTION:Predmet: Projektno delo 2 (FIZ-2)\, Laboratorijske vaje (L)\nL
 etniki: 2. letnik (Fizika\, 1. stopnja)\nIzvajalci: Sergej Faletič\nProst
 or: Hefajst
LOCATION:Hefajst
ORGANIZER:Sergej Faletič
RELATED-TO:fmf-AFLABS-URNIK:srecanje:9399
X-WR-TIMEZONE:Europe/Ljubljana
END:VEVENT
BEGIN:VEVENT
SUMMARY:Projektno delo 2 (FIZ-2)\, Laboratorijske vaje (L)
DTSTART;TZID=Europe/Ljubljana:20231227T150000
DTEND;TZID=Europe/Ljubljana:20231227T180000
DTSTAMP:20260421T161028Z
UID:fmf-AFLABS-URNIK:premaknjeno-srecanje:87848
ATTENDEE:2. letnik (Fizika, 1. stopnja)
CATEGORIES:Entry,Standard
COLOR:darkgreen
DESCRIPTION:Predmet: Projektno delo 2 (FIZ-2)\, Laboratorijske vaje (L)\nL
 etniki: 2. letnik (Fizika\, 1. stopnja)\nIzvajalci: Sergej Faletič\nProst
 or: Hefajst
LOCATION:Hefajst
ORGANIZER:Sergej Faletič
RELATED-TO:fmf-AFLABS-URNIK:srecanje:9399
X-WR-TIMEZONE:Europe/Ljubljana
END:VEVENT
BEGIN:VEVENT
SUMMARY:Projektno delo 2 (FIZ-2)\, Laboratorijske vaje (L)
DTSTART;TZID=Europe/Ljubljana:20240103T150000
DTEND;TZID=Europe/Ljubljana:20240103T180000
DTSTAMP:20260421T161028Z
UID:fmf-AFLABS-URNIK:premaknjeno-srecanje:87849
ATTENDEE:2. letnik (Fizika, 1. stopnja)
CATEGORIES:Entry,Standard
COLOR:darkgreen
DESCRIPTION:Predmet: Projektno delo 2 (FIZ-2)\, Laboratorijske vaje (L)\nL
 etniki: 2. letnik (Fizika\, 1. stopnja)\nIzvajalci: Sergej Faletič\nProst
 or: Hefajst
LOCATION:Hefajst
ORGANIZER:Sergej Faletič
RELATED-TO:fmf-AFLABS-URNIK:srecanje:9399
X-WR-TIMEZONE:Europe/Ljubljana
END:VEVENT
BEGIN:VEVENT
SUMMARY:Projektno delo 2 (FIZ-2)\, Laboratorijske vaje (L)
DTSTART;TZID=Europe/Ljubljana:20240110T150000
DTEND;TZID=Europe/Ljubljana:20240110T180000
DTSTAMP:20260421T161028Z
UID:fmf-AFLABS-URNIK:premaknjeno-srecanje:87850
ATTENDEE:2. letnik (Fizika, 1. stopnja)
CATEGORIES:Entry,Standard
COLOR:darkgreen
DESCRIPTION:Predmet: Projektno delo 2 (FIZ-2)\, Laboratorijske vaje (L)\nL
 etniki: 2. letnik (Fizika\, 1. stopnja)\nIzvajalci: Sergej Faletič\nProst
 or: Hefajst
LOCATION:Hefajst
ORGANIZER:Sergej Faletič
RELATED-TO:fmf-AFLABS-URNIK:srecanje:9399
X-WR-TIMEZONE:Europe/Ljubljana
END:VEVENT
BEGIN:VEVENT
SUMMARY:Projektno delo 2 (FIZ-2)\, Laboratorijske vaje (L)
DTSTART;TZID=Europe/Ljubljana:20240117T150000
DTEND;TZID=Europe/Ljubljana:20240117T180000
DTSTAMP:20260421T161028Z
UID:fmf-AFLABS-URNIK:premaknjeno-srecanje:87851
ATTENDEE:2. letnik (Fizika, 1. stopnja)
CATEGORIES:Entry,Standard
COLOR:darkgreen
DESCRIPTION:Predmet: Projektno delo 2 (FIZ-2)\, Laboratorijske vaje (L)\nL
 etniki: 2. letnik (Fizika\, 1. stopnja)\nIzvajalci: Sergej Faletič\nProst
 or: Hefajst
LOCATION:Hefajst
ORGANIZER:Sergej Faletič
RELATED-TO:fmf-AFLABS-URNIK:srecanje:9399
X-WR-TIMEZONE:Europe/Ljubljana
END:VEVENT
END:VCALENDAR
