BEGIN:VCALENDAR
VERSION:2.0
PRODID:-//AFLabs urnik izvoz - fmf//aflabs.si//SI
DTSTAMP:20260421T141150Z
NAME:UL FMF urnik
REFRESH-INTERVAL:PT1H
SOURCE:https://urnik.fmf.uni-lj.si/teacher/161?day=2024-01-29&export=1
URL:https://urnik.fmf.uni-lj.si/teacher/161?day=2024-01-29&export=1
X-PUBLISHED-TTL:PT1H
X-WR-CALNAME:UL FMF urnik
X-WR-TIMEZONE:Europe/Ljubljana
BEGIN:VTIMEZONE
TZID:Europe/Ljubljana
BEGIN:DAYLIGHT
DTSTART:20260329T020000
RDATE:20260329T020000
RDATE:20270328T020000
TZNAME:CEST
TZOFFSETFROM:+0100
TZOFFSETTO:+0200
END:DAYLIGHT
BEGIN:STANDARD
DTSTART:20261025T030000
RDATE:20261025T030000
RDATE:20271031T030000
TZNAME:CET
TZOFFSETFROM:+0200
TZOFFSETTO:+0100
END:STANDARD
END:VTIMEZONE
BEGIN:VEVENT
SUMMARY:Fizikalni praktikum (APM-2)\, Vaje (V)
DTSTART;TZID=Europe/Ljubljana:20231226T120000
DTEND;TZID=Europe/Ljubljana:20231226T140000
DTSTAMP:20260421T141150Z
UID:fmf-AFLABS-URNIK:premaknjeno-srecanje:33571
ATTENDEE:2. letnik (APM)
CATEGORIES:Entry,Standard
COLOR:darkgreen
DESCRIPTION:Predmet: Fizikalni praktikum (APM-2)\, Vaje (V)\nLetniki: 2. l
 etnik (APM)\nIzvajalci: Sergej Faletič\, Aleš Mohorič\nProstor: Praktik
 um 104
LOCATION:Praktikum 104
ORGANIZER:Sergej Faletič, Aleš Mohorič
RELATED-TO:fmf-AFLABS-URNIK:srecanje:9136
X-WR-TIMEZONE:Europe/Ljubljana
END:VEVENT
BEGIN:VEVENT
SUMMARY:Fizikalni praktikum (APM-2)\, Vaje (V)
DTSTART;TZID=Europe/Ljubljana:20240102T120000
DTEND;TZID=Europe/Ljubljana:20240102T140000
DTSTAMP:20260421T141150Z
UID:fmf-AFLABS-URNIK:premaknjeno-srecanje:33572
ATTENDEE:2. letnik (APM)
CATEGORIES:Entry,Standard
COLOR:darkgreen
DESCRIPTION:Predmet: Fizikalni praktikum (APM-2)\, Vaje (V)\nLetniki: 2. l
 etnik (APM)\nIzvajalci: Sergej Faletič\, Aleš Mohorič\nProstor: Praktik
 um 104
LOCATION:Praktikum 104
ORGANIZER:Sergej Faletič, Aleš Mohorič
RELATED-TO:fmf-AFLABS-URNIK:srecanje:9136
X-WR-TIMEZONE:Europe/Ljubljana
END:VEVENT
BEGIN:VEVENT
SUMMARY:Fizikalni praktikum (APM-2)\, Vaje (V)
DTSTART;TZID=Europe/Ljubljana:20240109T120000
DTEND;TZID=Europe/Ljubljana:20240109T140000
DTSTAMP:20260421T141150Z
UID:fmf-AFLABS-URNIK:premaknjeno-srecanje:33573
ATTENDEE:2. letnik (APM)
CATEGORIES:Entry,Standard
COLOR:darkgreen
DESCRIPTION:Predmet: Fizikalni praktikum (APM-2)\, Vaje (V)\nLetniki: 2. l
 etnik (APM)\nIzvajalci: Sergej Faletič\, Aleš Mohorič\nProstor: Praktik
 um 104
LOCATION:Praktikum 104
ORGANIZER:Sergej Faletič, Aleš Mohorič
RELATED-TO:fmf-AFLABS-URNIK:srecanje:9136
X-WR-TIMEZONE:Europe/Ljubljana
END:VEVENT
BEGIN:VEVENT
SUMMARY:Fizikalni praktikum (APM-2)\, Vaje (V)
DTSTART;TZID=Europe/Ljubljana:20240116T120000
DTEND;TZID=Europe/Ljubljana:20240116T140000
DTSTAMP:20260421T141150Z
UID:fmf-AFLABS-URNIK:premaknjeno-srecanje:33574
ATTENDEE:2. letnik (APM)
CATEGORIES:Entry,Standard
COLOR:darkgreen
DESCRIPTION:Predmet: Fizikalni praktikum (APM-2)\, Vaje (V)\nLetniki: 2. l
 etnik (APM)\nIzvajalci: Sergej Faletič\, Aleš Mohorič\nProstor: Praktik
 um 104
LOCATION:Praktikum 104
ORGANIZER:Sergej Faletič, Aleš Mohorič
RELATED-TO:fmf-AFLABS-URNIK:srecanje:9136
X-WR-TIMEZONE:Europe/Ljubljana
END:VEVENT
BEGIN:VEVENT
SUMMARY:Projektno delo 2 (FIZ-2)\, Laboratorijske vaje (L)
DTSTART;TZID=Europe/Ljubljana:20231227T150000
DTEND;TZID=Europe/Ljubljana:20231227T180000
DTSTAMP:20260421T141150Z
UID:fmf-AFLABS-URNIK:premaknjeno-srecanje:87848
ATTENDEE:2. letnik (Fizika, 1. stopnja)
CATEGORIES:Entry,Standard
COLOR:darkgreen
DESCRIPTION:Predmet: Projektno delo 2 (FIZ-2)\, Laboratorijske vaje (L)\nL
 etniki: 2. letnik (Fizika\, 1. stopnja)\nIzvajalci: Sergej Faletič\nProst
 or: Hefajst
LOCATION:Hefajst
ORGANIZER:Sergej Faletič
RELATED-TO:fmf-AFLABS-URNIK:srecanje:9399
X-WR-TIMEZONE:Europe/Ljubljana
END:VEVENT
BEGIN:VEVENT
SUMMARY:Projektno delo 2 (FIZ-2)\, Laboratorijske vaje (L)
DTSTART;TZID=Europe/Ljubljana:20240103T150000
DTEND;TZID=Europe/Ljubljana:20240103T180000
DTSTAMP:20260421T141150Z
UID:fmf-AFLABS-URNIK:premaknjeno-srecanje:87849
ATTENDEE:2. letnik (Fizika, 1. stopnja)
CATEGORIES:Entry,Standard
COLOR:darkgreen
DESCRIPTION:Predmet: Projektno delo 2 (FIZ-2)\, Laboratorijske vaje (L)\nL
 etniki: 2. letnik (Fizika\, 1. stopnja)\nIzvajalci: Sergej Faletič\nProst
 or: Hefajst
LOCATION:Hefajst
ORGANIZER:Sergej Faletič
RELATED-TO:fmf-AFLABS-URNIK:srecanje:9399
X-WR-TIMEZONE:Europe/Ljubljana
END:VEVENT
BEGIN:VEVENT
SUMMARY:Projektno delo 2 (FIZ-2)\, Laboratorijske vaje (L)
DTSTART;TZID=Europe/Ljubljana:20240110T150000
DTEND;TZID=Europe/Ljubljana:20240110T180000
DTSTAMP:20260421T141150Z
UID:fmf-AFLABS-URNIK:premaknjeno-srecanje:87850
ATTENDEE:2. letnik (Fizika, 1. stopnja)
CATEGORIES:Entry,Standard
COLOR:darkgreen
DESCRIPTION:Predmet: Projektno delo 2 (FIZ-2)\, Laboratorijske vaje (L)\nL
 etniki: 2. letnik (Fizika\, 1. stopnja)\nIzvajalci: Sergej Faletič\nProst
 or: Hefajst
LOCATION:Hefajst
ORGANIZER:Sergej Faletič
RELATED-TO:fmf-AFLABS-URNIK:srecanje:9399
X-WR-TIMEZONE:Europe/Ljubljana
END:VEVENT
BEGIN:VEVENT
SUMMARY:Projektno delo 2 (FIZ-2)\, Laboratorijske vaje (L)
DTSTART;TZID=Europe/Ljubljana:20240117T150000
DTEND;TZID=Europe/Ljubljana:20240117T180000
DTSTAMP:20260421T141150Z
UID:fmf-AFLABS-URNIK:premaknjeno-srecanje:87851
ATTENDEE:2. letnik (Fizika, 1. stopnja)
CATEGORIES:Entry,Standard
COLOR:darkgreen
DESCRIPTION:Predmet: Projektno delo 2 (FIZ-2)\, Laboratorijske vaje (L)\nL
 etniki: 2. letnik (Fizika\, 1. stopnja)\nIzvajalci: Sergej Faletič\nProst
 or: Hefajst
LOCATION:Hefajst
ORGANIZER:Sergej Faletič
RELATED-TO:fmf-AFLABS-URNIK:srecanje:9399
X-WR-TIMEZONE:Europe/Ljubljana
END:VEVENT
BEGIN:VEVENT
SUMMARY:Metodični praktikum (PEF-1\, PEF-2)\, Vaje (V)
DTSTART;TZID=Europe/Ljubljana:20240219T090000
DTEND;TZID=Europe/Ljubljana:20240219T130000
DTSTAMP:20260421T141150Z
UID:fmf-AFLABS-URNIK:premaknjeno-srecanje:127559
ATTENDEE:1. letnik (Pedagoška fizika, 2. stopnja)
ATTENDEE:2. letnik (Pedagoška fizika, 2. stopnja)
CATEGORIES:Entry,Standard
COLOR:darkgreen
DESCRIPTION:Predmet: Metodični praktikum (PEF-1\, PEF-2)\, Vaje (V)\nLetn
 iki: 1. letnik (Pedagoška fizika\, 2. stopnja)\, 2. letnik (Pedagoška fi
 zika\, 2. stopnja)\nIzvajalci: Sergej Faletič\nProstor: S206
LOCATION:S206
ORGANIZER:Sergej Faletič
RELATED-TO:fmf-AFLABS-URNIK:srecanje:10071
X-WR-TIMEZONE:Europe/Ljubljana
END:VEVENT
BEGIN:VEVENT
SUMMARY:Metodični praktikum (PEF-1\, PEF-2)\, Vaje (V)
DTSTART;TZID=Europe/Ljubljana:20240226T090000
DTEND;TZID=Europe/Ljubljana:20240226T130000
DTSTAMP:20260421T141150Z
UID:fmf-AFLABS-URNIK:premaknjeno-srecanje:127560
ATTENDEE:1. letnik (Pedagoška fizika, 2. stopnja)
ATTENDEE:2. letnik (Pedagoška fizika, 2. stopnja)
CATEGORIES:Entry,Standard
COLOR:darkgreen
DESCRIPTION:Predmet: Metodični praktikum (PEF-1\, PEF-2)\, Vaje (V)\nLetn
 iki: 1. letnik (Pedagoška fizika\, 2. stopnja)\, 2. letnik (Pedagoška fi
 zika\, 2. stopnja)\nIzvajalci: Sergej Faletič\nProstor: S206
LOCATION:S206
ORGANIZER:Sergej Faletič
RELATED-TO:fmf-AFLABS-URNIK:srecanje:10071
X-WR-TIMEZONE:Europe/Ljubljana
END:VEVENT
BEGIN:VEVENT
SUMMARY:Metodični praktikum (PEF-1\, PEF-2)\, Vaje (V)
DTSTART;TZID=Europe/Ljubljana:20240304T090000
DTEND;TZID=Europe/Ljubljana:20240304T130000
DTSTAMP:20260421T141150Z
UID:fmf-AFLABS-URNIK:premaknjeno-srecanje:127561
ATTENDEE:1. letnik (Pedagoška fizika, 2. stopnja)
ATTENDEE:2. letnik (Pedagoška fizika, 2. stopnja)
CATEGORIES:Entry,Standard
COLOR:darkgreen
DESCRIPTION:Predmet: Metodični praktikum (PEF-1\, PEF-2)\, Vaje (V)\nLetn
 iki: 1. letnik (Pedagoška fizika\, 2. stopnja)\, 2. letnik (Pedagoška fi
 zika\, 2. stopnja)\nIzvajalci: Sergej Faletič\nProstor: S206
LOCATION:S206
ORGANIZER:Sergej Faletič
RELATED-TO:fmf-AFLABS-URNIK:srecanje:10071
X-WR-TIMEZONE:Europe/Ljubljana
END:VEVENT
BEGIN:VEVENT
SUMMARY:Projektno delo v znanosti (PEF-1\, PEF-2)\, Vaje (V)
DTSTART;TZID=Europe/Ljubljana:20240220T170000
DTEND;TZID=Europe/Ljubljana:20240220T190000
DTSTAMP:20260421T141150Z
UID:fmf-AFLABS-URNIK:premaknjeno-srecanje:128819
ATTENDEE:1. letnik (Pedagoška fizika, 2. stopnja)
ATTENDEE:2. letnik (Pedagoška fizika, 2. stopnja)
CATEGORIES:Entry,Standard
COLOR:darkgreen
DESCRIPTION:Predmet: Projektno delo v znanosti (PEF-1\, PEF-2)\, Vaje (V)\
 nLetniki: 1. letnik (Pedagoška fizika\, 2. stopnja)\, 2. letnik (Pedagoš
 ka fizika\, 2. stopnja)\nIzvajalci: Sergej Faletič\nProstor: S206
LOCATION:S206
ORGANIZER:Sergej Faletič
RELATED-TO:fmf-AFLABS-URNIK:srecanje:10155
X-WR-TIMEZONE:Europe/Ljubljana
END:VEVENT
BEGIN:VEVENT
SUMMARY:Projektno delo v znanosti (PEF-1\, PEF-2)\, Vaje (V)
DTSTART;TZID=Europe/Ljubljana:20240227T170000
DTEND;TZID=Europe/Ljubljana:20240227T190000
DTSTAMP:20260421T141150Z
UID:fmf-AFLABS-URNIK:premaknjeno-srecanje:128820
ATTENDEE:1. letnik (Pedagoška fizika, 2. stopnja)
ATTENDEE:2. letnik (Pedagoška fizika, 2. stopnja)
CATEGORIES:Entry,Standard
COLOR:darkgreen
DESCRIPTION:Predmet: Projektno delo v znanosti (PEF-1\, PEF-2)\, Vaje (V)\
 nLetniki: 1. letnik (Pedagoška fizika\, 2. stopnja)\, 2. letnik (Pedagoš
 ka fizika\, 2. stopnja)\nIzvajalci: Sergej Faletič\nProstor: S206
LOCATION:S206
ORGANIZER:Sergej Faletič
RELATED-TO:fmf-AFLABS-URNIK:srecanje:10155
X-WR-TIMEZONE:Europe/Ljubljana
END:VEVENT
BEGIN:VEVENT
SUMMARY:Kako stvari delujejo? (FIZ-1\, PEF-1\, PEF-2)\, Vaje (V)
DTSTART;TZID=Europe/Ljubljana:20240221T140000
DTEND;TZID=Europe/Ljubljana:20240221T170000
DTSTAMP:20260421T141150Z
UID:fmf-AFLABS-URNIK:premaknjeno-srecanje:137250
ATTENDEE:1. letnik (Fizika, 1. stopnja)
ATTENDEE:1. letnik (Pedagoška fizika, 2. stopnja)
ATTENDEE:2. letnik (Pedagoška fizika, 2. stopnja)
CATEGORIES:Entry,Standard
COLOR:darkgreen
DESCRIPTION:Predmet: Kako stvari delujejo? (FIZ-1\, PEF-1\, PEF-2)\, Vaje 
 (V)\nLetniki: 1. letnik (Fizika\, 1. stopnja)\, 1. letnik (Pedagoška fizi
 ka\, 2. stopnja)\, 2. letnik (Pedagoška fizika\, 2. stopnja)\nIzvajalci: 
 Rok Dolenec\, Sergej Faletič\, Nastja Mahne\nProstor: F5
LOCATION:F5
ORGANIZER:Rok Dolenec, Sergej Faletič, Nastja Mahne
RELATED-TO:fmf-AFLABS-URNIK:srecanje:10815
X-WR-TIMEZONE:Europe/Ljubljana
END:VEVENT
BEGIN:VEVENT
SUMMARY:Kako stvari delujejo? (FIZ-1\, PEF-1\, PEF-2)\, Vaje (V)
DTSTART;TZID=Europe/Ljubljana:20240228T140000
DTEND;TZID=Europe/Ljubljana:20240228T170000
DTSTAMP:20260421T141150Z
UID:fmf-AFLABS-URNIK:premaknjeno-srecanje:137251
ATTENDEE:1. letnik (Fizika, 1. stopnja)
ATTENDEE:1. letnik (Pedagoška fizika, 2. stopnja)
ATTENDEE:2. letnik (Pedagoška fizika, 2. stopnja)
CATEGORIES:Entry,Standard
COLOR:darkgreen
DESCRIPTION:Predmet: Kako stvari delujejo? (FIZ-1\, PEF-1\, PEF-2)\, Vaje 
 (V)\nLetniki: 1. letnik (Fizika\, 1. stopnja)\, 1. letnik (Pedagoška fizi
 ka\, 2. stopnja)\, 2. letnik (Pedagoška fizika\, 2. stopnja)\nIzvajalci: 
 Rok Dolenec\, Sergej Faletič\, Nastja Mahne\nProstor: F5
LOCATION:F5
ORGANIZER:Rok Dolenec, Sergej Faletič, Nastja Mahne
RELATED-TO:fmf-AFLABS-URNIK:srecanje:10815
X-WR-TIMEZONE:Europe/Ljubljana
END:VEVENT
BEGIN:VEVENT
SUMMARY:Kako stvari delujejo? (FIZ-1\, PEF-1\, PEF-2)\, Vaje (V)
DTSTART;TZID=Europe/Ljubljana:20240221T140000
DTEND;TZID=Europe/Ljubljana:20240221T170000
DTSTAMP:20260421T141150Z
UID:fmf-AFLABS-URNIK:premaknjeno-srecanje:137276
ATTENDEE:1. letnik (Fizika, 1. stopnja)
ATTENDEE:1. letnik (Pedagoška fizika, 2. stopnja)
ATTENDEE:2. letnik (Pedagoška fizika, 2. stopnja)
CATEGORIES:Entry,Standard
COLOR:darkgreen
DESCRIPTION:Predmet: Kako stvari delujejo? (FIZ-1\, PEF-1\, PEF-2)\, Vaje 
 (V)\nLetniki: 1. letnik (Fizika\, 1. stopnja)\, 1. letnik (Pedagoška fizi
 ka\, 2. stopnja)\, 2. letnik (Pedagoška fizika\, 2. stopnja)\nIzvajalci: 
 Rok Dolenec\, Sergej Faletič\, Nastja Mahne\nProstor: F1
LOCATION:F1
ORGANIZER:Rok Dolenec, Sergej Faletič, Nastja Mahne
RELATED-TO:fmf-AFLABS-URNIK:srecanje:10526
X-WR-TIMEZONE:Europe/Ljubljana
END:VEVENT
BEGIN:VEVENT
SUMMARY:Kako stvari delujejo? (FIZ-1\, PEF-1\, PEF-2)\, Vaje (V)
DTSTART;TZID=Europe/Ljubljana:20240228T140000
DTEND;TZID=Europe/Ljubljana:20240228T170000
DTSTAMP:20260421T141150Z
UID:fmf-AFLABS-URNIK:premaknjeno-srecanje:137277
ATTENDEE:1. letnik (Fizika, 1. stopnja)
ATTENDEE:1. letnik (Pedagoška fizika, 2. stopnja)
ATTENDEE:2. letnik (Pedagoška fizika, 2. stopnja)
CATEGORIES:Entry,Standard
COLOR:darkgreen
DESCRIPTION:Predmet: Kako stvari delujejo? (FIZ-1\, PEF-1\, PEF-2)\, Vaje 
 (V)\nLetniki: 1. letnik (Fizika\, 1. stopnja)\, 1. letnik (Pedagoška fizi
 ka\, 2. stopnja)\, 2. letnik (Pedagoška fizika\, 2. stopnja)\nIzvajalci: 
 Rok Dolenec\, Sergej Faletič\, Nastja Mahne\nProstor: F1
LOCATION:F1
ORGANIZER:Rok Dolenec, Sergej Faletič, Nastja Mahne
RELATED-TO:fmf-AFLABS-URNIK:srecanje:10526
X-WR-TIMEZONE:Europe/Ljubljana
END:VEVENT
BEGIN:VEVENT
SUMMARY:Projektno delo 1 (APF-1\, FIZ-1)\, Vaje (V)\, [2]
DTSTART;TZID=Europe/Ljubljana:20240222T130000
DTEND;TZID=Europe/Ljubljana:20240222T160000
DTSTAMP:20260421T141150Z
UID:fmf-AFLABS-URNIK:premaknjeno-srecanje:128789
ATTENDEE:1. letnik (Aplikativna fizika)
ATTENDEE:1. letnik (Fizika, 1. stopnja)
CATEGORIES:Entry,Standard
COLOR:darkgreen
DESCRIPTION:Predmet: Projektno delo 1 (APF-1\, FIZ-1)\, Vaje (V)\, [2]\nLe
 tniki: 1. letnik (Aplikativna fizika)\, 1. letnik (Fizika\, 1. stopnja)\nI
 zvajalci: Sergej Faletič\nProstor: Hefajst
LOCATION:Hefajst
ORGANIZER:Sergej Faletič
RELATED-TO:fmf-AFLABS-URNIK:srecanje:10330
X-WR-TIMEZONE:Europe/Ljubljana
END:VEVENT
BEGIN:VEVENT
SUMMARY:Projektno delo 1 (APF-1\, FIZ-1)\, Vaje (V)\, [2]
DTSTART;TZID=Europe/Ljubljana:20240229T130000
DTEND;TZID=Europe/Ljubljana:20240229T160000
DTSTAMP:20260421T141150Z
UID:fmf-AFLABS-URNIK:premaknjeno-srecanje:128790
ATTENDEE:1. letnik (Aplikativna fizika)
ATTENDEE:1. letnik (Fizika, 1. stopnja)
CATEGORIES:Entry,Standard
COLOR:darkgreen
DESCRIPTION:Predmet: Projektno delo 1 (APF-1\, FIZ-1)\, Vaje (V)\, [2]\nLe
 tniki: 1. letnik (Aplikativna fizika)\, 1. letnik (Fizika\, 1. stopnja)\nI
 zvajalci: Sergej Faletič\nProstor: Hefajst
LOCATION:Hefajst
ORGANIZER:Sergej Faletič
RELATED-TO:fmf-AFLABS-URNIK:srecanje:10330
X-WR-TIMEZONE:Europe/Ljubljana
END:VEVENT
BEGIN:VEVENT
SUMMARY:Fizikalni praktikum (FKKT) ()\, Vaje (V)\, [4]
DTSTART;TZID=Europe/Ljubljana:20240222T160000
DTEND;TZID=Europe/Ljubljana:20240222T190000
DTSTAMP:20260421T141150Z
UID:fmf-AFLABS-URNIK:premaknjeno-srecanje:134862
CATEGORIES:Entry,Standard
COLOR:darkgreen
DESCRIPTION:Predmet: Fizikalni praktikum (FKKT) ()\, Vaje (V)\, [4]\nLetni
 ki: \nIzvajalci: Sergej Faletič\nProstor: Praktikum 104
LOCATION:Praktikum 104
ORGANIZER:Sergej Faletič
RELATED-TO:fmf-AFLABS-URNIK:srecanje:9884
X-WR-TIMEZONE:Europe/Ljubljana
END:VEVENT
BEGIN:VEVENT
SUMMARY:Fizikalni praktikum (FKKT) ()\, Vaje (V)\, [4]
DTSTART;TZID=Europe/Ljubljana:20240229T160000
DTEND;TZID=Europe/Ljubljana:20240229T190000
DTSTAMP:20260421T141150Z
UID:fmf-AFLABS-URNIK:premaknjeno-srecanje:134863
CATEGORIES:Entry,Standard
COLOR:darkgreen
DESCRIPTION:Predmet: Fizikalni praktikum (FKKT) ()\, Vaje (V)\, [4]\nLetni
 ki: \nIzvajalci: Sergej Faletič\nProstor: Praktikum 104
LOCATION:Praktikum 104
ORGANIZER:Sergej Faletič
RELATED-TO:fmf-AFLABS-URNIK:srecanje:9884
X-WR-TIMEZONE:Europe/Ljubljana
END:VEVENT
BEGIN:VEVENT
SUMMARY:Didaktika fizike I (FIZ-3)\, Vaje (V)
DTSTART;TZID=Europe/Ljubljana:20240223T140000
DTEND;TZID=Europe/Ljubljana:20240223T160000
DTSTAMP:20260421T141150Z
UID:fmf-AFLABS-URNIK:premaknjeno-srecanje:123644
ATTENDEE:3. letnik (Fizika, 1. stopnja)
CATEGORIES:Entry,Standard
COLOR:darkgreen
DESCRIPTION:Predmet: Didaktika fizike I (FIZ-3)\, Vaje (V)\nLetniki: 3. le
 tnik (Fizika\, 1. stopnja)\nIzvajalci: Sergej Faletič\nProstor: S206
LOCATION:S206
ORGANIZER:Sergej Faletič
RELATED-TO:fmf-AFLABS-URNIK:srecanje:9810
X-WR-TIMEZONE:Europe/Ljubljana
END:VEVENT
BEGIN:VEVENT
SUMMARY:Didaktika fizike I (FIZ-3)\, Vaje (V)
DTSTART;TZID=Europe/Ljubljana:20240301T140000
DTEND;TZID=Europe/Ljubljana:20240301T160000
DTSTAMP:20260421T141150Z
UID:fmf-AFLABS-URNIK:premaknjeno-srecanje:123645
ATTENDEE:3. letnik (Fizika, 1. stopnja)
CATEGORIES:Entry,Standard
COLOR:darkgreen
DESCRIPTION:Predmet: Didaktika fizike I (FIZ-3)\, Vaje (V)\nLetniki: 3. le
 tnik (Fizika\, 1. stopnja)\nIzvajalci: Sergej Faletič\nProstor: S206
LOCATION:S206
ORGANIZER:Sergej Faletič
RELATED-TO:fmf-AFLABS-URNIK:srecanje:9810
X-WR-TIMEZONE:Europe/Ljubljana
END:VEVENT
END:VCALENDAR
