BEGIN:VCALENDAR
VERSION:2.0
PRODID:-//AFLabs urnik izvoz - fmf//aflabs.si//SI
DTSTAMP:20260422T030506Z
NAME:UL FMF urnik
REFRESH-INTERVAL:PT1H
SOURCE:https://urnik.fmf.uni-lj.si/teacher/162?day=2021-09-06&export=1
URL:https://urnik.fmf.uni-lj.si/teacher/162?day=2021-09-06&export=1
X-PUBLISHED-TTL:PT1H
X-WR-CALNAME:UL FMF urnik
X-WR-TIMEZONE:Europe/Ljubljana
BEGIN:VTIMEZONE
TZID:Europe/Ljubljana
BEGIN:DAYLIGHT
DTSTART:20260329T020000
RDATE:20260329T020000
RDATE:20270328T020000
TZNAME:CEST
TZOFFSETFROM:+0100
TZOFFSETTO:+0200
END:DAYLIGHT
BEGIN:STANDARD
DTSTART:20261025T030000
RDATE:20261025T030000
RDATE:20271031T030000
TZNAME:CET
TZOFFSETFROM:+0200
TZOFFSETTO:+0100
END:STANDARD
END:VTIMEZONE
BEGIN:VEVENT
SUMMARY:Fizika kondenzirane snovi (FIZ-M1)\, Predavanja (P)
DTSTART;TZID=Europe/Ljubljana:20211004T100000
DTEND;TZID=Europe/Ljubljana:20211004T130000
DTSTAMP:20260422T030506Z
UID:fmf-AFLABS-URNIK:premaknjeno-srecanje:31205
ATTENDEE:1. letnik (Fizika, 2. stopnja)
CATEGORIES:Entry,Standard
COLOR:darkgreen
DESCRIPTION:Predmet: Fizika kondenzirane snovi (FIZ-M1)\, Predavanja (P)\n
 Letniki: 1. letnik (Fizika\, 2. stopnja)\nIzvajalci: Tomaž Rejec\nProstor
 : P.01
LOCATION:P.01
ORGANIZER:Tomaž Rejec
RELATED-TO:fmf-AFLABS-URNIK:srecanje:6254
X-WR-TIMEZONE:Europe/Ljubljana
END:VEVENT
BEGIN:VEVENT
SUMMARY:Fizika kondenzirane snovi (FIZ-M1)\, Predavanja (P)
DTSTART;TZID=Europe/Ljubljana:20211011T100000
DTEND;TZID=Europe/Ljubljana:20211011T130000
DTSTAMP:20260422T030506Z
UID:fmf-AFLABS-URNIK:premaknjeno-srecanje:31206
ATTENDEE:1. letnik (Fizika, 2. stopnja)
CATEGORIES:Entry,Standard
COLOR:darkgreen
DESCRIPTION:Predmet: Fizika kondenzirane snovi (FIZ-M1)\, Predavanja (P)\n
 Letniki: 1. letnik (Fizika\, 2. stopnja)\nIzvajalci: Tomaž Rejec\nProstor
 : P.01
LOCATION:P.01
ORGANIZER:Tomaž Rejec
RELATED-TO:fmf-AFLABS-URNIK:srecanje:6254
X-WR-TIMEZONE:Europe/Ljubljana
END:VEVENT
BEGIN:VEVENT
SUMMARY:Kvantna mehanika (FIZ-3)\, Vaje (V)
DTSTART;TZID=Europe/Ljubljana:20211005T080000
DTEND;TZID=Europe/Ljubljana:20211005T100000
DTSTAMP:20260422T030506Z
UID:fmf-AFLABS-URNIK:premaknjeno-srecanje:55826
ATTENDEE:3. letnik (Fizika, 1. stopnja)
CATEGORIES:Entry,Standard
COLOR:darkgreen
DESCRIPTION:Predmet: Kvantna mehanika (FIZ-3)\, Vaje (V)\nLetniki: 3. letn
 ik (Fizika\, 1. stopnja)\nIzvajalci: Tomaž Rejec\nProstor: F2
LOCATION:F2
ORGANIZER:Tomaž Rejec
RELATED-TO:fmf-AFLABS-URNIK:srecanje:6362
X-WR-TIMEZONE:Europe/Ljubljana
END:VEVENT
BEGIN:VEVENT
SUMMARY:Fizika kondenzirane snovi (FIZ-M1)\, Vaje (V)
DTSTART;TZID=Europe/Ljubljana:20211006T080000
DTEND;TZID=Europe/Ljubljana:20211006T100000
DTSTAMP:20260422T030506Z
UID:fmf-AFLABS-URNIK:premaknjeno-srecanje:31380
ATTENDEE:1. letnik (Fizika, 2. stopnja)
CATEGORIES:Entry,Standard
COLOR:darkgreen
DESCRIPTION:Predmet: Fizika kondenzirane snovi (FIZ-M1)\, Vaje (V)\nLetnik
 i: 1. letnik (Fizika\, 2. stopnja)\nIzvajalci: Tomaž Rejec\nProstor: F6
LOCATION:F6
ORGANIZER:Tomaž Rejec
RELATED-TO:fmf-AFLABS-URNIK:srecanje:6255
X-WR-TIMEZONE:Europe/Ljubljana
END:VEVENT
BEGIN:VEVENT
SUMMARY:Rezervacija
DTSTART;TZID=Europe/Ljubljana:20210819T100000
DTEND;TZID=Europe/Ljubljana:20210819T120000
DTSTAMP:20260422T030506Z
UID:fmf-AFLABS-URNIK:rezervacija:7402
CATEGORIES:Reservation
COLOR:royalblue
DESCRIPTION:Predmeti: \nLetniki: \nIzvajalci: Tomaž Rejec\nProstori: F1
LOCATION:F1
ORGANIZER:Tomaž Rejec
X-WR-TIMEZONE:Europe/Ljubljana
END:VEVENT
BEGIN:VEVENT
SUMMARY:Rezervacija
DTSTART;TZID=Europe/Ljubljana:20210820T130000
DTEND;TZID=Europe/Ljubljana:20210820T150000
DTSTAMP:20260422T030506Z
UID:fmf-AFLABS-URNIK:rezervacija:7429
ATTENDEE:1. letnik (APM)
CATEGORIES:Reservation
COLOR:royalblue
DESCRIPTION:Predmeti: Uvod v fiziko (APM-1)\nLetniki: 1. letnik (APM)\nIzv
 ajalci: Tomaž Rejec\nProstori: F1
LOCATION:F1
ORGANIZER:Tomaž Rejec
X-WR-TIMEZONE:Europe/Ljubljana
END:VEVENT
BEGIN:VEVENT
SUMMARY:Rezervacija
DTSTART;TZID=Europe/Ljubljana:20210826T100000
DTEND;TZID=Europe/Ljubljana:20210826T150000
DTSTAMP:20260422T030506Z
UID:fmf-AFLABS-URNIK:rezervacija:7515
CATEGORIES:Reservation
COLOR:royalblue
DESCRIPTION:Predmeti: \nLetniki: \nIzvajalci: Tomaž Rejec\nProstori: F5
LOCATION:F5
ORGANIZER:Tomaž Rejec
X-WR-TIMEZONE:Europe/Ljubljana
END:VEVENT
BEGIN:VEVENT
SUMMARY:Rezervacija
DTSTART;TZID=Europe/Ljubljana:20210831T090000
DTEND;TZID=Europe/Ljubljana:20210831T160000
DTSTAMP:20260422T030506Z
UID:fmf-AFLABS-URNIK:rezervacija:7586
CATEGORIES:Reservation
COLOR:royalblue
DESCRIPTION:Predmeti: \nLetniki: \nIzvajalci: Tomaž Rejec\nProstori: F6
LOCATION:F6
ORGANIZER:Tomaž Rejec
X-WR-TIMEZONE:Europe/Ljubljana
END:VEVENT
BEGIN:VEVENT
SUMMARY:Rezervacija
DTSTART;TZID=Europe/Ljubljana:20210903T120000
DTEND;TZID=Europe/Ljubljana:20210903T140000
DTSTAMP:20260422T030506Z
UID:fmf-AFLABS-URNIK:rezervacija:7672
ATTENDEE:3. letnik (Fizika, 1. stopnja)
CATEGORIES:Reservation
COLOR:royalblue
DESCRIPTION:Predmeti: Kvantna mehanika (FIZ-3)\nLetniki: 3. letnik (Fizika
 \, 1. stopnja)\nIzvajalci: Tomaž Rejec\nProstori: F2
LOCATION:F2
ORGANIZER:Tomaž Rejec
X-WR-TIMEZONE:Europe/Ljubljana
END:VEVENT
BEGIN:VEVENT
SUMMARY:Rezervacija
DTSTART;TZID=Europe/Ljubljana:20210903T130000
DTEND;TZID=Europe/Ljubljana:20210903T150000
DTSTAMP:20260422T030506Z
UID:fmf-AFLABS-URNIK:rezervacija:7678
ATTENDEE:1. letnik (APM)
CATEGORIES:Reservation
COLOR:royalblue
DESCRIPTION:Predmeti: Uvod v fiziko (APM-1)\nLetniki: 1. letnik (APM)\nIzv
 ajalci: Tomaž Rejec\nProstori: 2.02
LOCATION:2.02
ORGANIZER:Tomaž Rejec
X-WR-TIMEZONE:Europe/Ljubljana
END:VEVENT
BEGIN:VEVENT
SUMMARY:Rezervacija
DTSTART;TZID=Europe/Ljubljana:20210909T090000
DTEND;TZID=Europe/Ljubljana:20210909T140000
DTSTAMP:20260422T030506Z
UID:fmf-AFLABS-URNIK:rezervacija:7779
CATEGORIES:Reservation
COLOR:royalblue
DESCRIPTION:Predmeti: \nLetniki: \nIzvajalci: Tomaž Rejec\nProstori: F5
LOCATION:F5
ORGANIZER:Tomaž Rejec
X-WR-TIMEZONE:Europe/Ljubljana
END:VEVENT
END:VCALENDAR
