BEGIN:VCALENDAR
VERSION:2.0
PRODID:-//AFLabs urnik izvoz - fmf//aflabs.si//SI
DTSTAMP:20260426T031718Z
NAME:UL FMF urnik
REFRESH-INTERVAL:PT1H
SOURCE:https://urnik.fmf.uni-lj.si/teacher/168?day=2018-01-08&export=1
URL:https://urnik.fmf.uni-lj.si/teacher/168?day=2018-01-08&export=1
X-PUBLISHED-TTL:PT1H
X-WR-CALNAME:UL FMF urnik
X-WR-TIMEZONE:Europe/Ljubljana
BEGIN:VTIMEZONE
TZID:Europe/Ljubljana
BEGIN:DAYLIGHT
DTSTART:20260329T020000
RDATE:20260329T020000
RDATE:20270328T020000
TZNAME:CEST
TZOFFSETFROM:+0100
TZOFFSETTO:+0200
END:DAYLIGHT
BEGIN:STANDARD
DTSTART:20261025T030000
RDATE:20261025T030000
RDATE:20271031T030000
TZNAME:CET
TZOFFSETFROM:+0200
TZOFFSETTO:+0100
END:STANDARD
END:VTIMEZONE
BEGIN:VEVENT
SUMMARY:Fizika II (APF-2)\, Vaje (V)
DTSTART;TZID=Europe/Ljubljana:20171004T100000
DTEND;TZID=Europe/Ljubljana:20171004T120000
DTSTAMP:20260426T031718Z
UID:fmf-AFLABS-URNIK:premaknjeno-srecanje:30117
ATTENDEE:2. letnik (Aplikativna fizika)
CATEGORIES:Entry,Standard
COLOR:darkgreen
DESCRIPTION:Predmet: Fizika II (APF-2)\, Vaje (V)\nLetniki: 2. letnik (Apl
 ikativna fizika)\nIzvajalci: Marion Antonia Van Midden Mavrič\nProstor: F
 3
LOCATION:F3
ORGANIZER:Marion Antonia Van Midden Mavrič
RELATED-TO:fmf-AFLABS-URNIK:srecanje:163
X-WR-TIMEZONE:Europe/Ljubljana
END:VEVENT
BEGIN:VEVENT
SUMMARY:Fizika II (APF-2)\, Vaje (V)
DTSTART;TZID=Europe/Ljubljana:20171011T100000
DTEND;TZID=Europe/Ljubljana:20171011T120000
DTSTAMP:20260426T031718Z
UID:fmf-AFLABS-URNIK:premaknjeno-srecanje:30118
ATTENDEE:2. letnik (Aplikativna fizika)
CATEGORIES:Entry,Standard
COLOR:darkgreen
DESCRIPTION:Predmet: Fizika II (APF-2)\, Vaje (V)\nLetniki: 2. letnik (Apl
 ikativna fizika)\nIzvajalci: Marion Antonia Van Midden Mavrič\nProstor: F
 3
LOCATION:F3
ORGANIZER:Marion Antonia Van Midden Mavrič
RELATED-TO:fmf-AFLABS-URNIK:srecanje:163
X-WR-TIMEZONE:Europe/Ljubljana
END:VEVENT
BEGIN:VEVENT
SUMMARY:Fizika II (APF-2)\, Vaje (V)
DTSTART;TZID=Europe/Ljubljana:20171018T100000
DTEND;TZID=Europe/Ljubljana:20171018T120000
DTSTAMP:20260426T031718Z
UID:fmf-AFLABS-URNIK:premaknjeno-srecanje:30119
ATTENDEE:2. letnik (Aplikativna fizika)
CATEGORIES:Entry,Standard
COLOR:darkgreen
DESCRIPTION:Predmet: Fizika II (APF-2)\, Vaje (V)\nLetniki: 2. letnik (Apl
 ikativna fizika)\nIzvajalci: Marion Antonia Van Midden Mavrič\nProstor: F
 3
LOCATION:F3
ORGANIZER:Marion Antonia Van Midden Mavrič
RELATED-TO:fmf-AFLABS-URNIK:srecanje:163
X-WR-TIMEZONE:Europe/Ljubljana
END:VEVENT
BEGIN:VEVENT
SUMMARY:Fizika II (APF-2)\, Vaje (V)
DTSTART;TZID=Europe/Ljubljana:20171025T100000
DTEND;TZID=Europe/Ljubljana:20171025T120000
DTSTAMP:20260426T031718Z
UID:fmf-AFLABS-URNIK:premaknjeno-srecanje:30120
ATTENDEE:2. letnik (Aplikativna fizika)
CATEGORIES:Entry,Standard
COLOR:darkgreen
DESCRIPTION:Predmet: Fizika II (APF-2)\, Vaje (V)\nLetniki: 2. letnik (Apl
 ikativna fizika)\nIzvajalci: Marion Antonia Van Midden Mavrič\nProstor: F
 3
LOCATION:F3
ORGANIZER:Marion Antonia Van Midden Mavrič
RELATED-TO:fmf-AFLABS-URNIK:srecanje:163
X-WR-TIMEZONE:Europe/Ljubljana
END:VEVENT
BEGIN:VEVENT
SUMMARY:Fizika II (APF-2)\, Vaje (V)
DTSTART;TZID=Europe/Ljubljana:20171101T100000
DTEND;TZID=Europe/Ljubljana:20171101T120000
DTSTAMP:20260426T031718Z
UID:fmf-AFLABS-URNIK:premaknjeno-srecanje:30121
ATTENDEE:2. letnik (Aplikativna fizika)
CATEGORIES:Entry,Standard
COLOR:darkgreen
DESCRIPTION:Predmet: Fizika II (APF-2)\, Vaje (V)\nLetniki: 2. letnik (Apl
 ikativna fizika)\nIzvajalci: Marion Antonia Van Midden Mavrič\nProstor: F
 3
LOCATION:F3
ORGANIZER:Marion Antonia Van Midden Mavrič
RELATED-TO:fmf-AFLABS-URNIK:srecanje:163
X-WR-TIMEZONE:Europe/Ljubljana
END:VEVENT
BEGIN:VEVENT
SUMMARY:Fizika II (APF-2)\, Vaje (V)
DTSTART;TZID=Europe/Ljubljana:20171108T100000
DTEND;TZID=Europe/Ljubljana:20171108T120000
DTSTAMP:20260426T031718Z
UID:fmf-AFLABS-URNIK:premaknjeno-srecanje:30122
ATTENDEE:2. letnik (Aplikativna fizika)
CATEGORIES:Entry,Standard
COLOR:darkgreen
DESCRIPTION:Predmet: Fizika II (APF-2)\, Vaje (V)\nLetniki: 2. letnik (Apl
 ikativna fizika)\nIzvajalci: Marion Antonia Van Midden Mavrič\nProstor: F
 3
LOCATION:F3
ORGANIZER:Marion Antonia Van Midden Mavrič
RELATED-TO:fmf-AFLABS-URNIK:srecanje:163
X-WR-TIMEZONE:Europe/Ljubljana
END:VEVENT
BEGIN:VEVENT
SUMMARY:Fizika II (APF-2)\, Vaje (V)
DTSTART;TZID=Europe/Ljubljana:20171115T100000
DTEND;TZID=Europe/Ljubljana:20171115T120000
DTSTAMP:20260426T031718Z
UID:fmf-AFLABS-URNIK:premaknjeno-srecanje:30123
ATTENDEE:2. letnik (Aplikativna fizika)
CATEGORIES:Entry,Standard
COLOR:darkgreen
DESCRIPTION:Predmet: Fizika II (APF-2)\, Vaje (V)\nLetniki: 2. letnik (Apl
 ikativna fizika)\nIzvajalci: Marion Antonia Van Midden Mavrič\nProstor: F
 3
LOCATION:F3
ORGANIZER:Marion Antonia Van Midden Mavrič
RELATED-TO:fmf-AFLABS-URNIK:srecanje:163
X-WR-TIMEZONE:Europe/Ljubljana
END:VEVENT
BEGIN:VEVENT
SUMMARY:Fizika II (APF-2)\, Vaje (V)
DTSTART;TZID=Europe/Ljubljana:20171122T100000
DTEND;TZID=Europe/Ljubljana:20171122T120000
DTSTAMP:20260426T031718Z
UID:fmf-AFLABS-URNIK:premaknjeno-srecanje:30124
ATTENDEE:2. letnik (Aplikativna fizika)
CATEGORIES:Entry,Standard
COLOR:darkgreen
DESCRIPTION:Predmet: Fizika II (APF-2)\, Vaje (V)\nLetniki: 2. letnik (Apl
 ikativna fizika)\nIzvajalci: Marion Antonia Van Midden Mavrič\nProstor: F
 3
LOCATION:F3
ORGANIZER:Marion Antonia Van Midden Mavrič
RELATED-TO:fmf-AFLABS-URNIK:srecanje:163
X-WR-TIMEZONE:Europe/Ljubljana
END:VEVENT
BEGIN:VEVENT
SUMMARY:Fizika II (APF-2)\, Vaje (V)
DTSTART;TZID=Europe/Ljubljana:20171129T100000
DTEND;TZID=Europe/Ljubljana:20171129T120000
DTSTAMP:20260426T031718Z
UID:fmf-AFLABS-URNIK:premaknjeno-srecanje:30125
ATTENDEE:2. letnik (Aplikativna fizika)
CATEGORIES:Entry,Standard
COLOR:darkgreen
DESCRIPTION:Predmet: Fizika II (APF-2)\, Vaje (V)\nLetniki: 2. letnik (Apl
 ikativna fizika)\nIzvajalci: Marion Antonia Van Midden Mavrič\nProstor: F
 3
LOCATION:F3
ORGANIZER:Marion Antonia Van Midden Mavrič
RELATED-TO:fmf-AFLABS-URNIK:srecanje:163
X-WR-TIMEZONE:Europe/Ljubljana
END:VEVENT
BEGIN:VEVENT
SUMMARY:Fizika II (APF-2)\, Vaje (V)
DTSTART;TZID=Europe/Ljubljana:20171206T100000
DTEND;TZID=Europe/Ljubljana:20171206T120000
DTSTAMP:20260426T031718Z
UID:fmf-AFLABS-URNIK:premaknjeno-srecanje:30126
ATTENDEE:2. letnik (Aplikativna fizika)
CATEGORIES:Entry,Standard
COLOR:darkgreen
DESCRIPTION:Predmet: Fizika II (APF-2)\, Vaje (V)\nLetniki: 2. letnik (Apl
 ikativna fizika)\nIzvajalci: Marion Antonia Van Midden Mavrič\nProstor: F
 3
LOCATION:F3
ORGANIZER:Marion Antonia Van Midden Mavrič
RELATED-TO:fmf-AFLABS-URNIK:srecanje:163
X-WR-TIMEZONE:Europe/Ljubljana
END:VEVENT
BEGIN:VEVENT
SUMMARY:Fizika II (APF-2)\, Vaje (V)
DTSTART;TZID=Europe/Ljubljana:20171213T100000
DTEND;TZID=Europe/Ljubljana:20171213T120000
DTSTAMP:20260426T031718Z
UID:fmf-AFLABS-URNIK:premaknjeno-srecanje:30127
ATTENDEE:2. letnik (Aplikativna fizika)
CATEGORIES:Entry,Standard
COLOR:darkgreen
DESCRIPTION:Predmet: Fizika II (APF-2)\, Vaje (V)\nLetniki: 2. letnik (Apl
 ikativna fizika)\nIzvajalci: Marion Antonia Van Midden Mavrič\nProstor: F
 3
LOCATION:F3
ORGANIZER:Marion Antonia Van Midden Mavrič
RELATED-TO:fmf-AFLABS-URNIK:srecanje:163
X-WR-TIMEZONE:Europe/Ljubljana
END:VEVENT
BEGIN:VEVENT
SUMMARY:Fizika II (APF-2)\, Vaje (V)
DTSTART;TZID=Europe/Ljubljana:20171220T100000
DTEND;TZID=Europe/Ljubljana:20171220T120000
DTSTAMP:20260426T031718Z
UID:fmf-AFLABS-URNIK:premaknjeno-srecanje:30128
ATTENDEE:2. letnik (Aplikativna fizika)
CATEGORIES:Entry,Standard
COLOR:darkgreen
DESCRIPTION:Predmet: Fizika II (APF-2)\, Vaje (V)\nLetniki: 2. letnik (Apl
 ikativna fizika)\nIzvajalci: Marion Antonia Van Midden Mavrič\nProstor: F
 3
LOCATION:F3
ORGANIZER:Marion Antonia Van Midden Mavrič
RELATED-TO:fmf-AFLABS-URNIK:srecanje:163
X-WR-TIMEZONE:Europe/Ljubljana
END:VEVENT
BEGIN:VEVENT
SUMMARY:Fizika II (APF-2)\, Vaje (V)
DTSTART;TZID=Europe/Ljubljana:20171227T100000
DTEND;TZID=Europe/Ljubljana:20171227T120000
DTSTAMP:20260426T031718Z
UID:fmf-AFLABS-URNIK:premaknjeno-srecanje:30129
ATTENDEE:2. letnik (Aplikativna fizika)
CATEGORIES:Entry,Standard
COLOR:darkgreen
DESCRIPTION:Predmet: Fizika II (APF-2)\, Vaje (V)\nLetniki: 2. letnik (Apl
 ikativna fizika)\nIzvajalci: Marion Antonia Van Midden Mavrič\nProstor: F
 3
LOCATION:F3
ORGANIZER:Marion Antonia Van Midden Mavrič
RELATED-TO:fmf-AFLABS-URNIK:srecanje:163
X-WR-TIMEZONE:Europe/Ljubljana
END:VEVENT
BEGIN:VEVENT
SUMMARY:Fizika II (APF-2)\, Vaje (V)
DTSTART;TZID=Europe/Ljubljana:20180103T100000
DTEND;TZID=Europe/Ljubljana:20180103T120000
DTSTAMP:20260426T031718Z
UID:fmf-AFLABS-URNIK:premaknjeno-srecanje:30130
ATTENDEE:2. letnik (Aplikativna fizika)
CATEGORIES:Entry,Standard
COLOR:darkgreen
DESCRIPTION:Predmet: Fizika II (APF-2)\, Vaje (V)\nLetniki: 2. letnik (Apl
 ikativna fizika)\nIzvajalci: Marion Antonia Van Midden Mavrič\nProstor: F
 3
LOCATION:F3
ORGANIZER:Marion Antonia Van Midden Mavrič
RELATED-TO:fmf-AFLABS-URNIK:srecanje:163
X-WR-TIMEZONE:Europe/Ljubljana
END:VEVENT
BEGIN:VEVENT
SUMMARY:Fizika II (APF-2)\, Vaje (V)
DTSTART;TZID=Europe/Ljubljana:20180110T100000
DTEND;TZID=Europe/Ljubljana:20180110T120000
DTSTAMP:20260426T031718Z
UID:fmf-AFLABS-URNIK:premaknjeno-srecanje:30131
ATTENDEE:2. letnik (Aplikativna fizika)
CATEGORIES:Entry,Standard
COLOR:darkgreen
DESCRIPTION:Predmet: Fizika II (APF-2)\, Vaje (V)\nLetniki: 2. letnik (Apl
 ikativna fizika)\nIzvajalci: Marion Antonia Van Midden Mavrič\nProstor: F
 3
LOCATION:F3
ORGANIZER:Marion Antonia Van Midden Mavrič
RELATED-TO:fmf-AFLABS-URNIK:srecanje:163
X-WR-TIMEZONE:Europe/Ljubljana
END:VEVENT
BEGIN:VEVENT
SUMMARY:Fizika II (APF-2)\, Vaje (V)
DTSTART;TZID=Europe/Ljubljana:20180117T100000
DTEND;TZID=Europe/Ljubljana:20180117T120000
DTSTAMP:20260426T031718Z
UID:fmf-AFLABS-URNIK:premaknjeno-srecanje:30132
ATTENDEE:2. letnik (Aplikativna fizika)
CATEGORIES:Entry,Standard
COLOR:darkgreen
DESCRIPTION:Predmet: Fizika II (APF-2)\, Vaje (V)\nLetniki: 2. letnik (Apl
 ikativna fizika)\nIzvajalci: Marion Antonia Van Midden Mavrič\nProstor: F
 3
LOCATION:F3
ORGANIZER:Marion Antonia Van Midden Mavrič
RELATED-TO:fmf-AFLABS-URNIK:srecanje:163
X-WR-TIMEZONE:Europe/Ljubljana
END:VEVENT
BEGIN:VEVENT
SUMMARY:Fizika II (APF-2)\, Vaje (V)
DTSTART;TZID=Europe/Ljubljana:20171005T150000
DTEND;TZID=Europe/Ljubljana:20171005T160000
DTSTAMP:20260426T031718Z
UID:fmf-AFLABS-URNIK:premaknjeno-srecanje:30334
ATTENDEE:2. letnik (Aplikativna fizika)
CATEGORIES:Entry,Standard
COLOR:darkgreen
DESCRIPTION:Predmet: Fizika II (APF-2)\, Vaje (V)\nLetniki: 2. letnik (Apl
 ikativna fizika)\nIzvajalci: Marion Antonia Van Midden Mavrič\nProstor: F
 5
LOCATION:F5
ORGANIZER:Marion Antonia Van Midden Mavrič
RELATED-TO:fmf-AFLABS-URNIK:srecanje:250
X-WR-TIMEZONE:Europe/Ljubljana
END:VEVENT
BEGIN:VEVENT
SUMMARY:Fizika II (APF-2)\, Vaje (V)
DTSTART;TZID=Europe/Ljubljana:20171012T150000
DTEND;TZID=Europe/Ljubljana:20171012T160000
DTSTAMP:20260426T031718Z
UID:fmf-AFLABS-URNIK:premaknjeno-srecanje:30335
ATTENDEE:2. letnik (Aplikativna fizika)
CATEGORIES:Entry,Standard
COLOR:darkgreen
DESCRIPTION:Predmet: Fizika II (APF-2)\, Vaje (V)\nLetniki: 2. letnik (Apl
 ikativna fizika)\nIzvajalci: Marion Antonia Van Midden Mavrič\nProstor: F
 5
LOCATION:F5
ORGANIZER:Marion Antonia Van Midden Mavrič
RELATED-TO:fmf-AFLABS-URNIK:srecanje:250
X-WR-TIMEZONE:Europe/Ljubljana
END:VEVENT
BEGIN:VEVENT
SUMMARY:Fizika II (APF-2)\, Vaje (V)
DTSTART;TZID=Europe/Ljubljana:20171019T150000
DTEND;TZID=Europe/Ljubljana:20171019T160000
DTSTAMP:20260426T031718Z
UID:fmf-AFLABS-URNIK:premaknjeno-srecanje:30336
ATTENDEE:2. letnik (Aplikativna fizika)
CATEGORIES:Entry,Standard
COLOR:darkgreen
DESCRIPTION:Predmet: Fizika II (APF-2)\, Vaje (V)\nLetniki: 2. letnik (Apl
 ikativna fizika)\nIzvajalci: Marion Antonia Van Midden Mavrič\nProstor: F
 5
LOCATION:F5
ORGANIZER:Marion Antonia Van Midden Mavrič
RELATED-TO:fmf-AFLABS-URNIK:srecanje:250
X-WR-TIMEZONE:Europe/Ljubljana
END:VEVENT
BEGIN:VEVENT
SUMMARY:Fizika II (APF-2)\, Vaje (V)
DTSTART;TZID=Europe/Ljubljana:20171026T150000
DTEND;TZID=Europe/Ljubljana:20171026T160000
DTSTAMP:20260426T031718Z
UID:fmf-AFLABS-URNIK:premaknjeno-srecanje:30337
ATTENDEE:2. letnik (Aplikativna fizika)
CATEGORIES:Entry,Standard
COLOR:darkgreen
DESCRIPTION:Predmet: Fizika II (APF-2)\, Vaje (V)\nLetniki: 2. letnik (Apl
 ikativna fizika)\nIzvajalci: Marion Antonia Van Midden Mavrič\nProstor: F
 5
LOCATION:F5
ORGANIZER:Marion Antonia Van Midden Mavrič
RELATED-TO:fmf-AFLABS-URNIK:srecanje:250
X-WR-TIMEZONE:Europe/Ljubljana
END:VEVENT
BEGIN:VEVENT
SUMMARY:Fizika II (APF-2)\, Vaje (V)
DTSTART;TZID=Europe/Ljubljana:20171102T150000
DTEND;TZID=Europe/Ljubljana:20171102T160000
DTSTAMP:20260426T031718Z
UID:fmf-AFLABS-URNIK:premaknjeno-srecanje:30338
ATTENDEE:2. letnik (Aplikativna fizika)
CATEGORIES:Entry,Standard
COLOR:darkgreen
DESCRIPTION:Predmet: Fizika II (APF-2)\, Vaje (V)\nLetniki: 2. letnik (Apl
 ikativna fizika)\nIzvajalci: Marion Antonia Van Midden Mavrič\nProstor: F
 5
LOCATION:F5
ORGANIZER:Marion Antonia Van Midden Mavrič
RELATED-TO:fmf-AFLABS-URNIK:srecanje:250
X-WR-TIMEZONE:Europe/Ljubljana
END:VEVENT
BEGIN:VEVENT
SUMMARY:Fizika II (APF-2)\, Vaje (V)
DTSTART;TZID=Europe/Ljubljana:20171109T150000
DTEND;TZID=Europe/Ljubljana:20171109T160000
DTSTAMP:20260426T031718Z
UID:fmf-AFLABS-URNIK:premaknjeno-srecanje:30339
ATTENDEE:2. letnik (Aplikativna fizika)
CATEGORIES:Entry,Standard
COLOR:darkgreen
DESCRIPTION:Predmet: Fizika II (APF-2)\, Vaje (V)\nLetniki: 2. letnik (Apl
 ikativna fizika)\nIzvajalci: Marion Antonia Van Midden Mavrič\nProstor: F
 5
LOCATION:F5
ORGANIZER:Marion Antonia Van Midden Mavrič
RELATED-TO:fmf-AFLABS-URNIK:srecanje:250
X-WR-TIMEZONE:Europe/Ljubljana
END:VEVENT
BEGIN:VEVENT
SUMMARY:Fizika II (APF-2)\, Vaje (V)
DTSTART;TZID=Europe/Ljubljana:20171116T150000
DTEND;TZID=Europe/Ljubljana:20171116T160000
DTSTAMP:20260426T031718Z
UID:fmf-AFLABS-URNIK:premaknjeno-srecanje:30340
ATTENDEE:2. letnik (Aplikativna fizika)
CATEGORIES:Entry,Standard
COLOR:darkgreen
DESCRIPTION:Predmet: Fizika II (APF-2)\, Vaje (V)\nLetniki: 2. letnik (Apl
 ikativna fizika)\nIzvajalci: Marion Antonia Van Midden Mavrič\nProstor: F
 5
LOCATION:F5
ORGANIZER:Marion Antonia Van Midden Mavrič
RELATED-TO:fmf-AFLABS-URNIK:srecanje:250
X-WR-TIMEZONE:Europe/Ljubljana
END:VEVENT
BEGIN:VEVENT
SUMMARY:Fizika II (APF-2)\, Vaje (V)
DTSTART;TZID=Europe/Ljubljana:20171123T150000
DTEND;TZID=Europe/Ljubljana:20171123T160000
DTSTAMP:20260426T031718Z
UID:fmf-AFLABS-URNIK:premaknjeno-srecanje:30341
ATTENDEE:2. letnik (Aplikativna fizika)
CATEGORIES:Entry,Standard
COLOR:darkgreen
DESCRIPTION:Predmet: Fizika II (APF-2)\, Vaje (V)\nLetniki: 2. letnik (Apl
 ikativna fizika)\nIzvajalci: Marion Antonia Van Midden Mavrič\nProstor: F
 5
LOCATION:F5
ORGANIZER:Marion Antonia Van Midden Mavrič
RELATED-TO:fmf-AFLABS-URNIK:srecanje:250
X-WR-TIMEZONE:Europe/Ljubljana
END:VEVENT
BEGIN:VEVENT
SUMMARY:Fizika II (APF-2)\, Vaje (V)
DTSTART;TZID=Europe/Ljubljana:20171130T150000
DTEND;TZID=Europe/Ljubljana:20171130T160000
DTSTAMP:20260426T031718Z
UID:fmf-AFLABS-URNIK:premaknjeno-srecanje:30342
ATTENDEE:2. letnik (Aplikativna fizika)
CATEGORIES:Entry,Standard
COLOR:darkgreen
DESCRIPTION:Predmet: Fizika II (APF-2)\, Vaje (V)\nLetniki: 2. letnik (Apl
 ikativna fizika)\nIzvajalci: Marion Antonia Van Midden Mavrič\nProstor: F
 5
LOCATION:F5
ORGANIZER:Marion Antonia Van Midden Mavrič
RELATED-TO:fmf-AFLABS-URNIK:srecanje:250
X-WR-TIMEZONE:Europe/Ljubljana
END:VEVENT
BEGIN:VEVENT
SUMMARY:Fizika II (APF-2)\, Vaje (V)
DTSTART;TZID=Europe/Ljubljana:20171207T150000
DTEND;TZID=Europe/Ljubljana:20171207T160000
DTSTAMP:20260426T031718Z
UID:fmf-AFLABS-URNIK:premaknjeno-srecanje:30343
ATTENDEE:2. letnik (Aplikativna fizika)
CATEGORIES:Entry,Standard
COLOR:darkgreen
DESCRIPTION:Predmet: Fizika II (APF-2)\, Vaje (V)\nLetniki: 2. letnik (Apl
 ikativna fizika)\nIzvajalci: Marion Antonia Van Midden Mavrič\nProstor: F
 5
LOCATION:F5
ORGANIZER:Marion Antonia Van Midden Mavrič
RELATED-TO:fmf-AFLABS-URNIK:srecanje:250
X-WR-TIMEZONE:Europe/Ljubljana
END:VEVENT
BEGIN:VEVENT
SUMMARY:Fizika II (APF-2)\, Vaje (V)
DTSTART;TZID=Europe/Ljubljana:20171214T150000
DTEND;TZID=Europe/Ljubljana:20171214T160000
DTSTAMP:20260426T031718Z
UID:fmf-AFLABS-URNIK:premaknjeno-srecanje:30344
ATTENDEE:2. letnik (Aplikativna fizika)
CATEGORIES:Entry,Standard
COLOR:darkgreen
DESCRIPTION:Predmet: Fizika II (APF-2)\, Vaje (V)\nLetniki: 2. letnik (Apl
 ikativna fizika)\nIzvajalci: Marion Antonia Van Midden Mavrič\nProstor: F
 5
LOCATION:F5
ORGANIZER:Marion Antonia Van Midden Mavrič
RELATED-TO:fmf-AFLABS-URNIK:srecanje:250
X-WR-TIMEZONE:Europe/Ljubljana
END:VEVENT
BEGIN:VEVENT
SUMMARY:Fizika II (APF-2)\, Vaje (V)
DTSTART;TZID=Europe/Ljubljana:20171221T150000
DTEND;TZID=Europe/Ljubljana:20171221T160000
DTSTAMP:20260426T031718Z
UID:fmf-AFLABS-URNIK:premaknjeno-srecanje:30345
ATTENDEE:2. letnik (Aplikativna fizika)
CATEGORIES:Entry,Standard
COLOR:darkgreen
DESCRIPTION:Predmet: Fizika II (APF-2)\, Vaje (V)\nLetniki: 2. letnik (Apl
 ikativna fizika)\nIzvajalci: Marion Antonia Van Midden Mavrič\nProstor: F
 5
LOCATION:F5
ORGANIZER:Marion Antonia Van Midden Mavrič
RELATED-TO:fmf-AFLABS-URNIK:srecanje:250
X-WR-TIMEZONE:Europe/Ljubljana
END:VEVENT
BEGIN:VEVENT
SUMMARY:Fizika II (APF-2)\, Vaje (V)
DTSTART;TZID=Europe/Ljubljana:20171228T150000
DTEND;TZID=Europe/Ljubljana:20171228T160000
DTSTAMP:20260426T031718Z
UID:fmf-AFLABS-URNIK:premaknjeno-srecanje:30346
ATTENDEE:2. letnik (Aplikativna fizika)
CATEGORIES:Entry,Standard
COLOR:darkgreen
DESCRIPTION:Predmet: Fizika II (APF-2)\, Vaje (V)\nLetniki: 2. letnik (Apl
 ikativna fizika)\nIzvajalci: Marion Antonia Van Midden Mavrič\nProstor: F
 5
LOCATION:F5
ORGANIZER:Marion Antonia Van Midden Mavrič
RELATED-TO:fmf-AFLABS-URNIK:srecanje:250
X-WR-TIMEZONE:Europe/Ljubljana
END:VEVENT
BEGIN:VEVENT
SUMMARY:Fizika II (APF-2)\, Vaje (V)
DTSTART;TZID=Europe/Ljubljana:20180104T150000
DTEND;TZID=Europe/Ljubljana:20180104T160000
DTSTAMP:20260426T031718Z
UID:fmf-AFLABS-URNIK:premaknjeno-srecanje:30347
ATTENDEE:2. letnik (Aplikativna fizika)
CATEGORIES:Entry,Standard
COLOR:darkgreen
DESCRIPTION:Predmet: Fizika II (APF-2)\, Vaje (V)\nLetniki: 2. letnik (Apl
 ikativna fizika)\nIzvajalci: Marion Antonia Van Midden Mavrič\nProstor: F
 5
LOCATION:F5
ORGANIZER:Marion Antonia Van Midden Mavrič
RELATED-TO:fmf-AFLABS-URNIK:srecanje:250
X-WR-TIMEZONE:Europe/Ljubljana
END:VEVENT
BEGIN:VEVENT
SUMMARY:Fizika II (APF-2)\, Vaje (V)
DTSTART;TZID=Europe/Ljubljana:20180111T150000
DTEND;TZID=Europe/Ljubljana:20180111T160000
DTSTAMP:20260426T031718Z
UID:fmf-AFLABS-URNIK:premaknjeno-srecanje:30348
ATTENDEE:2. letnik (Aplikativna fizika)
CATEGORIES:Entry,Standard
COLOR:darkgreen
DESCRIPTION:Predmet: Fizika II (APF-2)\, Vaje (V)\nLetniki: 2. letnik (Apl
 ikativna fizika)\nIzvajalci: Marion Antonia Van Midden Mavrič\nProstor: F
 5
LOCATION:F5
ORGANIZER:Marion Antonia Van Midden Mavrič
RELATED-TO:fmf-AFLABS-URNIK:srecanje:250
X-WR-TIMEZONE:Europe/Ljubljana
END:VEVENT
BEGIN:VEVENT
SUMMARY:Fizika II (APF-2)\, Vaje (V)
DTSTART;TZID=Europe/Ljubljana:20180118T150000
DTEND;TZID=Europe/Ljubljana:20180118T160000
DTSTAMP:20260426T031718Z
UID:fmf-AFLABS-URNIK:premaknjeno-srecanje:30349
ATTENDEE:2. letnik (Aplikativna fizika)
CATEGORIES:Entry,Standard
COLOR:darkgreen
DESCRIPTION:Predmet: Fizika II (APF-2)\, Vaje (V)\nLetniki: 2. letnik (Apl
 ikativna fizika)\nIzvajalci: Marion Antonia Van Midden Mavrič\nProstor: F
 5
LOCATION:F5
ORGANIZER:Marion Antonia Van Midden Mavrič
RELATED-TO:fmf-AFLABS-URNIK:srecanje:250
X-WR-TIMEZONE:Europe/Ljubljana
END:VEVENT
END:VCALENDAR
