BEGIN:VCALENDAR
VERSION:2.0
PRODID:-//AFLabs urnik izvoz - fmf//aflabs.si//SI
DTSTAMP:20260425T183655Z
NAME:UL FMF urnik
REFRESH-INTERVAL:PT1H
SOURCE:https://urnik.fmf.uni-lj.si/teacher/168?day=2018-02-12&export=1
URL:https://urnik.fmf.uni-lj.si/teacher/168?day=2018-02-12&export=1
X-PUBLISHED-TTL:PT1H
X-WR-CALNAME:UL FMF urnik
X-WR-TIMEZONE:Europe/Ljubljana
BEGIN:VTIMEZONE
TZID:Europe/Ljubljana
BEGIN:DAYLIGHT
DTSTART:20260329T020000
RDATE:20260329T020000
RDATE:20270328T020000
TZNAME:CEST
TZOFFSETFROM:+0100
TZOFFSETTO:+0200
END:DAYLIGHT
BEGIN:STANDARD
DTSTART:20261025T030000
RDATE:20261025T030000
RDATE:20271031T030000
TZNAME:CET
TZOFFSETFROM:+0200
TZOFFSETTO:+0100
END:STANDARD
END:VTIMEZONE
BEGIN:VEVENT
SUMMARY:Fizika II (APF-2)\, Vaje (V)
DTSTART;TZID=Europe/Ljubljana:20180110T100000
DTEND;TZID=Europe/Ljubljana:20180110T120000
DTSTAMP:20260425T183655Z
UID:fmf-AFLABS-URNIK:premaknjeno-srecanje:30131
ATTENDEE:2. letnik (Aplikativna fizika)
CATEGORIES:Entry,Standard
COLOR:darkgreen
DESCRIPTION:Predmet: Fizika II (APF-2)\, Vaje (V)\nLetniki: 2. letnik (Apl
 ikativna fizika)\nIzvajalci: Marion Antonia Van Midden Mavrič\nProstor: F
 3
LOCATION:F3
ORGANIZER:Marion Antonia Van Midden Mavrič
RELATED-TO:fmf-AFLABS-URNIK:srecanje:163
X-WR-TIMEZONE:Europe/Ljubljana
END:VEVENT
BEGIN:VEVENT
SUMMARY:Fizika II (APF-2)\, Vaje (V)
DTSTART;TZID=Europe/Ljubljana:20180117T100000
DTEND;TZID=Europe/Ljubljana:20180117T120000
DTSTAMP:20260425T183655Z
UID:fmf-AFLABS-URNIK:premaknjeno-srecanje:30132
ATTENDEE:2. letnik (Aplikativna fizika)
CATEGORIES:Entry,Standard
COLOR:darkgreen
DESCRIPTION:Predmet: Fizika II (APF-2)\, Vaje (V)\nLetniki: 2. letnik (Apl
 ikativna fizika)\nIzvajalci: Marion Antonia Van Midden Mavrič\nProstor: F
 3
LOCATION:F3
ORGANIZER:Marion Antonia Van Midden Mavrič
RELATED-TO:fmf-AFLABS-URNIK:srecanje:163
X-WR-TIMEZONE:Europe/Ljubljana
END:VEVENT
BEGIN:VEVENT
SUMMARY:Fizika II (APF-2)\, Vaje (V)
DTSTART;TZID=Europe/Ljubljana:20180111T150000
DTEND;TZID=Europe/Ljubljana:20180111T160000
DTSTAMP:20260425T183655Z
UID:fmf-AFLABS-URNIK:premaknjeno-srecanje:30348
ATTENDEE:2. letnik (Aplikativna fizika)
CATEGORIES:Entry,Standard
COLOR:darkgreen
DESCRIPTION:Predmet: Fizika II (APF-2)\, Vaje (V)\nLetniki: 2. letnik (Apl
 ikativna fizika)\nIzvajalci: Marion Antonia Van Midden Mavrič\nProstor: F
 5
LOCATION:F5
ORGANIZER:Marion Antonia Van Midden Mavrič
RELATED-TO:fmf-AFLABS-URNIK:srecanje:250
X-WR-TIMEZONE:Europe/Ljubljana
END:VEVENT
BEGIN:VEVENT
SUMMARY:Fizika II (APF-2)\, Vaje (V)
DTSTART;TZID=Europe/Ljubljana:20180118T150000
DTEND;TZID=Europe/Ljubljana:20180118T160000
DTSTAMP:20260425T183655Z
UID:fmf-AFLABS-URNIK:premaknjeno-srecanje:30349
ATTENDEE:2. letnik (Aplikativna fizika)
CATEGORIES:Entry,Standard
COLOR:darkgreen
DESCRIPTION:Predmet: Fizika II (APF-2)\, Vaje (V)\nLetniki: 2. letnik (Apl
 ikativna fizika)\nIzvajalci: Marion Antonia Van Midden Mavrič\nProstor: F
 5
LOCATION:F5
ORGANIZER:Marion Antonia Van Midden Mavrič
RELATED-TO:fmf-AFLABS-URNIK:srecanje:250
X-WR-TIMEZONE:Europe/Ljubljana
END:VEVENT
BEGIN:VEVENT
SUMMARY:Fizika II (APF-2)\, Vaje (V)
DTSTART;TZID=Europe/Ljubljana:20180221T110000
DTEND;TZID=Europe/Ljubljana:20180221T130000
DTSTAMP:20260425T183655Z
UID:fmf-AFLABS-URNIK:premaknjeno-srecanje:30194
ATTENDEE:2. letnik (Aplikativna fizika)
CATEGORIES:Entry,Standard
COLOR:darkgreen
DESCRIPTION:Predmet: Fizika II (APF-2)\, Vaje (V)\nLetniki: 2. letnik (Apl
 ikativna fizika)\nIzvajalci: Marion Antonia Van Midden Mavrič\nProstor: F
 3
LOCATION:F3
ORGANIZER:Marion Antonia Van Midden Mavrič
RELATED-TO:fmf-AFLABS-URNIK:srecanje:1403
X-WR-TIMEZONE:Europe/Ljubljana
END:VEVENT
BEGIN:VEVENT
SUMMARY:Fizika II (APF-2)\, Vaje (V)
DTSTART;TZID=Europe/Ljubljana:20180228T110000
DTEND;TZID=Europe/Ljubljana:20180228T130000
DTSTAMP:20260425T183655Z
UID:fmf-AFLABS-URNIK:premaknjeno-srecanje:30195
ATTENDEE:2. letnik (Aplikativna fizika)
CATEGORIES:Entry,Standard
COLOR:darkgreen
DESCRIPTION:Predmet: Fizika II (APF-2)\, Vaje (V)\nLetniki: 2. letnik (Apl
 ikativna fizika)\nIzvajalci: Marion Antonia Van Midden Mavrič\nProstor: F
 3
LOCATION:F3
ORGANIZER:Marion Antonia Van Midden Mavrič
RELATED-TO:fmf-AFLABS-URNIK:srecanje:1403
X-WR-TIMEZONE:Europe/Ljubljana
END:VEVENT
BEGIN:VEVENT
SUMMARY:Fizika II (APF-2)\, Vaje (V)
DTSTART;TZID=Europe/Ljubljana:20180307T110000
DTEND;TZID=Europe/Ljubljana:20180307T130000
DTSTAMP:20260425T183655Z
UID:fmf-AFLABS-URNIK:premaknjeno-srecanje:30196
ATTENDEE:2. letnik (Aplikativna fizika)
CATEGORIES:Entry,Standard
COLOR:darkgreen
DESCRIPTION:Predmet: Fizika II (APF-2)\, Vaje (V)\nLetniki: 2. letnik (Apl
 ikativna fizika)\nIzvajalci: Marion Antonia Van Midden Mavrič\nProstor: F
 3
LOCATION:F3
ORGANIZER:Marion Antonia Van Midden Mavrič
RELATED-TO:fmf-AFLABS-URNIK:srecanje:1403
X-WR-TIMEZONE:Europe/Ljubljana
END:VEVENT
BEGIN:VEVENT
SUMMARY:Fizika II (APF-2)\, Vaje (V)
DTSTART;TZID=Europe/Ljubljana:20180314T110000
DTEND;TZID=Europe/Ljubljana:20180314T130000
DTSTAMP:20260425T183655Z
UID:fmf-AFLABS-URNIK:premaknjeno-srecanje:30197
ATTENDEE:2. letnik (Aplikativna fizika)
CATEGORIES:Entry,Standard
COLOR:darkgreen
DESCRIPTION:Predmet: Fizika II (APF-2)\, Vaje (V)\nLetniki: 2. letnik (Apl
 ikativna fizika)\nIzvajalci: Marion Antonia Van Midden Mavrič\nProstor: F
 3
LOCATION:F3
ORGANIZER:Marion Antonia Van Midden Mavrič
RELATED-TO:fmf-AFLABS-URNIK:srecanje:1403
X-WR-TIMEZONE:Europe/Ljubljana
END:VEVENT
BEGIN:VEVENT
SUMMARY:Fizika II (APF-2)\, Vaje (V)
DTSTART;TZID=Europe/Ljubljana:20180222T130000
DTEND;TZID=Europe/Ljubljana:20180222T140000
DTSTAMP:20260425T183655Z
UID:fmf-AFLABS-URNIK:premaknjeno-srecanje:30303
ATTENDEE:2. letnik (Aplikativna fizika)
CATEGORIES:Entry,Standard
COLOR:darkgreen
DESCRIPTION:Predmet: Fizika II (APF-2)\, Vaje (V)\nLetniki: 2. letnik (Apl
 ikativna fizika)\nIzvajalci: Marion Antonia Van Midden Mavrič\nProstor: F
 6
LOCATION:F6
ORGANIZER:Marion Antonia Van Midden Mavrič
RELATED-TO:fmf-AFLABS-URNIK:srecanje:1473
X-WR-TIMEZONE:Europe/Ljubljana
END:VEVENT
BEGIN:VEVENT
SUMMARY:Fizika II (APF-2)\, Vaje (V)
DTSTART;TZID=Europe/Ljubljana:20180301T130000
DTEND;TZID=Europe/Ljubljana:20180301T140000
DTSTAMP:20260425T183655Z
UID:fmf-AFLABS-URNIK:premaknjeno-srecanje:30304
ATTENDEE:2. letnik (Aplikativna fizika)
CATEGORIES:Entry,Standard
COLOR:darkgreen
DESCRIPTION:Predmet: Fizika II (APF-2)\, Vaje (V)\nLetniki: 2. letnik (Apl
 ikativna fizika)\nIzvajalci: Marion Antonia Van Midden Mavrič\nProstor: F
 6
LOCATION:F6
ORGANIZER:Marion Antonia Van Midden Mavrič
RELATED-TO:fmf-AFLABS-URNIK:srecanje:1473
X-WR-TIMEZONE:Europe/Ljubljana
END:VEVENT
BEGIN:VEVENT
SUMMARY:Fizika II (APF-2)\, Vaje (V)
DTSTART;TZID=Europe/Ljubljana:20180308T130000
DTEND;TZID=Europe/Ljubljana:20180308T140000
DTSTAMP:20260425T183655Z
UID:fmf-AFLABS-URNIK:premaknjeno-srecanje:30305
ATTENDEE:2. letnik (Aplikativna fizika)
CATEGORIES:Entry,Standard
COLOR:darkgreen
DESCRIPTION:Predmet: Fizika II (APF-2)\, Vaje (V)\nLetniki: 2. letnik (Apl
 ikativna fizika)\nIzvajalci: Marion Antonia Van Midden Mavrič\nProstor: F
 6
LOCATION:F6
ORGANIZER:Marion Antonia Van Midden Mavrič
RELATED-TO:fmf-AFLABS-URNIK:srecanje:1473
X-WR-TIMEZONE:Europe/Ljubljana
END:VEVENT
BEGIN:VEVENT
SUMMARY:Fizika II (APF-2)\, Vaje (V)
DTSTART;TZID=Europe/Ljubljana:20180315T130000
DTEND;TZID=Europe/Ljubljana:20180315T140000
DTSTAMP:20260425T183655Z
UID:fmf-AFLABS-URNIK:premaknjeno-srecanje:30306
ATTENDEE:2. letnik (Aplikativna fizika)
CATEGORIES:Entry,Standard
COLOR:darkgreen
DESCRIPTION:Predmet: Fizika II (APF-2)\, Vaje (V)\nLetniki: 2. letnik (Apl
 ikativna fizika)\nIzvajalci: Marion Antonia Van Midden Mavrič\nProstor: F
 6
LOCATION:F6
ORGANIZER:Marion Antonia Van Midden Mavrič
RELATED-TO:fmf-AFLABS-URNIK:srecanje:1473
X-WR-TIMEZONE:Europe/Ljubljana
END:VEVENT
END:VCALENDAR
