BEGIN:VCALENDAR
VERSION:2.0
PRODID:-//AFLabs urnik izvoz - fmf//aflabs.si//SI
DTSTAMP:20260423T111903Z
NAME:UL FMF urnik
REFRESH-INTERVAL:PT1H
SOURCE:https://urnik.fmf.uni-lj.si/teacher/168?day=2019-01-21&export=1
URL:https://urnik.fmf.uni-lj.si/teacher/168?day=2019-01-21&export=1
X-PUBLISHED-TTL:PT1H
X-WR-CALNAME:UL FMF urnik
X-WR-TIMEZONE:Europe/Ljubljana
BEGIN:VTIMEZONE
TZID:Europe/Ljubljana
BEGIN:DAYLIGHT
DTSTART:20260329T020000
RDATE:20260329T020000
RDATE:20270328T020000
TZNAME:CEST
TZOFFSETFROM:+0100
TZOFFSETTO:+0200
END:DAYLIGHT
BEGIN:STANDARD
DTSTART:20261025T030000
RDATE:20261025T030000
RDATE:20271031T030000
TZNAME:CET
TZOFFSETFROM:+0200
TZOFFSETTO:+0100
END:STANDARD
END:VTIMEZONE
BEGIN:VEVENT
SUMMARY:Fizika I (APF-1)\, Vaje (V)
DTSTART;TZID=Europe/Ljubljana:20181001T140000
DTEND;TZID=Europe/Ljubljana:20181001T160000
DTSTAMP:20260423T111903Z
UID:fmf-AFLABS-URNIK:premaknjeno-srecanje:29152
ATTENDEE:1. letnik (Aplikativna fizika)
CATEGORIES:Entry,Standard
COLOR:darkgreen
DESCRIPTION:Predmet: Fizika I (APF-1)\, Vaje (V)\nLetniki: 1. letnik (Apli
 kativna fizika)\nIzvajalci: Marion Antonia Van Midden Mavrič\nProstor: F3
LOCATION:F3
ORGANIZER:Marion Antonia Van Midden Mavrič
RELATED-TO:fmf-AFLABS-URNIK:srecanje:1860
X-WR-TIMEZONE:Europe/Ljubljana
END:VEVENT
BEGIN:VEVENT
SUMMARY:Fizika I (APF-1)\, Vaje (V)
DTSTART;TZID=Europe/Ljubljana:20181008T140000
DTEND;TZID=Europe/Ljubljana:20181008T160000
DTSTAMP:20260423T111903Z
UID:fmf-AFLABS-URNIK:premaknjeno-srecanje:29153
ATTENDEE:1. letnik (Aplikativna fizika)
CATEGORIES:Entry,Standard
COLOR:darkgreen
DESCRIPTION:Predmet: Fizika I (APF-1)\, Vaje (V)\nLetniki: 1. letnik (Apli
 kativna fizika)\nIzvajalci: Marion Antonia Van Midden Mavrič\nProstor: F3
LOCATION:F3
ORGANIZER:Marion Antonia Van Midden Mavrič
RELATED-TO:fmf-AFLABS-URNIK:srecanje:1860
X-WR-TIMEZONE:Europe/Ljubljana
END:VEVENT
BEGIN:VEVENT
SUMMARY:Fizika I (APF-1)\, Vaje (V)
DTSTART;TZID=Europe/Ljubljana:20181015T140000
DTEND;TZID=Europe/Ljubljana:20181015T160000
DTSTAMP:20260423T111903Z
UID:fmf-AFLABS-URNIK:premaknjeno-srecanje:29154
ATTENDEE:1. letnik (Aplikativna fizika)
CATEGORIES:Entry,Standard
COLOR:darkgreen
DESCRIPTION:Predmet: Fizika I (APF-1)\, Vaje (V)\nLetniki: 1. letnik (Apli
 kativna fizika)\nIzvajalci: Marion Antonia Van Midden Mavrič\nProstor: F3
LOCATION:F3
ORGANIZER:Marion Antonia Van Midden Mavrič
RELATED-TO:fmf-AFLABS-URNIK:srecanje:1860
X-WR-TIMEZONE:Europe/Ljubljana
END:VEVENT
BEGIN:VEVENT
SUMMARY:Fizika I (APF-1)\, Vaje (V)
DTSTART;TZID=Europe/Ljubljana:20181022T140000
DTEND;TZID=Europe/Ljubljana:20181022T160000
DTSTAMP:20260423T111903Z
UID:fmf-AFLABS-URNIK:premaknjeno-srecanje:29155
ATTENDEE:1. letnik (Aplikativna fizika)
CATEGORIES:Entry,Standard
COLOR:darkgreen
DESCRIPTION:Predmet: Fizika I (APF-1)\, Vaje (V)\nLetniki: 1. letnik (Apli
 kativna fizika)\nIzvajalci: Marion Antonia Van Midden Mavrič\nProstor: F3
LOCATION:F3
ORGANIZER:Marion Antonia Van Midden Mavrič
RELATED-TO:fmf-AFLABS-URNIK:srecanje:1860
X-WR-TIMEZONE:Europe/Ljubljana
END:VEVENT
BEGIN:VEVENT
SUMMARY:Fizika I (APF-1)\, Vaje (V)
DTSTART;TZID=Europe/Ljubljana:20181029T140000
DTEND;TZID=Europe/Ljubljana:20181029T160000
DTSTAMP:20260423T111903Z
UID:fmf-AFLABS-URNIK:premaknjeno-srecanje:29156
ATTENDEE:1. letnik (Aplikativna fizika)
CATEGORIES:Entry,Standard
COLOR:darkgreen
DESCRIPTION:Predmet: Fizika I (APF-1)\, Vaje (V)\nLetniki: 1. letnik (Apli
 kativna fizika)\nIzvajalci: Marion Antonia Van Midden Mavrič\nProstor: F3
LOCATION:F3
ORGANIZER:Marion Antonia Van Midden Mavrič
RELATED-TO:fmf-AFLABS-URNIK:srecanje:1860
X-WR-TIMEZONE:Europe/Ljubljana
END:VEVENT
BEGIN:VEVENT
SUMMARY:Fizika I (APF-1)\, Vaje (V)
DTSTART;TZID=Europe/Ljubljana:20181105T140000
DTEND;TZID=Europe/Ljubljana:20181105T160000
DTSTAMP:20260423T111903Z
UID:fmf-AFLABS-URNIK:premaknjeno-srecanje:29157
ATTENDEE:1. letnik (Aplikativna fizika)
CATEGORIES:Entry,Standard
COLOR:darkgreen
DESCRIPTION:Predmet: Fizika I (APF-1)\, Vaje (V)\nLetniki: 1. letnik (Apli
 kativna fizika)\nIzvajalci: Marion Antonia Van Midden Mavrič\nProstor: F3
LOCATION:F3
ORGANIZER:Marion Antonia Van Midden Mavrič
RELATED-TO:fmf-AFLABS-URNIK:srecanje:1860
X-WR-TIMEZONE:Europe/Ljubljana
END:VEVENT
BEGIN:VEVENT
SUMMARY:Fizika I (APF-1)\, Vaje (V)
DTSTART;TZID=Europe/Ljubljana:20181112T140000
DTEND;TZID=Europe/Ljubljana:20181112T160000
DTSTAMP:20260423T111903Z
UID:fmf-AFLABS-URNIK:premaknjeno-srecanje:29158
ATTENDEE:1. letnik (Aplikativna fizika)
CATEGORIES:Entry,Standard
COLOR:darkgreen
DESCRIPTION:Predmet: Fizika I (APF-1)\, Vaje (V)\nLetniki: 1. letnik (Apli
 kativna fizika)\nIzvajalci: Marion Antonia Van Midden Mavrič\nProstor: F3
LOCATION:F3
ORGANIZER:Marion Antonia Van Midden Mavrič
RELATED-TO:fmf-AFLABS-URNIK:srecanje:1860
X-WR-TIMEZONE:Europe/Ljubljana
END:VEVENT
BEGIN:VEVENT
SUMMARY:Fizika I (APF-1)\, Vaje (V)
DTSTART;TZID=Europe/Ljubljana:20181119T140000
DTEND;TZID=Europe/Ljubljana:20181119T160000
DTSTAMP:20260423T111903Z
UID:fmf-AFLABS-URNIK:premaknjeno-srecanje:29159
ATTENDEE:1. letnik (Aplikativna fizika)
CATEGORIES:Entry,Standard
COLOR:darkgreen
DESCRIPTION:Predmet: Fizika I (APF-1)\, Vaje (V)\nLetniki: 1. letnik (Apli
 kativna fizika)\nIzvajalci: Marion Antonia Van Midden Mavrič\nProstor: F3
LOCATION:F3
ORGANIZER:Marion Antonia Van Midden Mavrič
RELATED-TO:fmf-AFLABS-URNIK:srecanje:1860
X-WR-TIMEZONE:Europe/Ljubljana
END:VEVENT
BEGIN:VEVENT
SUMMARY:Fizika I (APF-1)\, Vaje (V)
DTSTART;TZID=Europe/Ljubljana:20181126T140000
DTEND;TZID=Europe/Ljubljana:20181126T160000
DTSTAMP:20260423T111903Z
UID:fmf-AFLABS-URNIK:premaknjeno-srecanje:29160
ATTENDEE:1. letnik (Aplikativna fizika)
CATEGORIES:Entry,Standard
COLOR:darkgreen
DESCRIPTION:Predmet: Fizika I (APF-1)\, Vaje (V)\nLetniki: 1. letnik (Apli
 kativna fizika)\nIzvajalci: Marion Antonia Van Midden Mavrič\nProstor: F3
LOCATION:F3
ORGANIZER:Marion Antonia Van Midden Mavrič
RELATED-TO:fmf-AFLABS-URNIK:srecanje:1860
X-WR-TIMEZONE:Europe/Ljubljana
END:VEVENT
BEGIN:VEVENT
SUMMARY:Fizika I (APF-1)\, Vaje (V)
DTSTART;TZID=Europe/Ljubljana:20181203T140000
DTEND;TZID=Europe/Ljubljana:20181203T160000
DTSTAMP:20260423T111903Z
UID:fmf-AFLABS-URNIK:premaknjeno-srecanje:29161
ATTENDEE:1. letnik (Aplikativna fizika)
CATEGORIES:Entry,Standard
COLOR:darkgreen
DESCRIPTION:Predmet: Fizika I (APF-1)\, Vaje (V)\nLetniki: 1. letnik (Apli
 kativna fizika)\nIzvajalci: Marion Antonia Van Midden Mavrič\nProstor: F3
LOCATION:F3
ORGANIZER:Marion Antonia Van Midden Mavrič
RELATED-TO:fmf-AFLABS-URNIK:srecanje:1860
X-WR-TIMEZONE:Europe/Ljubljana
END:VEVENT
BEGIN:VEVENT
SUMMARY:Fizika I (APF-1)\, Vaje (V)
DTSTART;TZID=Europe/Ljubljana:20181210T140000
DTEND;TZID=Europe/Ljubljana:20181210T160000
DTSTAMP:20260423T111903Z
UID:fmf-AFLABS-URNIK:premaknjeno-srecanje:29162
ATTENDEE:1. letnik (Aplikativna fizika)
CATEGORIES:Entry,Standard
COLOR:darkgreen
DESCRIPTION:Predmet: Fizika I (APF-1)\, Vaje (V)\nLetniki: 1. letnik (Apli
 kativna fizika)\nIzvajalci: Marion Antonia Van Midden Mavrič\nProstor: F3
LOCATION:F3
ORGANIZER:Marion Antonia Van Midden Mavrič
RELATED-TO:fmf-AFLABS-URNIK:srecanje:1860
X-WR-TIMEZONE:Europe/Ljubljana
END:VEVENT
BEGIN:VEVENT
SUMMARY:Fizika I (APF-1)\, Vaje (V)
DTSTART;TZID=Europe/Ljubljana:20181217T140000
DTEND;TZID=Europe/Ljubljana:20181217T160000
DTSTAMP:20260423T111903Z
UID:fmf-AFLABS-URNIK:premaknjeno-srecanje:29163
ATTENDEE:1. letnik (Aplikativna fizika)
CATEGORIES:Entry,Standard
COLOR:darkgreen
DESCRIPTION:Predmet: Fizika I (APF-1)\, Vaje (V)\nLetniki: 1. letnik (Apli
 kativna fizika)\nIzvajalci: Marion Antonia Van Midden Mavrič\nProstor: F3
LOCATION:F3
ORGANIZER:Marion Antonia Van Midden Mavrič
RELATED-TO:fmf-AFLABS-URNIK:srecanje:1860
X-WR-TIMEZONE:Europe/Ljubljana
END:VEVENT
BEGIN:VEVENT
SUMMARY:Fizika I (APF-1)\, Vaje (V)
DTSTART;TZID=Europe/Ljubljana:20181224T140000
DTEND;TZID=Europe/Ljubljana:20181224T160000
DTSTAMP:20260423T111903Z
UID:fmf-AFLABS-URNIK:premaknjeno-srecanje:29164
ATTENDEE:1. letnik (Aplikativna fizika)
CATEGORIES:Entry,Standard
COLOR:darkgreen
DESCRIPTION:Predmet: Fizika I (APF-1)\, Vaje (V)\nLetniki: 1. letnik (Apli
 kativna fizika)\nIzvajalci: Marion Antonia Van Midden Mavrič\nProstor: F3
LOCATION:F3
ORGANIZER:Marion Antonia Van Midden Mavrič
RELATED-TO:fmf-AFLABS-URNIK:srecanje:1860
X-WR-TIMEZONE:Europe/Ljubljana
END:VEVENT
BEGIN:VEVENT
SUMMARY:Fizika I (APF-1)\, Vaje (V)
DTSTART;TZID=Europe/Ljubljana:20181231T140000
DTEND;TZID=Europe/Ljubljana:20181231T160000
DTSTAMP:20260423T111903Z
UID:fmf-AFLABS-URNIK:premaknjeno-srecanje:29165
ATTENDEE:1. letnik (Aplikativna fizika)
CATEGORIES:Entry,Standard
COLOR:darkgreen
DESCRIPTION:Predmet: Fizika I (APF-1)\, Vaje (V)\nLetniki: 1. letnik (Apli
 kativna fizika)\nIzvajalci: Marion Antonia Van Midden Mavrič\nProstor: F3
LOCATION:F3
ORGANIZER:Marion Antonia Van Midden Mavrič
RELATED-TO:fmf-AFLABS-URNIK:srecanje:1860
X-WR-TIMEZONE:Europe/Ljubljana
END:VEVENT
BEGIN:VEVENT
SUMMARY:Fizika I (APF-1)\, Vaje (V)
DTSTART;TZID=Europe/Ljubljana:20190107T140000
DTEND;TZID=Europe/Ljubljana:20190107T160000
DTSTAMP:20260423T111903Z
UID:fmf-AFLABS-URNIK:premaknjeno-srecanje:29166
ATTENDEE:1. letnik (Aplikativna fizika)
CATEGORIES:Entry,Standard
COLOR:darkgreen
DESCRIPTION:Predmet: Fizika I (APF-1)\, Vaje (V)\nLetniki: 1. letnik (Apli
 kativna fizika)\nIzvajalci: Marion Antonia Van Midden Mavrič\nProstor: F3
LOCATION:F3
ORGANIZER:Marion Antonia Van Midden Mavrič
RELATED-TO:fmf-AFLABS-URNIK:srecanje:1860
X-WR-TIMEZONE:Europe/Ljubljana
END:VEVENT
BEGIN:VEVENT
SUMMARY:Fizika I (APF-1)\, Vaje (V)
DTSTART;TZID=Europe/Ljubljana:20190114T140000
DTEND;TZID=Europe/Ljubljana:20190114T160000
DTSTAMP:20260423T111903Z
UID:fmf-AFLABS-URNIK:premaknjeno-srecanje:29167
ATTENDEE:1. letnik (Aplikativna fizika)
CATEGORIES:Entry,Standard
COLOR:darkgreen
DESCRIPTION:Predmet: Fizika I (APF-1)\, Vaje (V)\nLetniki: 1. letnik (Apli
 kativna fizika)\nIzvajalci: Marion Antonia Van Midden Mavrič\nProstor: F3
LOCATION:F3
ORGANIZER:Marion Antonia Van Midden Mavrič
RELATED-TO:fmf-AFLABS-URNIK:srecanje:1860
X-WR-TIMEZONE:Europe/Ljubljana
END:VEVENT
BEGIN:VEVENT
SUMMARY:Fizika I (APF-1)\, Vaje (V)
DTSTART;TZID=Europe/Ljubljana:20190121T140000
DTEND;TZID=Europe/Ljubljana:20190121T160000
DTSTAMP:20260423T111903Z
UID:fmf-AFLABS-URNIK:premaknjeno-srecanje:29168
ATTENDEE:1. letnik (Aplikativna fizika)
CATEGORIES:Entry,Standard
COLOR:darkgreen
DESCRIPTION:Predmet: Fizika I (APF-1)\, Vaje (V)\nLetniki: 1. letnik (Apli
 kativna fizika)\nIzvajalci: Marion Antonia Van Midden Mavrič\nProstor: F3
LOCATION:F3
ORGANIZER:Marion Antonia Van Midden Mavrič
RELATED-TO:fmf-AFLABS-URNIK:srecanje:1860
X-WR-TIMEZONE:Europe/Ljubljana
END:VEVENT
BEGIN:VEVENT
SUMMARY:Fizika I (APF-1)\, Vaje (V)
DTSTART;TZID=Europe/Ljubljana:20181005T080000
DTEND;TZID=Europe/Ljubljana:20181005T090000
DTSTAMP:20260423T111903Z
UID:fmf-AFLABS-URNIK:premaknjeno-srecanje:29388
ATTENDEE:1. letnik (Aplikativna fizika)
CATEGORIES:Entry,Standard
COLOR:darkgreen
DESCRIPTION:Predmet: Fizika I (APF-1)\, Vaje (V)\nLetniki: 1. letnik (Apli
 kativna fizika)\nIzvajalci: Marion Antonia Van Midden Mavrič\nProstor: F3
LOCATION:F3
ORGANIZER:Marion Antonia Van Midden Mavrič
RELATED-TO:fmf-AFLABS-URNIK:srecanje:2449
X-WR-TIMEZONE:Europe/Ljubljana
END:VEVENT
BEGIN:VEVENT
SUMMARY:Fizika I (APF-1)\, Vaje (V)
DTSTART;TZID=Europe/Ljubljana:20181012T080000
DTEND;TZID=Europe/Ljubljana:20181012T090000
DTSTAMP:20260423T111903Z
UID:fmf-AFLABS-URNIK:premaknjeno-srecanje:29389
ATTENDEE:1. letnik (Aplikativna fizika)
CATEGORIES:Entry,Standard
COLOR:darkgreen
DESCRIPTION:Predmet: Fizika I (APF-1)\, Vaje (V)\nLetniki: 1. letnik (Apli
 kativna fizika)\nIzvajalci: Marion Antonia Van Midden Mavrič\nProstor: F3
LOCATION:F3
ORGANIZER:Marion Antonia Van Midden Mavrič
RELATED-TO:fmf-AFLABS-URNIK:srecanje:2449
X-WR-TIMEZONE:Europe/Ljubljana
END:VEVENT
BEGIN:VEVENT
SUMMARY:Fizika I (APF-1)\, Vaje (V)
DTSTART;TZID=Europe/Ljubljana:20181019T080000
DTEND;TZID=Europe/Ljubljana:20181019T090000
DTSTAMP:20260423T111903Z
UID:fmf-AFLABS-URNIK:premaknjeno-srecanje:29390
ATTENDEE:1. letnik (Aplikativna fizika)
CATEGORIES:Entry,Standard
COLOR:darkgreen
DESCRIPTION:Predmet: Fizika I (APF-1)\, Vaje (V)\nLetniki: 1. letnik (Apli
 kativna fizika)\nIzvajalci: Marion Antonia Van Midden Mavrič\nProstor: F3
LOCATION:F3
ORGANIZER:Marion Antonia Van Midden Mavrič
RELATED-TO:fmf-AFLABS-URNIK:srecanje:2449
X-WR-TIMEZONE:Europe/Ljubljana
END:VEVENT
BEGIN:VEVENT
SUMMARY:Fizika I (APF-1)\, Vaje (V)
DTSTART;TZID=Europe/Ljubljana:20181026T080000
DTEND;TZID=Europe/Ljubljana:20181026T090000
DTSTAMP:20260423T111903Z
UID:fmf-AFLABS-URNIK:premaknjeno-srecanje:29391
ATTENDEE:1. letnik (Aplikativna fizika)
CATEGORIES:Entry,Standard
COLOR:darkgreen
DESCRIPTION:Predmet: Fizika I (APF-1)\, Vaje (V)\nLetniki: 1. letnik (Apli
 kativna fizika)\nIzvajalci: Marion Antonia Van Midden Mavrič\nProstor: F3
LOCATION:F3
ORGANIZER:Marion Antonia Van Midden Mavrič
RELATED-TO:fmf-AFLABS-URNIK:srecanje:2449
X-WR-TIMEZONE:Europe/Ljubljana
END:VEVENT
BEGIN:VEVENT
SUMMARY:Fizika I (APF-1)\, Vaje (V)
DTSTART;TZID=Europe/Ljubljana:20181102T080000
DTEND;TZID=Europe/Ljubljana:20181102T090000
DTSTAMP:20260423T111903Z
UID:fmf-AFLABS-URNIK:premaknjeno-srecanje:29392
ATTENDEE:1. letnik (Aplikativna fizika)
CATEGORIES:Entry,Standard
COLOR:darkgreen
DESCRIPTION:Predmet: Fizika I (APF-1)\, Vaje (V)\nLetniki: 1. letnik (Apli
 kativna fizika)\nIzvajalci: Marion Antonia Van Midden Mavrič\nProstor: F3
LOCATION:F3
ORGANIZER:Marion Antonia Van Midden Mavrič
RELATED-TO:fmf-AFLABS-URNIK:srecanje:2449
X-WR-TIMEZONE:Europe/Ljubljana
END:VEVENT
BEGIN:VEVENT
SUMMARY:Fizika I (APF-1)\, Vaje (V)
DTSTART;TZID=Europe/Ljubljana:20181109T080000
DTEND;TZID=Europe/Ljubljana:20181109T090000
DTSTAMP:20260423T111903Z
UID:fmf-AFLABS-URNIK:premaknjeno-srecanje:29393
ATTENDEE:1. letnik (Aplikativna fizika)
CATEGORIES:Entry,Standard
COLOR:darkgreen
DESCRIPTION:Predmet: Fizika I (APF-1)\, Vaje (V)\nLetniki: 1. letnik (Apli
 kativna fizika)\nIzvajalci: Marion Antonia Van Midden Mavrič\nProstor: F3
LOCATION:F3
ORGANIZER:Marion Antonia Van Midden Mavrič
RELATED-TO:fmf-AFLABS-URNIK:srecanje:2449
X-WR-TIMEZONE:Europe/Ljubljana
END:VEVENT
BEGIN:VEVENT
SUMMARY:Fizika I (APF-1)\, Vaje (V)
DTSTART;TZID=Europe/Ljubljana:20181116T080000
DTEND;TZID=Europe/Ljubljana:20181116T090000
DTSTAMP:20260423T111903Z
UID:fmf-AFLABS-URNIK:premaknjeno-srecanje:29394
ATTENDEE:1. letnik (Aplikativna fizika)
CATEGORIES:Entry,Standard
COLOR:darkgreen
DESCRIPTION:Predmet: Fizika I (APF-1)\, Vaje (V)\nLetniki: 1. letnik (Apli
 kativna fizika)\nIzvajalci: Marion Antonia Van Midden Mavrič\nProstor: F3
LOCATION:F3
ORGANIZER:Marion Antonia Van Midden Mavrič
RELATED-TO:fmf-AFLABS-URNIK:srecanje:2449
X-WR-TIMEZONE:Europe/Ljubljana
END:VEVENT
BEGIN:VEVENT
SUMMARY:Fizika I (APF-1)\, Vaje (V)
DTSTART;TZID=Europe/Ljubljana:20181123T080000
DTEND;TZID=Europe/Ljubljana:20181123T090000
DTSTAMP:20260423T111903Z
UID:fmf-AFLABS-URNIK:premaknjeno-srecanje:29395
ATTENDEE:1. letnik (Aplikativna fizika)
CATEGORIES:Entry,Standard
COLOR:darkgreen
DESCRIPTION:Predmet: Fizika I (APF-1)\, Vaje (V)\nLetniki: 1. letnik (Apli
 kativna fizika)\nIzvajalci: Marion Antonia Van Midden Mavrič\nProstor: F3
LOCATION:F3
ORGANIZER:Marion Antonia Van Midden Mavrič
RELATED-TO:fmf-AFLABS-URNIK:srecanje:2449
X-WR-TIMEZONE:Europe/Ljubljana
END:VEVENT
BEGIN:VEVENT
SUMMARY:Fizika I (APF-1)\, Vaje (V)
DTSTART;TZID=Europe/Ljubljana:20181130T080000
DTEND;TZID=Europe/Ljubljana:20181130T090000
DTSTAMP:20260423T111903Z
UID:fmf-AFLABS-URNIK:premaknjeno-srecanje:29396
ATTENDEE:1. letnik (Aplikativna fizika)
CATEGORIES:Entry,Standard
COLOR:darkgreen
DESCRIPTION:Predmet: Fizika I (APF-1)\, Vaje (V)\nLetniki: 1. letnik (Apli
 kativna fizika)\nIzvajalci: Marion Antonia Van Midden Mavrič\nProstor: F3
LOCATION:F3
ORGANIZER:Marion Antonia Van Midden Mavrič
RELATED-TO:fmf-AFLABS-URNIK:srecanje:2449
X-WR-TIMEZONE:Europe/Ljubljana
END:VEVENT
BEGIN:VEVENT
SUMMARY:Fizika I (APF-1)\, Vaje (V)
DTSTART;TZID=Europe/Ljubljana:20181207T080000
DTEND;TZID=Europe/Ljubljana:20181207T090000
DTSTAMP:20260423T111903Z
UID:fmf-AFLABS-URNIK:premaknjeno-srecanje:29397
ATTENDEE:1. letnik (Aplikativna fizika)
CATEGORIES:Entry,Standard
COLOR:darkgreen
DESCRIPTION:Predmet: Fizika I (APF-1)\, Vaje (V)\nLetniki: 1. letnik (Apli
 kativna fizika)\nIzvajalci: Marion Antonia Van Midden Mavrič\nProstor: F3
LOCATION:F3
ORGANIZER:Marion Antonia Van Midden Mavrič
RELATED-TO:fmf-AFLABS-URNIK:srecanje:2449
X-WR-TIMEZONE:Europe/Ljubljana
END:VEVENT
BEGIN:VEVENT
SUMMARY:Fizika I (APF-1)\, Vaje (V)
DTSTART;TZID=Europe/Ljubljana:20181214T080000
DTEND;TZID=Europe/Ljubljana:20181214T090000
DTSTAMP:20260423T111903Z
UID:fmf-AFLABS-URNIK:premaknjeno-srecanje:29398
ATTENDEE:1. letnik (Aplikativna fizika)
CATEGORIES:Entry,Standard
COLOR:darkgreen
DESCRIPTION:Predmet: Fizika I (APF-1)\, Vaje (V)\nLetniki: 1. letnik (Apli
 kativna fizika)\nIzvajalci: Marion Antonia Van Midden Mavrič\nProstor: F3
LOCATION:F3
ORGANIZER:Marion Antonia Van Midden Mavrič
RELATED-TO:fmf-AFLABS-URNIK:srecanje:2449
X-WR-TIMEZONE:Europe/Ljubljana
END:VEVENT
BEGIN:VEVENT
SUMMARY:Fizika I (APF-1)\, Vaje (V)
DTSTART;TZID=Europe/Ljubljana:20181221T080000
DTEND;TZID=Europe/Ljubljana:20181221T090000
DTSTAMP:20260423T111903Z
UID:fmf-AFLABS-URNIK:premaknjeno-srecanje:29399
ATTENDEE:1. letnik (Aplikativna fizika)
CATEGORIES:Entry,Standard
COLOR:darkgreen
DESCRIPTION:Predmet: Fizika I (APF-1)\, Vaje (V)\nLetniki: 1. letnik (Apli
 kativna fizika)\nIzvajalci: Marion Antonia Van Midden Mavrič\nProstor: F3
LOCATION:F3
ORGANIZER:Marion Antonia Van Midden Mavrič
RELATED-TO:fmf-AFLABS-URNIK:srecanje:2449
X-WR-TIMEZONE:Europe/Ljubljana
END:VEVENT
BEGIN:VEVENT
SUMMARY:Fizika I (APF-1)\, Vaje (V)
DTSTART;TZID=Europe/Ljubljana:20181228T080000
DTEND;TZID=Europe/Ljubljana:20181228T090000
DTSTAMP:20260423T111903Z
UID:fmf-AFLABS-URNIK:premaknjeno-srecanje:29400
ATTENDEE:1. letnik (Aplikativna fizika)
CATEGORIES:Entry,Standard
COLOR:darkgreen
DESCRIPTION:Predmet: Fizika I (APF-1)\, Vaje (V)\nLetniki: 1. letnik (Apli
 kativna fizika)\nIzvajalci: Marion Antonia Van Midden Mavrič\nProstor: F3
LOCATION:F3
ORGANIZER:Marion Antonia Van Midden Mavrič
RELATED-TO:fmf-AFLABS-URNIK:srecanje:2449
X-WR-TIMEZONE:Europe/Ljubljana
END:VEVENT
BEGIN:VEVENT
SUMMARY:Fizika I (APF-1)\, Vaje (V)
DTSTART;TZID=Europe/Ljubljana:20190104T080000
DTEND;TZID=Europe/Ljubljana:20190104T090000
DTSTAMP:20260423T111903Z
UID:fmf-AFLABS-URNIK:premaknjeno-srecanje:29401
ATTENDEE:1. letnik (Aplikativna fizika)
CATEGORIES:Entry,Standard
COLOR:darkgreen
DESCRIPTION:Predmet: Fizika I (APF-1)\, Vaje (V)\nLetniki: 1. letnik (Apli
 kativna fizika)\nIzvajalci: Marion Antonia Van Midden Mavrič\nProstor: F3
LOCATION:F3
ORGANIZER:Marion Antonia Van Midden Mavrič
RELATED-TO:fmf-AFLABS-URNIK:srecanje:2449
X-WR-TIMEZONE:Europe/Ljubljana
END:VEVENT
BEGIN:VEVENT
SUMMARY:Fizika I (APF-1)\, Vaje (V)
DTSTART;TZID=Europe/Ljubljana:20190111T080000
DTEND;TZID=Europe/Ljubljana:20190111T090000
DTSTAMP:20260423T111903Z
UID:fmf-AFLABS-URNIK:premaknjeno-srecanje:29402
ATTENDEE:1. letnik (Aplikativna fizika)
CATEGORIES:Entry,Standard
COLOR:darkgreen
DESCRIPTION:Predmet: Fizika I (APF-1)\, Vaje (V)\nLetniki: 1. letnik (Apli
 kativna fizika)\nIzvajalci: Marion Antonia Van Midden Mavrič\nProstor: F3
LOCATION:F3
ORGANIZER:Marion Antonia Van Midden Mavrič
RELATED-TO:fmf-AFLABS-URNIK:srecanje:2449
X-WR-TIMEZONE:Europe/Ljubljana
END:VEVENT
BEGIN:VEVENT
SUMMARY:Fizika I (APF-1)\, Vaje (V)
DTSTART;TZID=Europe/Ljubljana:20190118T080000
DTEND;TZID=Europe/Ljubljana:20190118T090000
DTSTAMP:20260423T111903Z
UID:fmf-AFLABS-URNIK:premaknjeno-srecanje:29403
ATTENDEE:1. letnik (Aplikativna fizika)
CATEGORIES:Entry,Standard
COLOR:darkgreen
DESCRIPTION:Predmet: Fizika I (APF-1)\, Vaje (V)\nLetniki: 1. letnik (Apli
 kativna fizika)\nIzvajalci: Marion Antonia Van Midden Mavrič\nProstor: F3
LOCATION:F3
ORGANIZER:Marion Antonia Van Midden Mavrič
RELATED-TO:fmf-AFLABS-URNIK:srecanje:2449
X-WR-TIMEZONE:Europe/Ljubljana
END:VEVENT
BEGIN:VEVENT
SUMMARY:Fizika I (APF-1)\, Vaje (V)
DTSTART;TZID=Europe/Ljubljana:20190218T120000
DTEND;TZID=Europe/Ljubljana:20190218T130000
DTSTAMP:20260423T111903Z
UID:fmf-AFLABS-URNIK:premaknjeno-srecanje:29105
ATTENDEE:1. letnik (Aplikativna fizika)
CATEGORIES:Entry,Standard
COLOR:darkgreen
DESCRIPTION:Predmet: Fizika I (APF-1)\, Vaje (V)\nLetniki: 1. letnik (Apli
 kativna fizika)\nIzvajalci: Marion Antonia Van Midden Mavrič\nProstor: Ku
 ščerjev seminar
LOCATION:Kuščerjev seminar
ORGANIZER:Marion Antonia Van Midden Mavrič
RELATED-TO:fmf-AFLABS-URNIK:srecanje:2615
X-WR-TIMEZONE:Europe/Ljubljana
END:VEVENT
BEGIN:VEVENT
SUMMARY:Fizika I (APF-1)\, Vaje (V)
DTSTART;TZID=Europe/Ljubljana:20190225T120000
DTEND;TZID=Europe/Ljubljana:20190225T130000
DTSTAMP:20260423T111903Z
UID:fmf-AFLABS-URNIK:premaknjeno-srecanje:29106
ATTENDEE:1. letnik (Aplikativna fizika)
CATEGORIES:Entry,Standard
COLOR:darkgreen
DESCRIPTION:Predmet: Fizika I (APF-1)\, Vaje (V)\nLetniki: 1. letnik (Apli
 kativna fizika)\nIzvajalci: Marion Antonia Van Midden Mavrič\nProstor: Ku
 ščerjev seminar
LOCATION:Kuščerjev seminar
ORGANIZER:Marion Antonia Van Midden Mavrič
RELATED-TO:fmf-AFLABS-URNIK:srecanje:2615
X-WR-TIMEZONE:Europe/Ljubljana
END:VEVENT
BEGIN:VEVENT
SUMMARY:Fizika I (APF-1)\, Vaje (V)
DTSTART;TZID=Europe/Ljubljana:20190221T100000
DTEND;TZID=Europe/Ljubljana:20190221T120000
DTSTAMP:20260423T111903Z
UID:fmf-AFLABS-URNIK:premaknjeno-srecanje:29358
ATTENDEE:1. letnik (Aplikativna fizika)
CATEGORIES:Entry,Standard
COLOR:darkgreen
DESCRIPTION:Predmet: Fizika I (APF-1)\, Vaje (V)\nLetniki: 1. letnik (Apli
 kativna fizika)\nIzvajalci: Marion Antonia Van Midden Mavrič\nProstor: F7
LOCATION:F7
ORGANIZER:Marion Antonia Van Midden Mavrič
RELATED-TO:fmf-AFLABS-URNIK:srecanje:2616
X-WR-TIMEZONE:Europe/Ljubljana
END:VEVENT
BEGIN:VEVENT
SUMMARY:Rezervacija
DTSTART;TZID=Europe/Ljubljana:20181107T150000
DTEND;TZID=Europe/Ljubljana:20181107T170000
DTSTAMP:20260423T111903Z
UID:fmf-AFLABS-URNIK:rezervacija:2059
CATEGORIES:Reservation
COLOR:royalblue
DESCRIPTION:Predmeti: \nLetniki: \nIzvajalci: Marion Antonia Van Midden Ma
 vrič\nProstori: F1
LOCATION:F1
ORGANIZER:Marion Antonia Van Midden Mavrič
X-WR-TIMEZONE:Europe/Ljubljana
END:VEVENT
BEGIN:VEVENT
SUMMARY:Rezervacija
DTSTART;TZID=Europe/Ljubljana:20190124T100000
DTEND;TZID=Europe/Ljubljana:20190124T130000
DTSTAMP:20260423T111903Z
UID:fmf-AFLABS-URNIK:rezervacija:2432
CATEGORIES:Reservation
COLOR:royalblue
DESCRIPTION:Predmeti: \nLetniki: \nIzvajalci: Marion Antonia Van Midden Ma
 vrič\nProstori: F4
LOCATION:F4
ORGANIZER:Marion Antonia Van Midden Mavrič
X-WR-TIMEZONE:Europe/Ljubljana
END:VEVENT
BEGIN:VEVENT
SUMMARY:Rezervacija
DTSTART;TZID=Europe/Ljubljana:20190131T100000
DTEND;TZID=Europe/Ljubljana:20190131T130000
DTSTAMP:20260423T111903Z
UID:fmf-AFLABS-URNIK:rezervacija:2506
CATEGORIES:Reservation
COLOR:royalblue
DESCRIPTION:Predmeti: \nLetniki: \nIzvajalci: Marion Antonia Van Midden Ma
 vrič\nProstori: F3
LOCATION:F3
ORGANIZER:Marion Antonia Van Midden Mavrič
X-WR-TIMEZONE:Europe/Ljubljana
END:VEVENT
END:VCALENDAR
