BEGIN:VCALENDAR
VERSION:2.0
PRODID:-//AFLabs urnik izvoz - fmf//aflabs.si//SI
DTSTAMP:20260420T043555Z
NAME:UL FMF urnik
REFRESH-INTERVAL:PT1H
SOURCE:https://urnik.fmf.uni-lj.si/teacher/168?day=2021-01-04&export=1
URL:https://urnik.fmf.uni-lj.si/teacher/168?day=2021-01-04&export=1
X-PUBLISHED-TTL:PT1H
X-WR-CALNAME:UL FMF urnik
X-WR-TIMEZONE:Europe/Ljubljana
BEGIN:VTIMEZONE
TZID:Europe/Ljubljana
BEGIN:DAYLIGHT
DTSTART:20260329T020000
RDATE:20260329T020000
RDATE:20270328T020000
TZNAME:CEST
TZOFFSETFROM:+0100
TZOFFSETTO:+0200
END:DAYLIGHT
BEGIN:STANDARD
DTSTART:20261025T030000
RDATE:20261025T030000
RDATE:20271031T030000
TZNAME:CET
TZOFFSETFROM:+0200
TZOFFSETTO:+0100
END:STANDARD
END:VTIMEZONE
BEGIN:VEVENT
SUMMARY:Fizika (NTF) ()\, Vaje (V)
DTSTART;TZID=Europe/Ljubljana:20201005T100000
DTEND;TZID=Europe/Ljubljana:20201005T130000
DTSTAMP:20260420T043555Z
UID:fmf-AFLABS-URNIK:premaknjeno-srecanje:27588
CATEGORIES:Entry,Standard
COLOR:darkgreen
DESCRIPTION:Predmet: Fizika (NTF) ()\, Vaje (V)\nLetniki: \nIzvajalci: Mar
 ion Antonia Van Midden Mavrič\nProstor: P104 (NTF)
LOCATION:P104 (NTF)
ORGANIZER:Marion Antonia Van Midden Mavrič
RELATED-TO:fmf-AFLABS-URNIK:srecanje:5364
X-WR-TIMEZONE:Europe/Ljubljana
END:VEVENT
BEGIN:VEVENT
SUMMARY:Fizika (NTF) ()\, Vaje (V)
DTSTART;TZID=Europe/Ljubljana:20201012T100000
DTEND;TZID=Europe/Ljubljana:20201012T130000
DTSTAMP:20260420T043555Z
UID:fmf-AFLABS-URNIK:premaknjeno-srecanje:27589
CATEGORIES:Entry,Standard
COLOR:darkgreen
DESCRIPTION:Predmet: Fizika (NTF) ()\, Vaje (V)\nLetniki: \nIzvajalci: Mar
 ion Antonia Van Midden Mavrič\nProstor: P104 (NTF)
LOCATION:P104 (NTF)
ORGANIZER:Marion Antonia Van Midden Mavrič
RELATED-TO:fmf-AFLABS-URNIK:srecanje:5364
X-WR-TIMEZONE:Europe/Ljubljana
END:VEVENT
BEGIN:VEVENT
SUMMARY:Fizika (NTF) ()\, Vaje (V)
DTSTART;TZID=Europe/Ljubljana:20201019T100000
DTEND;TZID=Europe/Ljubljana:20201019T130000
DTSTAMP:20260420T043555Z
UID:fmf-AFLABS-URNIK:premaknjeno-srecanje:27590
CATEGORIES:Entry,Standard
COLOR:darkgreen
DESCRIPTION:Predmet: Fizika (NTF) ()\, Vaje (V)\nLetniki: \nIzvajalci: Mar
 ion Antonia Van Midden Mavrič\nProstor: P104 (NTF)
LOCATION:P104 (NTF)
ORGANIZER:Marion Antonia Van Midden Mavrič
RELATED-TO:fmf-AFLABS-URNIK:srecanje:5364
X-WR-TIMEZONE:Europe/Ljubljana
END:VEVENT
BEGIN:VEVENT
SUMMARY:Fizika (NTF) ()\, Vaje (V)
DTSTART;TZID=Europe/Ljubljana:20201026T100000
DTEND;TZID=Europe/Ljubljana:20201026T130000
DTSTAMP:20260420T043555Z
UID:fmf-AFLABS-URNIK:premaknjeno-srecanje:27591
CATEGORIES:Entry,Standard
COLOR:darkgreen
DESCRIPTION:Predmet: Fizika (NTF) ()\, Vaje (V)\nLetniki: \nIzvajalci: Mar
 ion Antonia Van Midden Mavrič\nProstor: P104 (NTF)
LOCATION:P104 (NTF)
ORGANIZER:Marion Antonia Van Midden Mavrič
RELATED-TO:fmf-AFLABS-URNIK:srecanje:5364
X-WR-TIMEZONE:Europe/Ljubljana
END:VEVENT
BEGIN:VEVENT
SUMMARY:Fizika (NTF) ()\, Vaje (V)
DTSTART;TZID=Europe/Ljubljana:20201102T100000
DTEND;TZID=Europe/Ljubljana:20201102T130000
DTSTAMP:20260420T043555Z
UID:fmf-AFLABS-URNIK:premaknjeno-srecanje:27592
CATEGORIES:Entry,Standard
COLOR:darkgreen
DESCRIPTION:Predmet: Fizika (NTF) ()\, Vaje (V)\nLetniki: \nIzvajalci: Mar
 ion Antonia Van Midden Mavrič\nProstor: P104 (NTF)
LOCATION:P104 (NTF)
ORGANIZER:Marion Antonia Van Midden Mavrič
RELATED-TO:fmf-AFLABS-URNIK:srecanje:5364
X-WR-TIMEZONE:Europe/Ljubljana
END:VEVENT
BEGIN:VEVENT
SUMMARY:Fizika (NTF) ()\, Vaje (V)
DTSTART;TZID=Europe/Ljubljana:20201109T100000
DTEND;TZID=Europe/Ljubljana:20201109T130000
DTSTAMP:20260420T043555Z
UID:fmf-AFLABS-URNIK:premaknjeno-srecanje:27593
CATEGORIES:Entry,Standard
COLOR:darkgreen
DESCRIPTION:Predmet: Fizika (NTF) ()\, Vaje (V)\nLetniki: \nIzvajalci: Mar
 ion Antonia Van Midden Mavrič\nProstor: P104 (NTF)
LOCATION:P104 (NTF)
ORGANIZER:Marion Antonia Van Midden Mavrič
RELATED-TO:fmf-AFLABS-URNIK:srecanje:5364
X-WR-TIMEZONE:Europe/Ljubljana
END:VEVENT
BEGIN:VEVENT
SUMMARY:Fizika (NTF) ()\, Vaje (V)
DTSTART;TZID=Europe/Ljubljana:20201116T100000
DTEND;TZID=Europe/Ljubljana:20201116T130000
DTSTAMP:20260420T043555Z
UID:fmf-AFLABS-URNIK:premaknjeno-srecanje:27594
CATEGORIES:Entry,Standard
COLOR:darkgreen
DESCRIPTION:Predmet: Fizika (NTF) ()\, Vaje (V)\nLetniki: \nIzvajalci: Mar
 ion Antonia Van Midden Mavrič\nProstor: P104 (NTF)
LOCATION:P104 (NTF)
ORGANIZER:Marion Antonia Van Midden Mavrič
RELATED-TO:fmf-AFLABS-URNIK:srecanje:5364
X-WR-TIMEZONE:Europe/Ljubljana
END:VEVENT
BEGIN:VEVENT
SUMMARY:Fizika (NTF) ()\, Vaje (V)
DTSTART;TZID=Europe/Ljubljana:20201123T100000
DTEND;TZID=Europe/Ljubljana:20201123T130000
DTSTAMP:20260420T043555Z
UID:fmf-AFLABS-URNIK:premaknjeno-srecanje:27595
CATEGORIES:Entry,Standard
COLOR:darkgreen
DESCRIPTION:Predmet: Fizika (NTF) ()\, Vaje (V)\nLetniki: \nIzvajalci: Mar
 ion Antonia Van Midden Mavrič\nProstor: P104 (NTF)
LOCATION:P104 (NTF)
ORGANIZER:Marion Antonia Van Midden Mavrič
RELATED-TO:fmf-AFLABS-URNIK:srecanje:5364
X-WR-TIMEZONE:Europe/Ljubljana
END:VEVENT
BEGIN:VEVENT
SUMMARY:Fizika (NTF) ()\, Vaje (V)
DTSTART;TZID=Europe/Ljubljana:20201130T100000
DTEND;TZID=Europe/Ljubljana:20201130T130000
DTSTAMP:20260420T043555Z
UID:fmf-AFLABS-URNIK:premaknjeno-srecanje:27596
CATEGORIES:Entry,Standard
COLOR:darkgreen
DESCRIPTION:Predmet: Fizika (NTF) ()\, Vaje (V)\nLetniki: \nIzvajalci: Mar
 ion Antonia Van Midden Mavrič\nProstor: P104 (NTF)
LOCATION:P104 (NTF)
ORGANIZER:Marion Antonia Van Midden Mavrič
RELATED-TO:fmf-AFLABS-URNIK:srecanje:5364
X-WR-TIMEZONE:Europe/Ljubljana
END:VEVENT
BEGIN:VEVENT
SUMMARY:Fizika (NTF) ()\, Vaje (V)
DTSTART;TZID=Europe/Ljubljana:20201207T100000
DTEND;TZID=Europe/Ljubljana:20201207T130000
DTSTAMP:20260420T043555Z
UID:fmf-AFLABS-URNIK:premaknjeno-srecanje:27597
CATEGORIES:Entry,Standard
COLOR:darkgreen
DESCRIPTION:Predmet: Fizika (NTF) ()\, Vaje (V)\nLetniki: \nIzvajalci: Mar
 ion Antonia Van Midden Mavrič\nProstor: P104 (NTF)
LOCATION:P104 (NTF)
ORGANIZER:Marion Antonia Van Midden Mavrič
RELATED-TO:fmf-AFLABS-URNIK:srecanje:5364
X-WR-TIMEZONE:Europe/Ljubljana
END:VEVENT
BEGIN:VEVENT
SUMMARY:Fizika (NTF) ()\, Vaje (V)
DTSTART;TZID=Europe/Ljubljana:20201214T100000
DTEND;TZID=Europe/Ljubljana:20201214T130000
DTSTAMP:20260420T043555Z
UID:fmf-AFLABS-URNIK:premaknjeno-srecanje:27598
CATEGORIES:Entry,Standard
COLOR:darkgreen
DESCRIPTION:Predmet: Fizika (NTF) ()\, Vaje (V)\nLetniki: \nIzvajalci: Mar
 ion Antonia Van Midden Mavrič\nProstor: P104 (NTF)
LOCATION:P104 (NTF)
ORGANIZER:Marion Antonia Van Midden Mavrič
RELATED-TO:fmf-AFLABS-URNIK:srecanje:5364
X-WR-TIMEZONE:Europe/Ljubljana
END:VEVENT
BEGIN:VEVENT
SUMMARY:Fizika (NTF) ()\, Vaje (V)
DTSTART;TZID=Europe/Ljubljana:20201221T100000
DTEND;TZID=Europe/Ljubljana:20201221T130000
DTSTAMP:20260420T043555Z
UID:fmf-AFLABS-URNIK:premaknjeno-srecanje:27599
CATEGORIES:Entry,Standard
COLOR:darkgreen
DESCRIPTION:Predmet: Fizika (NTF) ()\, Vaje (V)\nLetniki: \nIzvajalci: Mar
 ion Antonia Van Midden Mavrič\nProstor: P104 (NTF)
LOCATION:P104 (NTF)
ORGANIZER:Marion Antonia Van Midden Mavrič
RELATED-TO:fmf-AFLABS-URNIK:srecanje:5364
X-WR-TIMEZONE:Europe/Ljubljana
END:VEVENT
BEGIN:VEVENT
SUMMARY:Fizika (NTF) ()\, Vaje (V)
DTSTART;TZID=Europe/Ljubljana:20201228T100000
DTEND;TZID=Europe/Ljubljana:20201228T130000
DTSTAMP:20260420T043555Z
UID:fmf-AFLABS-URNIK:premaknjeno-srecanje:27600
CATEGORIES:Entry,Standard
COLOR:darkgreen
DESCRIPTION:Predmet: Fizika (NTF) ()\, Vaje (V)\nLetniki: \nIzvajalci: Mar
 ion Antonia Van Midden Mavrič\nProstor: P104 (NTF)
LOCATION:P104 (NTF)
ORGANIZER:Marion Antonia Van Midden Mavrič
RELATED-TO:fmf-AFLABS-URNIK:srecanje:5364
X-WR-TIMEZONE:Europe/Ljubljana
END:VEVENT
BEGIN:VEVENT
SUMMARY:Fizika (NTF) ()\, Vaje (V)
DTSTART;TZID=Europe/Ljubljana:20210104T100000
DTEND;TZID=Europe/Ljubljana:20210104T130000
DTSTAMP:20260420T043555Z
UID:fmf-AFLABS-URNIK:premaknjeno-srecanje:27601
CATEGORIES:Entry,Standard
COLOR:darkgreen
DESCRIPTION:Predmet: Fizika (NTF) ()\, Vaje (V)\nLetniki: \nIzvajalci: Mar
 ion Antonia Van Midden Mavrič\nProstor: P104 (NTF)
LOCATION:P104 (NTF)
ORGANIZER:Marion Antonia Van Midden Mavrič
RELATED-TO:fmf-AFLABS-URNIK:srecanje:5364
X-WR-TIMEZONE:Europe/Ljubljana
END:VEVENT
BEGIN:VEVENT
SUMMARY:Fizika (NTF) ()\, Vaje (V)
DTSTART;TZID=Europe/Ljubljana:20210111T100000
DTEND;TZID=Europe/Ljubljana:20210111T130000
DTSTAMP:20260420T043555Z
UID:fmf-AFLABS-URNIK:premaknjeno-srecanje:27602
CATEGORIES:Entry,Standard
COLOR:darkgreen
DESCRIPTION:Predmet: Fizika (NTF) ()\, Vaje (V)\nLetniki: \nIzvajalci: Mar
 ion Antonia Van Midden Mavrič\nProstor: P104 (NTF)
LOCATION:P104 (NTF)
ORGANIZER:Marion Antonia Van Midden Mavrič
RELATED-TO:fmf-AFLABS-URNIK:srecanje:5364
X-WR-TIMEZONE:Europe/Ljubljana
END:VEVENT
BEGIN:VEVENT
SUMMARY:Fizika I (APF-1)\, Vaje (V)
DTSTART;TZID=Europe/Ljubljana:20201005T140000
DTEND;TZID=Europe/Ljubljana:20201005T160000
DTSTAMP:20260420T043555Z
UID:fmf-AFLABS-URNIK:premaknjeno-srecanje:29169
ATTENDEE:1. letnik (Aplikativna fizika)
CATEGORIES:Entry,Standard
COLOR:darkgreen
DESCRIPTION:Predmet: Fizika I (APF-1)\, Vaje (V)\nLetniki: 1. letnik (Apli
 kativna fizika)\nIzvajalci: Marion Antonia Van Midden Mavrič\nProstor: P.
 02
LOCATION:P.02
ORGANIZER:Marion Antonia Van Midden Mavrič
RELATED-TO:fmf-AFLABS-URNIK:srecanje:4796
X-WR-TIMEZONE:Europe/Ljubljana
END:VEVENT
BEGIN:VEVENT
SUMMARY:Fizika I (APF-1)\, Vaje (V)
DTSTART;TZID=Europe/Ljubljana:20201012T140000
DTEND;TZID=Europe/Ljubljana:20201012T160000
DTSTAMP:20260420T043555Z
UID:fmf-AFLABS-URNIK:premaknjeno-srecanje:29170
ATTENDEE:1. letnik (Aplikativna fizika)
CATEGORIES:Entry,Standard
COLOR:darkgreen
DESCRIPTION:Predmet: Fizika I (APF-1)\, Vaje (V)\nLetniki: 1. letnik (Apli
 kativna fizika)\nIzvajalci: Marion Antonia Van Midden Mavrič\nProstor: P.
 02
LOCATION:P.02
ORGANIZER:Marion Antonia Van Midden Mavrič
RELATED-TO:fmf-AFLABS-URNIK:srecanje:4796
X-WR-TIMEZONE:Europe/Ljubljana
END:VEVENT
BEGIN:VEVENT
SUMMARY:Fizika I (APF-1)\, Vaje (V)
DTSTART;TZID=Europe/Ljubljana:20201019T140000
DTEND;TZID=Europe/Ljubljana:20201019T160000
DTSTAMP:20260420T043555Z
UID:fmf-AFLABS-URNIK:premaknjeno-srecanje:29171
ATTENDEE:1. letnik (Aplikativna fizika)
CATEGORIES:Entry,Standard
COLOR:darkgreen
DESCRIPTION:Predmet: Fizika I (APF-1)\, Vaje (V)\nLetniki: 1. letnik (Apli
 kativna fizika)\nIzvajalci: Marion Antonia Van Midden Mavrič\nProstor: P.
 02
LOCATION:P.02
ORGANIZER:Marion Antonia Van Midden Mavrič
RELATED-TO:fmf-AFLABS-URNIK:srecanje:4796
X-WR-TIMEZONE:Europe/Ljubljana
END:VEVENT
BEGIN:VEVENT
SUMMARY:Fizika I (APF-1)\, Vaje (V)
DTSTART;TZID=Europe/Ljubljana:20201026T140000
DTEND;TZID=Europe/Ljubljana:20201026T160000
DTSTAMP:20260420T043555Z
UID:fmf-AFLABS-URNIK:premaknjeno-srecanje:29172
ATTENDEE:1. letnik (Aplikativna fizika)
CATEGORIES:Entry,Standard
COLOR:darkgreen
DESCRIPTION:Predmet: Fizika I (APF-1)\, Vaje (V)\nLetniki: 1. letnik (Apli
 kativna fizika)\nIzvajalci: Marion Antonia Van Midden Mavrič\nProstor: P.
 02
LOCATION:P.02
ORGANIZER:Marion Antonia Van Midden Mavrič
RELATED-TO:fmf-AFLABS-URNIK:srecanje:4796
X-WR-TIMEZONE:Europe/Ljubljana
END:VEVENT
BEGIN:VEVENT
SUMMARY:Fizika I (APF-1)\, Vaje (V)
DTSTART;TZID=Europe/Ljubljana:20201102T140000
DTEND;TZID=Europe/Ljubljana:20201102T160000
DTSTAMP:20260420T043555Z
UID:fmf-AFLABS-URNIK:premaknjeno-srecanje:29173
ATTENDEE:1. letnik (Aplikativna fizika)
CATEGORIES:Entry,Standard
COLOR:darkgreen
DESCRIPTION:Predmet: Fizika I (APF-1)\, Vaje (V)\nLetniki: 1. letnik (Apli
 kativna fizika)\nIzvajalci: Marion Antonia Van Midden Mavrič\nProstor: P.
 02
LOCATION:P.02
ORGANIZER:Marion Antonia Van Midden Mavrič
RELATED-TO:fmf-AFLABS-URNIK:srecanje:4796
X-WR-TIMEZONE:Europe/Ljubljana
END:VEVENT
BEGIN:VEVENT
SUMMARY:Fizika I (APF-1)\, Vaje (V)
DTSTART;TZID=Europe/Ljubljana:20201109T140000
DTEND;TZID=Europe/Ljubljana:20201109T160000
DTSTAMP:20260420T043555Z
UID:fmf-AFLABS-URNIK:premaknjeno-srecanje:29174
ATTENDEE:1. letnik (Aplikativna fizika)
CATEGORIES:Entry,Standard
COLOR:darkgreen
DESCRIPTION:Predmet: Fizika I (APF-1)\, Vaje (V)\nLetniki: 1. letnik (Apli
 kativna fizika)\nIzvajalci: Marion Antonia Van Midden Mavrič\nProstor: P.
 02
LOCATION:P.02
ORGANIZER:Marion Antonia Van Midden Mavrič
RELATED-TO:fmf-AFLABS-URNIK:srecanje:4796
X-WR-TIMEZONE:Europe/Ljubljana
END:VEVENT
BEGIN:VEVENT
SUMMARY:Fizika I (APF-1)\, Vaje (V)
DTSTART;TZID=Europe/Ljubljana:20201116T140000
DTEND;TZID=Europe/Ljubljana:20201116T160000
DTSTAMP:20260420T043555Z
UID:fmf-AFLABS-URNIK:premaknjeno-srecanje:29175
ATTENDEE:1. letnik (Aplikativna fizika)
CATEGORIES:Entry,Standard
COLOR:darkgreen
DESCRIPTION:Predmet: Fizika I (APF-1)\, Vaje (V)\nLetniki: 1. letnik (Apli
 kativna fizika)\nIzvajalci: Marion Antonia Van Midden Mavrič\nProstor: P.
 02
LOCATION:P.02
ORGANIZER:Marion Antonia Van Midden Mavrič
RELATED-TO:fmf-AFLABS-URNIK:srecanje:4796
X-WR-TIMEZONE:Europe/Ljubljana
END:VEVENT
BEGIN:VEVENT
SUMMARY:Fizika I (APF-1)\, Vaje (V)
DTSTART;TZID=Europe/Ljubljana:20201123T140000
DTEND;TZID=Europe/Ljubljana:20201123T160000
DTSTAMP:20260420T043555Z
UID:fmf-AFLABS-URNIK:premaknjeno-srecanje:29176
ATTENDEE:1. letnik (Aplikativna fizika)
CATEGORIES:Entry,Standard
COLOR:darkgreen
DESCRIPTION:Predmet: Fizika I (APF-1)\, Vaje (V)\nLetniki: 1. letnik (Apli
 kativna fizika)\nIzvajalci: Marion Antonia Van Midden Mavrič\nProstor: P.
 02
LOCATION:P.02
ORGANIZER:Marion Antonia Van Midden Mavrič
RELATED-TO:fmf-AFLABS-URNIK:srecanje:4796
X-WR-TIMEZONE:Europe/Ljubljana
END:VEVENT
BEGIN:VEVENT
SUMMARY:Fizika I (APF-1)\, Vaje (V)
DTSTART;TZID=Europe/Ljubljana:20201130T140000
DTEND;TZID=Europe/Ljubljana:20201130T160000
DTSTAMP:20260420T043555Z
UID:fmf-AFLABS-URNIK:premaknjeno-srecanje:29177
ATTENDEE:1. letnik (Aplikativna fizika)
CATEGORIES:Entry,Standard
COLOR:darkgreen
DESCRIPTION:Predmet: Fizika I (APF-1)\, Vaje (V)\nLetniki: 1. letnik (Apli
 kativna fizika)\nIzvajalci: Marion Antonia Van Midden Mavrič\nProstor: P.
 02
LOCATION:P.02
ORGANIZER:Marion Antonia Van Midden Mavrič
RELATED-TO:fmf-AFLABS-URNIK:srecanje:4796
X-WR-TIMEZONE:Europe/Ljubljana
END:VEVENT
BEGIN:VEVENT
SUMMARY:Fizika I (APF-1)\, Vaje (V)
DTSTART;TZID=Europe/Ljubljana:20201207T140000
DTEND;TZID=Europe/Ljubljana:20201207T160000
DTSTAMP:20260420T043555Z
UID:fmf-AFLABS-URNIK:premaknjeno-srecanje:29178
ATTENDEE:1. letnik (Aplikativna fizika)
CATEGORIES:Entry,Standard
COLOR:darkgreen
DESCRIPTION:Predmet: Fizika I (APF-1)\, Vaje (V)\nLetniki: 1. letnik (Apli
 kativna fizika)\nIzvajalci: Marion Antonia Van Midden Mavrič\nProstor: P.
 02
LOCATION:P.02
ORGANIZER:Marion Antonia Van Midden Mavrič
RELATED-TO:fmf-AFLABS-URNIK:srecanje:4796
X-WR-TIMEZONE:Europe/Ljubljana
END:VEVENT
BEGIN:VEVENT
SUMMARY:Fizika I (APF-1)\, Vaje (V)
DTSTART;TZID=Europe/Ljubljana:20201214T140000
DTEND;TZID=Europe/Ljubljana:20201214T160000
DTSTAMP:20260420T043555Z
UID:fmf-AFLABS-URNIK:premaknjeno-srecanje:29179
ATTENDEE:1. letnik (Aplikativna fizika)
CATEGORIES:Entry,Standard
COLOR:darkgreen
DESCRIPTION:Predmet: Fizika I (APF-1)\, Vaje (V)\nLetniki: 1. letnik (Apli
 kativna fizika)\nIzvajalci: Marion Antonia Van Midden Mavrič\nProstor: P.
 02
LOCATION:P.02
ORGANIZER:Marion Antonia Van Midden Mavrič
RELATED-TO:fmf-AFLABS-URNIK:srecanje:4796
X-WR-TIMEZONE:Europe/Ljubljana
END:VEVENT
BEGIN:VEVENT
SUMMARY:Fizika I (APF-1)\, Vaje (V)
DTSTART;TZID=Europe/Ljubljana:20201221T140000
DTEND;TZID=Europe/Ljubljana:20201221T160000
DTSTAMP:20260420T043555Z
UID:fmf-AFLABS-URNIK:premaknjeno-srecanje:29180
ATTENDEE:1. letnik (Aplikativna fizika)
CATEGORIES:Entry,Standard
COLOR:darkgreen
DESCRIPTION:Predmet: Fizika I (APF-1)\, Vaje (V)\nLetniki: 1. letnik (Apli
 kativna fizika)\nIzvajalci: Marion Antonia Van Midden Mavrič\nProstor: P.
 02
LOCATION:P.02
ORGANIZER:Marion Antonia Van Midden Mavrič
RELATED-TO:fmf-AFLABS-URNIK:srecanje:4796
X-WR-TIMEZONE:Europe/Ljubljana
END:VEVENT
BEGIN:VEVENT
SUMMARY:Fizika I (APF-1)\, Vaje (V)
DTSTART;TZID=Europe/Ljubljana:20201228T140000
DTEND;TZID=Europe/Ljubljana:20201228T160000
DTSTAMP:20260420T043555Z
UID:fmf-AFLABS-URNIK:premaknjeno-srecanje:29181
ATTENDEE:1. letnik (Aplikativna fizika)
CATEGORIES:Entry,Standard
COLOR:darkgreen
DESCRIPTION:Predmet: Fizika I (APF-1)\, Vaje (V)\nLetniki: 1. letnik (Apli
 kativna fizika)\nIzvajalci: Marion Antonia Van Midden Mavrič\nProstor: P.
 02
LOCATION:P.02
ORGANIZER:Marion Antonia Van Midden Mavrič
RELATED-TO:fmf-AFLABS-URNIK:srecanje:4796
X-WR-TIMEZONE:Europe/Ljubljana
END:VEVENT
BEGIN:VEVENT
SUMMARY:Fizika I (APF-1)\, Vaje (V)
DTSTART;TZID=Europe/Ljubljana:20210104T140000
DTEND;TZID=Europe/Ljubljana:20210104T160000
DTSTAMP:20260420T043555Z
UID:fmf-AFLABS-URNIK:premaknjeno-srecanje:29182
ATTENDEE:1. letnik (Aplikativna fizika)
CATEGORIES:Entry,Standard
COLOR:darkgreen
DESCRIPTION:Predmet: Fizika I (APF-1)\, Vaje (V)\nLetniki: 1. letnik (Apli
 kativna fizika)\nIzvajalci: Marion Antonia Van Midden Mavrič\nProstor: P.
 02
LOCATION:P.02
ORGANIZER:Marion Antonia Van Midden Mavrič
RELATED-TO:fmf-AFLABS-URNIK:srecanje:4796
X-WR-TIMEZONE:Europe/Ljubljana
END:VEVENT
BEGIN:VEVENT
SUMMARY:Fizika I (APF-1)\, Vaje (V)
DTSTART;TZID=Europe/Ljubljana:20210111T140000
DTEND;TZID=Europe/Ljubljana:20210111T160000
DTSTAMP:20260420T043555Z
UID:fmf-AFLABS-URNIK:premaknjeno-srecanje:29183
ATTENDEE:1. letnik (Aplikativna fizika)
CATEGORIES:Entry,Standard
COLOR:darkgreen
DESCRIPTION:Predmet: Fizika I (APF-1)\, Vaje (V)\nLetniki: 1. letnik (Apli
 kativna fizika)\nIzvajalci: Marion Antonia Van Midden Mavrič\nProstor: P.
 02
LOCATION:P.02
ORGANIZER:Marion Antonia Van Midden Mavrič
RELATED-TO:fmf-AFLABS-URNIK:srecanje:4796
X-WR-TIMEZONE:Europe/Ljubljana
END:VEVENT
BEGIN:VEVENT
SUMMARY:Fizika I (APF-1)\, Vaje (V)
DTSTART;TZID=Europe/Ljubljana:20201007T100000
DTEND;TZID=Europe/Ljubljana:20201007T110000
DTSTAMP:20260420T043555Z
UID:fmf-AFLABS-URNIK:premaknjeno-srecanje:29217
ATTENDEE:1. letnik (Aplikativna fizika)
CATEGORIES:Entry,Standard
COLOR:darkgreen
DESCRIPTION:Predmet: Fizika I (APF-1)\, Vaje (V)\nLetniki: 1. letnik (Apli
 kativna fizika)\nIzvajalci: Marion Antonia Van Midden Mavrič\nProstor: P.
 01
LOCATION:P.01
ORGANIZER:Marion Antonia Van Midden Mavrič
RELATED-TO:fmf-AFLABS-URNIK:srecanje:4797
X-WR-TIMEZONE:Europe/Ljubljana
END:VEVENT
BEGIN:VEVENT
SUMMARY:Fizika I (APF-1)\, Vaje (V)
DTSTART;TZID=Europe/Ljubljana:20201014T100000
DTEND;TZID=Europe/Ljubljana:20201014T110000
DTSTAMP:20260420T043555Z
UID:fmf-AFLABS-URNIK:premaknjeno-srecanje:29218
ATTENDEE:1. letnik (Aplikativna fizika)
CATEGORIES:Entry,Standard
COLOR:darkgreen
DESCRIPTION:Predmet: Fizika I (APF-1)\, Vaje (V)\nLetniki: 1. letnik (Apli
 kativna fizika)\nIzvajalci: Marion Antonia Van Midden Mavrič\nProstor: P.
 01
LOCATION:P.01
ORGANIZER:Marion Antonia Van Midden Mavrič
RELATED-TO:fmf-AFLABS-URNIK:srecanje:4797
X-WR-TIMEZONE:Europe/Ljubljana
END:VEVENT
BEGIN:VEVENT
SUMMARY:Fizika I (APF-1)\, Vaje (V)
DTSTART;TZID=Europe/Ljubljana:20201021T100000
DTEND;TZID=Europe/Ljubljana:20201021T110000
DTSTAMP:20260420T043555Z
UID:fmf-AFLABS-URNIK:premaknjeno-srecanje:29219
ATTENDEE:1. letnik (Aplikativna fizika)
CATEGORIES:Entry,Standard
COLOR:darkgreen
DESCRIPTION:Predmet: Fizika I (APF-1)\, Vaje (V)\nLetniki: 1. letnik (Apli
 kativna fizika)\nIzvajalci: Marion Antonia Van Midden Mavrič\nProstor: P.
 01
LOCATION:P.01
ORGANIZER:Marion Antonia Van Midden Mavrič
RELATED-TO:fmf-AFLABS-URNIK:srecanje:4797
X-WR-TIMEZONE:Europe/Ljubljana
END:VEVENT
BEGIN:VEVENT
SUMMARY:Fizika I (APF-1)\, Vaje (V)
DTSTART;TZID=Europe/Ljubljana:20201028T100000
DTEND;TZID=Europe/Ljubljana:20201028T110000
DTSTAMP:20260420T043555Z
UID:fmf-AFLABS-URNIK:premaknjeno-srecanje:29220
ATTENDEE:1. letnik (Aplikativna fizika)
CATEGORIES:Entry,Standard
COLOR:darkgreen
DESCRIPTION:Predmet: Fizika I (APF-1)\, Vaje (V)\nLetniki: 1. letnik (Apli
 kativna fizika)\nIzvajalci: Marion Antonia Van Midden Mavrič\nProstor: P.
 01
LOCATION:P.01
ORGANIZER:Marion Antonia Van Midden Mavrič
RELATED-TO:fmf-AFLABS-URNIK:srecanje:4797
X-WR-TIMEZONE:Europe/Ljubljana
END:VEVENT
BEGIN:VEVENT
SUMMARY:Fizika I (APF-1)\, Vaje (V)
DTSTART;TZID=Europe/Ljubljana:20201104T100000
DTEND;TZID=Europe/Ljubljana:20201104T110000
DTSTAMP:20260420T043555Z
UID:fmf-AFLABS-URNIK:premaknjeno-srecanje:29221
ATTENDEE:1. letnik (Aplikativna fizika)
CATEGORIES:Entry,Standard
COLOR:darkgreen
DESCRIPTION:Predmet: Fizika I (APF-1)\, Vaje (V)\nLetniki: 1. letnik (Apli
 kativna fizika)\nIzvajalci: Marion Antonia Van Midden Mavrič\nProstor: P.
 01
LOCATION:P.01
ORGANIZER:Marion Antonia Van Midden Mavrič
RELATED-TO:fmf-AFLABS-URNIK:srecanje:4797
X-WR-TIMEZONE:Europe/Ljubljana
END:VEVENT
BEGIN:VEVENT
SUMMARY:Fizika I (APF-1)\, Vaje (V)
DTSTART;TZID=Europe/Ljubljana:20201111T100000
DTEND;TZID=Europe/Ljubljana:20201111T110000
DTSTAMP:20260420T043555Z
UID:fmf-AFLABS-URNIK:premaknjeno-srecanje:29222
ATTENDEE:1. letnik (Aplikativna fizika)
CATEGORIES:Entry,Standard
COLOR:darkgreen
DESCRIPTION:Predmet: Fizika I (APF-1)\, Vaje (V)\nLetniki: 1. letnik (Apli
 kativna fizika)\nIzvajalci: Marion Antonia Van Midden Mavrič\nProstor: P.
 01
LOCATION:P.01
ORGANIZER:Marion Antonia Van Midden Mavrič
RELATED-TO:fmf-AFLABS-URNIK:srecanje:4797
X-WR-TIMEZONE:Europe/Ljubljana
END:VEVENT
BEGIN:VEVENT
SUMMARY:Fizika I (APF-1)\, Vaje (V)
DTSTART;TZID=Europe/Ljubljana:20201118T100000
DTEND;TZID=Europe/Ljubljana:20201118T110000
DTSTAMP:20260420T043555Z
UID:fmf-AFLABS-URNIK:premaknjeno-srecanje:29223
ATTENDEE:1. letnik (Aplikativna fizika)
CATEGORIES:Entry,Standard
COLOR:darkgreen
DESCRIPTION:Predmet: Fizika I (APF-1)\, Vaje (V)\nLetniki: 1. letnik (Apli
 kativna fizika)\nIzvajalci: Marion Antonia Van Midden Mavrič\nProstor: P.
 01
LOCATION:P.01
ORGANIZER:Marion Antonia Van Midden Mavrič
RELATED-TO:fmf-AFLABS-URNIK:srecanje:4797
X-WR-TIMEZONE:Europe/Ljubljana
END:VEVENT
BEGIN:VEVENT
SUMMARY:Fizika I (APF-1)\, Vaje (V)
DTSTART;TZID=Europe/Ljubljana:20201125T100000
DTEND;TZID=Europe/Ljubljana:20201125T110000
DTSTAMP:20260420T043555Z
UID:fmf-AFLABS-URNIK:premaknjeno-srecanje:29224
ATTENDEE:1. letnik (Aplikativna fizika)
CATEGORIES:Entry,Standard
COLOR:darkgreen
DESCRIPTION:Predmet: Fizika I (APF-1)\, Vaje (V)\nLetniki: 1. letnik (Apli
 kativna fizika)\nIzvajalci: Marion Antonia Van Midden Mavrič\nProstor: P.
 01
LOCATION:P.01
ORGANIZER:Marion Antonia Van Midden Mavrič
RELATED-TO:fmf-AFLABS-URNIK:srecanje:4797
X-WR-TIMEZONE:Europe/Ljubljana
END:VEVENT
BEGIN:VEVENT
SUMMARY:Fizika I (APF-1)\, Vaje (V)
DTSTART;TZID=Europe/Ljubljana:20201202T100000
DTEND;TZID=Europe/Ljubljana:20201202T110000
DTSTAMP:20260420T043555Z
UID:fmf-AFLABS-URNIK:premaknjeno-srecanje:29225
ATTENDEE:1. letnik (Aplikativna fizika)
CATEGORIES:Entry,Standard
COLOR:darkgreen
DESCRIPTION:Predmet: Fizika I (APF-1)\, Vaje (V)\nLetniki: 1. letnik (Apli
 kativna fizika)\nIzvajalci: Marion Antonia Van Midden Mavrič\nProstor: P.
 01
LOCATION:P.01
ORGANIZER:Marion Antonia Van Midden Mavrič
RELATED-TO:fmf-AFLABS-URNIK:srecanje:4797
X-WR-TIMEZONE:Europe/Ljubljana
END:VEVENT
BEGIN:VEVENT
SUMMARY:Fizika I (APF-1)\, Vaje (V)
DTSTART;TZID=Europe/Ljubljana:20201209T100000
DTEND;TZID=Europe/Ljubljana:20201209T110000
DTSTAMP:20260420T043555Z
UID:fmf-AFLABS-URNIK:premaknjeno-srecanje:29226
ATTENDEE:1. letnik (Aplikativna fizika)
CATEGORIES:Entry,Standard
COLOR:darkgreen
DESCRIPTION:Predmet: Fizika I (APF-1)\, Vaje (V)\nLetniki: 1. letnik (Apli
 kativna fizika)\nIzvajalci: Marion Antonia Van Midden Mavrič\nProstor: P.
 01
LOCATION:P.01
ORGANIZER:Marion Antonia Van Midden Mavrič
RELATED-TO:fmf-AFLABS-URNIK:srecanje:4797
X-WR-TIMEZONE:Europe/Ljubljana
END:VEVENT
BEGIN:VEVENT
SUMMARY:Fizika I (APF-1)\, Vaje (V)
DTSTART;TZID=Europe/Ljubljana:20201216T100000
DTEND;TZID=Europe/Ljubljana:20201216T110000
DTSTAMP:20260420T043555Z
UID:fmf-AFLABS-URNIK:premaknjeno-srecanje:29227
ATTENDEE:1. letnik (Aplikativna fizika)
CATEGORIES:Entry,Standard
COLOR:darkgreen
DESCRIPTION:Predmet: Fizika I (APF-1)\, Vaje (V)\nLetniki: 1. letnik (Apli
 kativna fizika)\nIzvajalci: Marion Antonia Van Midden Mavrič\nProstor: P.
 01
LOCATION:P.01
ORGANIZER:Marion Antonia Van Midden Mavrič
RELATED-TO:fmf-AFLABS-URNIK:srecanje:4797
X-WR-TIMEZONE:Europe/Ljubljana
END:VEVENT
BEGIN:VEVENT
SUMMARY:Fizika I (APF-1)\, Vaje (V)
DTSTART;TZID=Europe/Ljubljana:20201223T100000
DTEND;TZID=Europe/Ljubljana:20201223T110000
DTSTAMP:20260420T043555Z
UID:fmf-AFLABS-URNIK:premaknjeno-srecanje:29228
ATTENDEE:1. letnik (Aplikativna fizika)
CATEGORIES:Entry,Standard
COLOR:darkgreen
DESCRIPTION:Predmet: Fizika I (APF-1)\, Vaje (V)\nLetniki: 1. letnik (Apli
 kativna fizika)\nIzvajalci: Marion Antonia Van Midden Mavrič\nProstor: P.
 01
LOCATION:P.01
ORGANIZER:Marion Antonia Van Midden Mavrič
RELATED-TO:fmf-AFLABS-URNIK:srecanje:4797
X-WR-TIMEZONE:Europe/Ljubljana
END:VEVENT
BEGIN:VEVENT
SUMMARY:Fizika I (APF-1)\, Vaje (V)
DTSTART;TZID=Europe/Ljubljana:20201230T100000
DTEND;TZID=Europe/Ljubljana:20201230T110000
DTSTAMP:20260420T043555Z
UID:fmf-AFLABS-URNIK:premaknjeno-srecanje:29229
ATTENDEE:1. letnik (Aplikativna fizika)
CATEGORIES:Entry,Standard
COLOR:darkgreen
DESCRIPTION:Predmet: Fizika I (APF-1)\, Vaje (V)\nLetniki: 1. letnik (Apli
 kativna fizika)\nIzvajalci: Marion Antonia Van Midden Mavrič\nProstor: P.
 01
LOCATION:P.01
ORGANIZER:Marion Antonia Van Midden Mavrič
RELATED-TO:fmf-AFLABS-URNIK:srecanje:4797
X-WR-TIMEZONE:Europe/Ljubljana
END:VEVENT
BEGIN:VEVENT
SUMMARY:Fizika I (APF-1)\, Vaje (V)
DTSTART;TZID=Europe/Ljubljana:20210106T100000
DTEND;TZID=Europe/Ljubljana:20210106T110000
DTSTAMP:20260420T043555Z
UID:fmf-AFLABS-URNIK:premaknjeno-srecanje:29230
ATTENDEE:1. letnik (Aplikativna fizika)
CATEGORIES:Entry,Standard
COLOR:darkgreen
DESCRIPTION:Predmet: Fizika I (APF-1)\, Vaje (V)\nLetniki: 1. letnik (Apli
 kativna fizika)\nIzvajalci: Marion Antonia Van Midden Mavrič\nProstor: P.
 01
LOCATION:P.01
ORGANIZER:Marion Antonia Van Midden Mavrič
RELATED-TO:fmf-AFLABS-URNIK:srecanje:4797
X-WR-TIMEZONE:Europe/Ljubljana
END:VEVENT
BEGIN:VEVENT
SUMMARY:Fizika I (APF-1)\, Vaje (V)
DTSTART;TZID=Europe/Ljubljana:20210113T100000
DTEND;TZID=Europe/Ljubljana:20210113T110000
DTSTAMP:20260420T043555Z
UID:fmf-AFLABS-URNIK:premaknjeno-srecanje:29231
ATTENDEE:1. letnik (Aplikativna fizika)
CATEGORIES:Entry,Standard
COLOR:darkgreen
DESCRIPTION:Predmet: Fizika I (APF-1)\, Vaje (V)\nLetniki: 1. letnik (Apli
 kativna fizika)\nIzvajalci: Marion Antonia Van Midden Mavrič\nProstor: P.
 01
LOCATION:P.01
ORGANIZER:Marion Antonia Van Midden Mavrič
RELATED-TO:fmf-AFLABS-URNIK:srecanje:4797
X-WR-TIMEZONE:Europe/Ljubljana
END:VEVENT
END:VCALENDAR
