BEGIN:VCALENDAR
VERSION:2.0
PRODID:-//AFLabs urnik izvoz - fmf//aflabs.si//SI
DTSTAMP:20260423T223845Z
NAME:UL FMF urnik
REFRESH-INTERVAL:PT1H
SOURCE:https://urnik.fmf.uni-lj.si/teacher/168?day=2024-02-12&export=1
URL:https://urnik.fmf.uni-lj.si/teacher/168?day=2024-02-12&export=1
X-PUBLISHED-TTL:PT1H
X-WR-CALNAME:UL FMF urnik
X-WR-TIMEZONE:Europe/Ljubljana
BEGIN:VTIMEZONE
TZID:Europe/Ljubljana
BEGIN:DAYLIGHT
DTSTART:20260329T020000
RDATE:20260329T020000
RDATE:20270328T020000
TZNAME:CEST
TZOFFSETFROM:+0100
TZOFFSETTO:+0200
END:DAYLIGHT
BEGIN:STANDARD
DTSTART:20261025T030000
RDATE:20261025T030000
RDATE:20271031T030000
TZNAME:CET
TZOFFSETFROM:+0200
TZOFFSETTO:+0100
END:STANDARD
END:VTIMEZONE
BEGIN:VEVENT
SUMMARY:Fizikalni praktikum (FKKT) ()\, Vaje (V)\, [2]
DTSTART;TZID=Europe/Ljubljana:20240220T140000
DTEND;TZID=Europe/Ljubljana:20240220T170000
DTSTAMP:20260423T223845Z
UID:fmf-AFLABS-URNIK:premaknjeno-srecanje:136999
CATEGORIES:Entry,Standard
COLOR:darkgreen
DESCRIPTION:Predmet: Fizikalni praktikum (FKKT) ()\, Vaje (V)\, [2]\nLetni
 ki: \nIzvajalci: Marion Antonia Van Midden Mavrič\nProstor: Praktikum 104
LOCATION:Praktikum 104
ORGANIZER:Marion Antonia Van Midden Mavrič
RELATED-TO:fmf-AFLABS-URNIK:srecanje:9881
X-WR-TIMEZONE:Europe/Ljubljana
END:VEVENT
BEGIN:VEVENT
SUMMARY:Fizikalni praktikum (FKKT) ()\, Vaje (V)\, [2]
DTSTART;TZID=Europe/Ljubljana:20240227T140000
DTEND;TZID=Europe/Ljubljana:20240227T170000
DTSTAMP:20260423T223845Z
UID:fmf-AFLABS-URNIK:premaknjeno-srecanje:137000
CATEGORIES:Entry,Standard
COLOR:darkgreen
DESCRIPTION:Predmet: Fizikalni praktikum (FKKT) ()\, Vaje (V)\, [2]\nLetni
 ki: \nIzvajalci: Marion Antonia Van Midden Mavrič\nProstor: Praktikum 104
LOCATION:Praktikum 104
ORGANIZER:Marion Antonia Van Midden Mavrič
RELATED-TO:fmf-AFLABS-URNIK:srecanje:9881
X-WR-TIMEZONE:Europe/Ljubljana
END:VEVENT
BEGIN:VEVENT
SUMMARY:Fizikalni praktikum (FKKT) ()\, Vaje (V)\, [2]
DTSTART;TZID=Europe/Ljubljana:20240305T140000
DTEND;TZID=Europe/Ljubljana:20240305T170000
DTSTAMP:20260423T223845Z
UID:fmf-AFLABS-URNIK:premaknjeno-srecanje:137001
CATEGORIES:Entry,Standard
COLOR:darkgreen
DESCRIPTION:Predmet: Fizikalni praktikum (FKKT) ()\, Vaje (V)\, [2]\nLetni
 ki: \nIzvajalci: Marion Antonia Van Midden Mavrič\nProstor: Praktikum 104
LOCATION:Praktikum 104
ORGANIZER:Marion Antonia Van Midden Mavrič
RELATED-TO:fmf-AFLABS-URNIK:srecanje:9881
X-WR-TIMEZONE:Europe/Ljubljana
END:VEVENT
BEGIN:VEVENT
SUMMARY:Fizikalni praktikum (FKKT) ()\, Vaje (V)\, [2]
DTSTART;TZID=Europe/Ljubljana:20240312T140000
DTEND;TZID=Europe/Ljubljana:20240312T170000
DTSTAMP:20260423T223845Z
UID:fmf-AFLABS-URNIK:premaknjeno-srecanje:137002
CATEGORIES:Entry,Standard
COLOR:darkgreen
DESCRIPTION:Predmet: Fizikalni praktikum (FKKT) ()\, Vaje (V)\, [2]\nLetni
 ki: \nIzvajalci: Marion Antonia Van Midden Mavrič\nProstor: Praktikum 104
LOCATION:Praktikum 104
ORGANIZER:Marion Antonia Van Midden Mavrič
RELATED-TO:fmf-AFLABS-URNIK:srecanje:9881
X-WR-TIMEZONE:Europe/Ljubljana
END:VEVENT
END:VCALENDAR
