BEGIN:VCALENDAR
VERSION:2.0
PRODID:-//AFLabs urnik izvoz - fmf//aflabs.si//SI
DTSTAMP:20260424T232543Z
NAME:UL FMF urnik
REFRESH-INTERVAL:PT1H
SOURCE:https://urnik.fmf.uni-lj.si/teacher/1691?day=2025-09-15&export=1
URL:https://urnik.fmf.uni-lj.si/teacher/1691?day=2025-09-15&export=1
X-PUBLISHED-TTL:PT1H
X-WR-CALNAME:UL FMF urnik
X-WR-TIMEZONE:Europe/Ljubljana
BEGIN:VTIMEZONE
TZID:Europe/Ljubljana
BEGIN:DAYLIGHT
DTSTART:20260329T020000
RDATE:20260329T020000
RDATE:20270328T020000
TZNAME:CEST
TZOFFSETFROM:+0100
TZOFFSETTO:+0200
END:DAYLIGHT
BEGIN:STANDARD
DTSTART:20261025T030000
RDATE:20261025T030000
RDATE:20271031T030000
TZNAME:CET
TZOFFSETFROM:+0200
TZOFFSETTO:+0100
END:STANDARD
END:VTIMEZONE
BEGIN:VEVENT
SUMMARY:Fizika (FFA - EM Farmacija) ()\, Vaje (V)\, [5]
DTSTART;TZID=Europe/Ljubljana:20251006T140000
DTEND;TZID=Europe/Ljubljana:20251006T160000
DTSTAMP:20260424T232543Z
UID:fmf-AFLABS-URNIK:premaknjeno-srecanje:228287
CATEGORIES:Entry,Standard
COLOR:darkgreen
DESCRIPTION:Predmet: Fizika (FFA - EM Farmacija) ()\, Vaje (V)\, [5]\nLetn
 iki: \nIzvajalci: Enej Caf\nProstor: F4
LOCATION:F4
ORGANIZER:Enej Caf
RELATED-TO:fmf-AFLABS-URNIK:srecanje:15881
X-WR-TIMEZONE:Europe/Ljubljana
END:VEVENT
BEGIN:VEVENT
SUMMARY:Fizika (FFA - EM Farmacija) ()\, Vaje (V)\, [5]
DTSTART;TZID=Europe/Ljubljana:20251013T140000
DTEND;TZID=Europe/Ljubljana:20251013T160000
DTSTAMP:20260424T232543Z
UID:fmf-AFLABS-URNIK:premaknjeno-srecanje:228288
CATEGORIES:Entry,Standard
COLOR:darkgreen
DESCRIPTION:Predmet: Fizika (FFA - EM Farmacija) ()\, Vaje (V)\, [5]\nLetn
 iki: \nIzvajalci: Enej Caf\nProstor: F4
LOCATION:F4
ORGANIZER:Enej Caf
RELATED-TO:fmf-AFLABS-URNIK:srecanje:15881
X-WR-TIMEZONE:Europe/Ljubljana
END:VEVENT
BEGIN:VEVENT
SUMMARY:Fizika (FFA - EM Farmacija) ()\, Vaje (V)\, [5]
DTSTART;TZID=Europe/Ljubljana:20251020T140000
DTEND;TZID=Europe/Ljubljana:20251020T160000
DTSTAMP:20260424T232543Z
UID:fmf-AFLABS-URNIK:premaknjeno-srecanje:228289
CATEGORIES:Entry,Standard
COLOR:darkgreen
DESCRIPTION:Predmet: Fizika (FFA - EM Farmacija) ()\, Vaje (V)\, [5]\nLetn
 iki: \nIzvajalci: Enej Caf\nProstor: F4
LOCATION:F4
ORGANIZER:Enej Caf
RELATED-TO:fmf-AFLABS-URNIK:srecanje:15881
X-WR-TIMEZONE:Europe/Ljubljana
END:VEVENT
BEGIN:VEVENT
SUMMARY:Seminar skupine za fiziko mehke in delno urejene snovi ()\, Semina
 r (S)
DTSTART;TZID=Europe/Ljubljana:20251007T100000
DTEND;TZID=Europe/Ljubljana:20251007T120000
DTSTAMP:20260424T232543Z
UID:fmf-AFLABS-URNIK:premaknjeno-srecanje:223610
CATEGORIES:Entry,Standard
COLOR:darkgreen
DESCRIPTION:Predmet: Seminar skupine za fiziko mehke in delno urejene snov
 i ()\, Seminar (S)\nLetniki: \nIzvajalci: Polona Aupič\, Enej Caf\, Simon
  Čopar\, Benjamin Knez\, Žiga Kos\, Nika Kralj\, Matevž Marinčič\, Pe
 ter Marinko\, Urban Mur\, Miha Ravnik\, Peter Ropač\, Andreja Šarlah\, G
 regor Skačej\, Daniel Svenšek\, Jaka Zaplotnik\, Slobodan Žumer\nProsto
 r: F7
LOCATION:F7
ORGANIZER:Polona Aupič, Enej Caf, Simon Čopar, Benjamin Knez, Žiga Kos,
  Nika Kralj, Matevž Marinčič, Peter Marinko, Urban Mur, Miha Ravnik, Pe
 ter Ropač, Andreja Šarlah, Gregor Skačej, Daniel Svenšek, Jaka Zaplotn
 ik, Slobodan Žumer
RELATED-TO:fmf-AFLABS-URNIK:srecanje:16298
X-WR-TIMEZONE:Europe/Ljubljana
END:VEVENT
BEGIN:VEVENT
SUMMARY:Seminar skupine za fiziko mehke in delno urejene snovi ()\, Semina
 r (S)
DTSTART;TZID=Europe/Ljubljana:20251014T100000
DTEND;TZID=Europe/Ljubljana:20251014T120000
DTSTAMP:20260424T232543Z
UID:fmf-AFLABS-URNIK:premaknjeno-srecanje:223611
CATEGORIES:Entry,Standard
COLOR:darkgreen
DESCRIPTION:Predmet: Seminar skupine za fiziko mehke in delno urejene snov
 i ()\, Seminar (S)\nLetniki: \nIzvajalci: Polona Aupič\, Enej Caf\, Simon
  Čopar\, Benjamin Knez\, Žiga Kos\, Nika Kralj\, Matevž Marinčič\, Pe
 ter Marinko\, Urban Mur\, Miha Ravnik\, Peter Ropač\, Andreja Šarlah\, G
 regor Skačej\, Daniel Svenšek\, Jaka Zaplotnik\, Slobodan Žumer\nProsto
 r: F7
LOCATION:F7
ORGANIZER:Polona Aupič, Enej Caf, Simon Čopar, Benjamin Knez, Žiga Kos,
  Nika Kralj, Matevž Marinčič, Peter Marinko, Urban Mur, Miha Ravnik, Pe
 ter Ropač, Andreja Šarlah, Gregor Skačej, Daniel Svenšek, Jaka Zaplotn
 ik, Slobodan Žumer
RELATED-TO:fmf-AFLABS-URNIK:srecanje:16298
X-WR-TIMEZONE:Europe/Ljubljana
END:VEVENT
BEGIN:VEVENT
SUMMARY:Soft matter seminar
DTSTART;TZID=Europe/Ljubljana:20251009T130000
DTEND;TZID=Europe/Ljubljana:20251009T140000
DTSTAMP:20260424T232543Z
UID:fmf-AFLABS-URNIK:rezervacija:24847
CATEGORIES:Reservation
COLOR:royalblue
DESCRIPTION:Predmeti: \nLetniki: \nIzvajalci: Enej Caf\, Simon Čopar\, Ž
 iga Kos\, Miha Ravnik\nProstori: Kuščerjev seminar
LOCATION:Kuščerjev seminar
ORGANIZER:Enej Caf, Simon Čopar, Žiga Kos, Miha Ravnik
X-WR-TIMEZONE:Europe/Ljubljana
END:VEVENT
BEGIN:VEVENT
SUMMARY:Soft matter seminar
DTSTART;TZID=Europe/Ljubljana:20251002T130000
DTEND;TZID=Europe/Ljubljana:20251002T140000
DTSTAMP:20260424T232543Z
UID:fmf-AFLABS-URNIK:rezervacija:24846
CATEGORIES:Reservation
COLOR:royalblue
DESCRIPTION:Predmeti: \nLetniki: \nIzvajalci: Enej Caf\, Simon Čopar\, Ž
 iga Kos\, Miha Ravnik\nProstori: Kuščerjev seminar
LOCATION:Kuščerjev seminar
ORGANIZER:Enej Caf, Simon Čopar, Žiga Kos, Miha Ravnik
X-WR-TIMEZONE:Europe/Ljubljana
END:VEVENT
BEGIN:VEVENT
SUMMARY:Soft matter seminar
DTSTART;TZID=Europe/Ljubljana:20251016T130000
DTEND;TZID=Europe/Ljubljana:20251016T140000
DTSTAMP:20260424T232543Z
UID:fmf-AFLABS-URNIK:rezervacija:24848
CATEGORIES:Reservation
COLOR:royalblue
DESCRIPTION:Predmeti: \nLetniki: \nIzvajalci: Enej Caf\, Simon Čopar\, Ž
 iga Kos\, Miha Ravnik\nProstori: Kuščerjev seminar
LOCATION:Kuščerjev seminar
ORGANIZER:Enej Caf, Simon Čopar, Žiga Kos, Miha Ravnik
X-WR-TIMEZONE:Europe/Ljubljana
END:VEVENT
END:VCALENDAR
