BEGIN:VCALENDAR
VERSION:2.0
PRODID:-//AFLabs urnik izvoz - fmf//aflabs.si//SI
DTSTAMP:20260423T172155Z
NAME:UL FMF urnik
REFRESH-INTERVAL:PT1H
SOURCE:https://urnik.fmf.uni-lj.si/teacher/16?day=2021-01-25&export=1
URL:https://urnik.fmf.uni-lj.si/teacher/16?day=2021-01-25&export=1
X-PUBLISHED-TTL:PT1H
X-WR-CALNAME:UL FMF urnik
X-WR-TIMEZONE:Europe/Ljubljana
BEGIN:VTIMEZONE
TZID:Europe/Ljubljana
BEGIN:DAYLIGHT
DTSTART:20260329T020000
RDATE:20260329T020000
RDATE:20270328T020000
TZNAME:CEST
TZOFFSETFROM:+0100
TZOFFSETTO:+0200
END:DAYLIGHT
BEGIN:STANDARD
DTSTART:20261025T030000
RDATE:20261025T030000
RDATE:20271031T030000
TZNAME:CET
TZOFFSETFROM:+0200
TZOFFSETTO:+0100
END:STANDARD
END:VTIMEZONE
BEGIN:VEVENT
SUMMARY:Govorilna ura ()\, Ostalo (O)
DTSTART;TZID=Europe/Ljubljana:20201221T100000
DTEND;TZID=Europe/Ljubljana:20201221T110000
DTSTAMP:20260423T172155Z
UID:fmf-AFLABS-URNIK:premaknjeno-srecanje:38704
CATEGORIES:Entry,Standard
COLOR:darkgreen
DESCRIPTION:Predmet: Govorilna ura ()\, Ostalo (O)\nLetniki: \nIzvajalci: 
 Andreja Drobnič-Vidic\nProstor: 5.04
LOCATION:5.04
ORGANIZER:Andreja Drobnič-Vidic
RELATED-TO:fmf-AFLABS-URNIK:srecanje:4846
X-WR-TIMEZONE:Europe/Ljubljana
END:VEVENT
BEGIN:VEVENT
SUMMARY:Govorilna ura ()\, Ostalo (O)
DTSTART;TZID=Europe/Ljubljana:20201228T100000
DTEND;TZID=Europe/Ljubljana:20201228T110000
DTSTAMP:20260423T172155Z
UID:fmf-AFLABS-URNIK:premaknjeno-srecanje:38705
CATEGORIES:Entry,Standard
COLOR:darkgreen
DESCRIPTION:Predmet: Govorilna ura ()\, Ostalo (O)\nLetniki: \nIzvajalci: 
 Andreja Drobnič-Vidic\nProstor: 5.04
LOCATION:5.04
ORGANIZER:Andreja Drobnič-Vidic
RELATED-TO:fmf-AFLABS-URNIK:srecanje:4846
X-WR-TIMEZONE:Europe/Ljubljana
END:VEVENT
BEGIN:VEVENT
SUMMARY:Govorilna ura ()\, Ostalo (O)
DTSTART;TZID=Europe/Ljubljana:20210104T100000
DTEND;TZID=Europe/Ljubljana:20210104T110000
DTSTAMP:20260423T172155Z
UID:fmf-AFLABS-URNIK:premaknjeno-srecanje:38706
CATEGORIES:Entry,Standard
COLOR:darkgreen
DESCRIPTION:Predmet: Govorilna ura ()\, Ostalo (O)\nLetniki: \nIzvajalci: 
 Andreja Drobnič-Vidic\nProstor: 5.04
LOCATION:5.04
ORGANIZER:Andreja Drobnič-Vidic
RELATED-TO:fmf-AFLABS-URNIK:srecanje:4846
X-WR-TIMEZONE:Europe/Ljubljana
END:VEVENT
BEGIN:VEVENT
SUMMARY:Govorilna ura ()\, Ostalo (O)
DTSTART;TZID=Europe/Ljubljana:20210111T100000
DTEND;TZID=Europe/Ljubljana:20210111T110000
DTSTAMP:20260423T172155Z
UID:fmf-AFLABS-URNIK:premaknjeno-srecanje:38707
CATEGORIES:Entry,Standard
COLOR:darkgreen
DESCRIPTION:Predmet: Govorilna ura ()\, Ostalo (O)\nLetniki: \nIzvajalci: 
 Andreja Drobnič-Vidic\nProstor: 5.04
LOCATION:5.04
ORGANIZER:Andreja Drobnič-Vidic
RELATED-TO:fmf-AFLABS-URNIK:srecanje:4846
X-WR-TIMEZONE:Europe/Ljubljana
END:VEVENT
BEGIN:VEVENT
SUMMARY:KEI ()\, Vaje (V)
DTSTART;TZID=Europe/Ljubljana:20201221T110000
DTEND;TZID=Europe/Ljubljana:20201221T130000
DTSTAMP:20260423T172155Z
UID:fmf-AFLABS-URNIK:premaknjeno-srecanje:46146
CATEGORIES:Entry,Standard
COLOR:darkgreen
DESCRIPTION:Predmet: KEI ()\, Vaje (V)\nLetniki: \nIzvajalci: Andreja Drob
 nič-Vidic\nProstor: FKKT
LOCATION:FKKT
ORGANIZER:Andreja Drobnič-Vidic
RELATED-TO:fmf-AFLABS-URNIK:srecanje:4884
X-WR-TIMEZONE:Europe/Ljubljana
END:VEVENT
BEGIN:VEVENT
SUMMARY:KEI ()\, Vaje (V)
DTSTART;TZID=Europe/Ljubljana:20201228T110000
DTEND;TZID=Europe/Ljubljana:20201228T130000
DTSTAMP:20260423T172155Z
UID:fmf-AFLABS-URNIK:premaknjeno-srecanje:46147
CATEGORIES:Entry,Standard
COLOR:darkgreen
DESCRIPTION:Predmet: KEI ()\, Vaje (V)\nLetniki: \nIzvajalci: Andreja Drob
 nič-Vidic\nProstor: FKKT
LOCATION:FKKT
ORGANIZER:Andreja Drobnič-Vidic
RELATED-TO:fmf-AFLABS-URNIK:srecanje:4884
X-WR-TIMEZONE:Europe/Ljubljana
END:VEVENT
BEGIN:VEVENT
SUMMARY:KEI ()\, Vaje (V)
DTSTART;TZID=Europe/Ljubljana:20210104T110000
DTEND;TZID=Europe/Ljubljana:20210104T130000
DTSTAMP:20260423T172155Z
UID:fmf-AFLABS-URNIK:premaknjeno-srecanje:46148
CATEGORIES:Entry,Standard
COLOR:darkgreen
DESCRIPTION:Predmet: KEI ()\, Vaje (V)\nLetniki: \nIzvajalci: Andreja Drob
 nič-Vidic\nProstor: FKKT
LOCATION:FKKT
ORGANIZER:Andreja Drobnič-Vidic
RELATED-TO:fmf-AFLABS-URNIK:srecanje:4884
X-WR-TIMEZONE:Europe/Ljubljana
END:VEVENT
BEGIN:VEVENT
SUMMARY:KEI ()\, Vaje (V)
DTSTART;TZID=Europe/Ljubljana:20210111T110000
DTEND;TZID=Europe/Ljubljana:20210111T130000
DTSTAMP:20260423T172155Z
UID:fmf-AFLABS-URNIK:premaknjeno-srecanje:46149
CATEGORIES:Entry,Standard
COLOR:darkgreen
DESCRIPTION:Predmet: KEI ()\, Vaje (V)\nLetniki: \nIzvajalci: Andreja Drob
 nič-Vidic\nProstor: FKKT
LOCATION:FKKT
ORGANIZER:Andreja Drobnič-Vidic
RELATED-TO:fmf-AFLABS-URNIK:srecanje:4884
X-WR-TIMEZONE:Europe/Ljubljana
END:VEVENT
BEGIN:VEVENT
SUMMARY:KEI ()\, Vaje (V)
DTSTART;TZID=Europe/Ljubljana:20201221T130000
DTEND;TZID=Europe/Ljubljana:20201221T150000
DTSTAMP:20260423T172155Z
UID:fmf-AFLABS-URNIK:premaknjeno-srecanje:46210
CATEGORIES:Entry,Standard
COLOR:darkgreen
DESCRIPTION:Predmet: KEI ()\, Vaje (V)\nLetniki: \nIzvajalci: Andreja Drob
 nič-Vidic\nProstor: FKKT
LOCATION:FKKT
ORGANIZER:Andreja Drobnič-Vidic
RELATED-TO:fmf-AFLABS-URNIK:srecanje:4885
X-WR-TIMEZONE:Europe/Ljubljana
END:VEVENT
BEGIN:VEVENT
SUMMARY:KEI ()\, Vaje (V)
DTSTART;TZID=Europe/Ljubljana:20201228T130000
DTEND;TZID=Europe/Ljubljana:20201228T150000
DTSTAMP:20260423T172155Z
UID:fmf-AFLABS-URNIK:premaknjeno-srecanje:46211
CATEGORIES:Entry,Standard
COLOR:darkgreen
DESCRIPTION:Predmet: KEI ()\, Vaje (V)\nLetniki: \nIzvajalci: Andreja Drob
 nič-Vidic\nProstor: FKKT
LOCATION:FKKT
ORGANIZER:Andreja Drobnič-Vidic
RELATED-TO:fmf-AFLABS-URNIK:srecanje:4885
X-WR-TIMEZONE:Europe/Ljubljana
END:VEVENT
BEGIN:VEVENT
SUMMARY:KEI ()\, Vaje (V)
DTSTART;TZID=Europe/Ljubljana:20210104T130000
DTEND;TZID=Europe/Ljubljana:20210104T150000
DTSTAMP:20260423T172155Z
UID:fmf-AFLABS-URNIK:premaknjeno-srecanje:46212
CATEGORIES:Entry,Standard
COLOR:darkgreen
DESCRIPTION:Predmet: KEI ()\, Vaje (V)\nLetniki: \nIzvajalci: Andreja Drob
 nič-Vidic\nProstor: FKKT
LOCATION:FKKT
ORGANIZER:Andreja Drobnič-Vidic
RELATED-TO:fmf-AFLABS-URNIK:srecanje:4885
X-WR-TIMEZONE:Europe/Ljubljana
END:VEVENT
BEGIN:VEVENT
SUMMARY:KEI ()\, Vaje (V)
DTSTART;TZID=Europe/Ljubljana:20210111T130000
DTEND;TZID=Europe/Ljubljana:20210111T150000
DTSTAMP:20260423T172155Z
UID:fmf-AFLABS-URNIK:premaknjeno-srecanje:46213
CATEGORIES:Entry,Standard
COLOR:darkgreen
DESCRIPTION:Predmet: KEI ()\, Vaje (V)\nLetniki: \nIzvajalci: Andreja Drob
 nič-Vidic\nProstor: FKKT
LOCATION:FKKT
ORGANIZER:Andreja Drobnič-Vidic
RELATED-TO:fmf-AFLABS-URNIK:srecanje:4885
X-WR-TIMEZONE:Europe/Ljubljana
END:VEVENT
BEGIN:VEVENT
SUMMARY:Matematika 1 (TV FKKT) ()\, Predavanja (P)
DTSTART;TZID=Europe/Ljubljana:20201223T090000
DTEND;TZID=Europe/Ljubljana:20201223T120000
DTSTAMP:20260423T172155Z
UID:fmf-AFLABS-URNIK:premaknjeno-srecanje:63002
CATEGORIES:Entry,Standard
COLOR:darkgreen
DESCRIPTION:Predmet: Matematika 1 (TV FKKT) ()\, Predavanja (P)\nLetniki: 
 \nIzvajalci: Andreja Drobnič-Vidic\nProstor: FKKT
LOCATION:FKKT
ORGANIZER:Andreja Drobnič-Vidic
RELATED-TO:fmf-AFLABS-URNIK:srecanje:4969
X-WR-TIMEZONE:Europe/Ljubljana
END:VEVENT
BEGIN:VEVENT
SUMMARY:Matematika 1 (TV FKKT) ()\, Predavanja (P)
DTSTART;TZID=Europe/Ljubljana:20201230T090000
DTEND;TZID=Europe/Ljubljana:20201230T120000
DTSTAMP:20260423T172155Z
UID:fmf-AFLABS-URNIK:premaknjeno-srecanje:63003
CATEGORIES:Entry,Standard
COLOR:darkgreen
DESCRIPTION:Predmet: Matematika 1 (TV FKKT) ()\, Predavanja (P)\nLetniki: 
 \nIzvajalci: Andreja Drobnič-Vidic\nProstor: FKKT
LOCATION:FKKT
ORGANIZER:Andreja Drobnič-Vidic
RELATED-TO:fmf-AFLABS-URNIK:srecanje:4969
X-WR-TIMEZONE:Europe/Ljubljana
END:VEVENT
BEGIN:VEVENT
SUMMARY:Matematika 1 (TV FKKT) ()\, Predavanja (P)
DTSTART;TZID=Europe/Ljubljana:20210106T090000
DTEND;TZID=Europe/Ljubljana:20210106T120000
DTSTAMP:20260423T172155Z
UID:fmf-AFLABS-URNIK:premaknjeno-srecanje:63004
CATEGORIES:Entry,Standard
COLOR:darkgreen
DESCRIPTION:Predmet: Matematika 1 (TV FKKT) ()\, Predavanja (P)\nLetniki: 
 \nIzvajalci: Andreja Drobnič-Vidic\nProstor: FKKT
LOCATION:FKKT
ORGANIZER:Andreja Drobnič-Vidic
RELATED-TO:fmf-AFLABS-URNIK:srecanje:4969
X-WR-TIMEZONE:Europe/Ljubljana
END:VEVENT
BEGIN:VEVENT
SUMMARY:Matematika 1 (TV FKKT) ()\, Predavanja (P)
DTSTART;TZID=Europe/Ljubljana:20210113T090000
DTEND;TZID=Europe/Ljubljana:20210113T120000
DTSTAMP:20260423T172155Z
UID:fmf-AFLABS-URNIK:premaknjeno-srecanje:63005
CATEGORIES:Entry,Standard
COLOR:darkgreen
DESCRIPTION:Predmet: Matematika 1 (TV FKKT) ()\, Predavanja (P)\nLetniki: 
 \nIzvajalci: Andreja Drobnič-Vidic\nProstor: FKKT
LOCATION:FKKT
ORGANIZER:Andreja Drobnič-Vidic
RELATED-TO:fmf-AFLABS-URNIK:srecanje:4969
X-WR-TIMEZONE:Europe/Ljubljana
END:VEVENT
BEGIN:VEVENT
SUMMARY:TOTP (NTF) ()\, Predavanja (P)
DTSTART;TZID=Europe/Ljubljana:20201224T080000
DTEND;TZID=Europe/Ljubljana:20201224T100000
DTSTAMP:20260423T172155Z
UID:fmf-AFLABS-URNIK:premaknjeno-srecanje:107385
CATEGORIES:Entry,Standard
COLOR:darkgreen
DESCRIPTION:Predmet: TOTP (NTF) ()\, Predavanja (P)\nLetniki: \nIzvajalci:
  Andreja Drobnič-Vidic\nProstor: NTF
LOCATION:NTF
ORGANIZER:Andreja Drobnič-Vidic
RELATED-TO:fmf-AFLABS-URNIK:srecanje:5209
X-WR-TIMEZONE:Europe/Ljubljana
END:VEVENT
BEGIN:VEVENT
SUMMARY:TOTP (NTF) ()\, Predavanja (P)
DTSTART;TZID=Europe/Ljubljana:20201231T080000
DTEND;TZID=Europe/Ljubljana:20201231T100000
DTSTAMP:20260423T172155Z
UID:fmf-AFLABS-URNIK:premaknjeno-srecanje:107386
CATEGORIES:Entry,Standard
COLOR:darkgreen
DESCRIPTION:Predmet: TOTP (NTF) ()\, Predavanja (P)\nLetniki: \nIzvajalci:
  Andreja Drobnič-Vidic\nProstor: NTF
LOCATION:NTF
ORGANIZER:Andreja Drobnič-Vidic
RELATED-TO:fmf-AFLABS-URNIK:srecanje:5209
X-WR-TIMEZONE:Europe/Ljubljana
END:VEVENT
BEGIN:VEVENT
SUMMARY:TOTP (NTF) ()\, Predavanja (P)
DTSTART;TZID=Europe/Ljubljana:20210107T080000
DTEND;TZID=Europe/Ljubljana:20210107T100000
DTSTAMP:20260423T172155Z
UID:fmf-AFLABS-URNIK:premaknjeno-srecanje:107387
CATEGORIES:Entry,Standard
COLOR:darkgreen
DESCRIPTION:Predmet: TOTP (NTF) ()\, Predavanja (P)\nLetniki: \nIzvajalci:
  Andreja Drobnič-Vidic\nProstor: NTF
LOCATION:NTF
ORGANIZER:Andreja Drobnič-Vidic
RELATED-TO:fmf-AFLABS-URNIK:srecanje:5209
X-WR-TIMEZONE:Europe/Ljubljana
END:VEVENT
BEGIN:VEVENT
SUMMARY:TOTP (NTF) ()\, Predavanja (P)
DTSTART;TZID=Europe/Ljubljana:20210114T080000
DTEND;TZID=Europe/Ljubljana:20210114T100000
DTSTAMP:20260423T172155Z
UID:fmf-AFLABS-URNIK:premaknjeno-srecanje:107388
CATEGORIES:Entry,Standard
COLOR:darkgreen
DESCRIPTION:Predmet: TOTP (NTF) ()\, Predavanja (P)\nLetniki: \nIzvajalci:
  Andreja Drobnič-Vidic\nProstor: NTF
LOCATION:NTF
ORGANIZER:Andreja Drobnič-Vidic
RELATED-TO:fmf-AFLABS-URNIK:srecanje:5209
X-WR-TIMEZONE:Europe/Ljubljana
END:VEVENT
BEGIN:VEVENT
SUMMARY:TOTP (NTF) ()\, Predavanja (P)
DTSTART;TZID=Europe/Ljubljana:20201225T080000
DTEND;TZID=Europe/Ljubljana:20201225T100000
DTSTAMP:20260423T172155Z
UID:fmf-AFLABS-URNIK:premaknjeno-srecanje:107432
CATEGORIES:Entry,Standard
COLOR:darkgreen
DESCRIPTION:Predmet: TOTP (NTF) ()\, Predavanja (P)\nLetniki: \nIzvajalci:
  Andreja Drobnič-Vidic\nProstor: NTF
LOCATION:NTF
ORGANIZER:Andreja Drobnič-Vidic
RELATED-TO:fmf-AFLABS-URNIK:srecanje:5210
X-WR-TIMEZONE:Europe/Ljubljana
END:VEVENT
BEGIN:VEVENT
SUMMARY:TOTP (NTF) ()\, Predavanja (P)
DTSTART;TZID=Europe/Ljubljana:20210101T080000
DTEND;TZID=Europe/Ljubljana:20210101T100000
DTSTAMP:20260423T172155Z
UID:fmf-AFLABS-URNIK:premaknjeno-srecanje:107433
CATEGORIES:Entry,Standard
COLOR:darkgreen
DESCRIPTION:Predmet: TOTP (NTF) ()\, Predavanja (P)\nLetniki: \nIzvajalci:
  Andreja Drobnič-Vidic\nProstor: NTF
LOCATION:NTF
ORGANIZER:Andreja Drobnič-Vidic
RELATED-TO:fmf-AFLABS-URNIK:srecanje:5210
X-WR-TIMEZONE:Europe/Ljubljana
END:VEVENT
BEGIN:VEVENT
SUMMARY:TOTP (NTF) ()\, Predavanja (P)
DTSTART;TZID=Europe/Ljubljana:20210108T080000
DTEND;TZID=Europe/Ljubljana:20210108T100000
DTSTAMP:20260423T172155Z
UID:fmf-AFLABS-URNIK:premaknjeno-srecanje:107434
CATEGORIES:Entry,Standard
COLOR:darkgreen
DESCRIPTION:Predmet: TOTP (NTF) ()\, Predavanja (P)\nLetniki: \nIzvajalci:
  Andreja Drobnič-Vidic\nProstor: NTF
LOCATION:NTF
ORGANIZER:Andreja Drobnič-Vidic
RELATED-TO:fmf-AFLABS-URNIK:srecanje:5210
X-WR-TIMEZONE:Europe/Ljubljana
END:VEVENT
BEGIN:VEVENT
SUMMARY:TOTP (NTF) ()\, Predavanja (P)
DTSTART;TZID=Europe/Ljubljana:20210115T080000
DTEND;TZID=Europe/Ljubljana:20210115T100000
DTSTAMP:20260423T172155Z
UID:fmf-AFLABS-URNIK:premaknjeno-srecanje:107435
CATEGORIES:Entry,Standard
COLOR:darkgreen
DESCRIPTION:Predmet: TOTP (NTF) ()\, Predavanja (P)\nLetniki: \nIzvajalci:
  Andreja Drobnič-Vidic\nProstor: NTF
LOCATION:NTF
ORGANIZER:Andreja Drobnič-Vidic
RELATED-TO:fmf-AFLABS-URNIK:srecanje:5210
X-WR-TIMEZONE:Europe/Ljubljana
END:VEVENT
BEGIN:VEVENT
SUMMARY:None\, Ostalo (O)
DTSTART;TZID=Europe/Ljubljana:20210215T140000
DTEND;TZID=Europe/Ljubljana:20210215T160000
DTSTAMP:20260423T172155Z
UID:fmf-AFLABS-URNIK:premaknjeno-srecanje:48
CATEGORIES:Entry,Standard
COLOR:darkgreen
DESCRIPTION:Predmet: None\, Ostalo (O)\nLetniki: /\nIzvajalci: Andreja Dro
 bnič-Vidic\nProstor: FKKT
LOCATION:FKKT
ORGANIZER:Andreja Drobnič-Vidic
RELATED-TO:fmf-AFLABS-URNIK:srecanje:5431
X-WR-TIMEZONE:Europe/Ljubljana
END:VEVENT
BEGIN:VEVENT
SUMMARY:None\, Ostalo (O)
DTSTART;TZID=Europe/Ljubljana:20210222T140000
DTEND;TZID=Europe/Ljubljana:20210222T160000
DTSTAMP:20260423T172155Z
UID:fmf-AFLABS-URNIK:premaknjeno-srecanje:49
CATEGORIES:Entry,Standard
COLOR:darkgreen
DESCRIPTION:Predmet: None\, Ostalo (O)\nLetniki: /\nIzvajalci: Andreja Dro
 bnič-Vidic\nProstor: FKKT
LOCATION:FKKT
ORGANIZER:Andreja Drobnič-Vidic
RELATED-TO:fmf-AFLABS-URNIK:srecanje:5431
X-WR-TIMEZONE:Europe/Ljubljana
END:VEVENT
BEGIN:VEVENT
SUMMARY:None\, Ostalo (O)
DTSTART;TZID=Europe/Ljubljana:20210301T140000
DTEND;TZID=Europe/Ljubljana:20210301T160000
DTSTAMP:20260423T172155Z
UID:fmf-AFLABS-URNIK:premaknjeno-srecanje:50
CATEGORIES:Entry,Standard
COLOR:darkgreen
DESCRIPTION:Predmet: None\, Ostalo (O)\nLetniki: /\nIzvajalci: Andreja Dro
 bnič-Vidic\nProstor: FKKT
LOCATION:FKKT
ORGANIZER:Andreja Drobnič-Vidic
RELATED-TO:fmf-AFLABS-URNIK:srecanje:5431
X-WR-TIMEZONE:Europe/Ljubljana
END:VEVENT
BEGIN:VEVENT
SUMMARY:Govorilna ura ()\, Ostalo (O)
DTSTART;TZID=Europe/Ljubljana:20210215T090000
DTEND;TZID=Europe/Ljubljana:20210215T100000
DTSTAMP:20260423T172155Z
UID:fmf-AFLABS-URNIK:premaknjeno-srecanje:38468
CATEGORIES:Entry,Standard
COLOR:darkgreen
DESCRIPTION:Predmet: Govorilna ura ()\, Ostalo (O)\nLetniki: \nIzvajalci: 
 Andreja Drobnič-Vidic\nProstor: 5.04
LOCATION:5.04
ORGANIZER:Andreja Drobnič-Vidic
RELATED-TO:fmf-AFLABS-URNIK:srecanje:5583
X-WR-TIMEZONE:Europe/Ljubljana
END:VEVENT
BEGIN:VEVENT
SUMMARY:Govorilna ura ()\, Ostalo (O)
DTSTART;TZID=Europe/Ljubljana:20210222T090000
DTEND;TZID=Europe/Ljubljana:20210222T100000
DTSTAMP:20260423T172155Z
UID:fmf-AFLABS-URNIK:premaknjeno-srecanje:38469
CATEGORIES:Entry,Standard
COLOR:darkgreen
DESCRIPTION:Predmet: Govorilna ura ()\, Ostalo (O)\nLetniki: \nIzvajalci: 
 Andreja Drobnič-Vidic\nProstor: 5.04
LOCATION:5.04
ORGANIZER:Andreja Drobnič-Vidic
RELATED-TO:fmf-AFLABS-URNIK:srecanje:5583
X-WR-TIMEZONE:Europe/Ljubljana
END:VEVENT
BEGIN:VEVENT
SUMMARY:Govorilna ura ()\, Ostalo (O)
DTSTART;TZID=Europe/Ljubljana:20210301T090000
DTEND;TZID=Europe/Ljubljana:20210301T100000
DTSTAMP:20260423T172155Z
UID:fmf-AFLABS-URNIK:premaknjeno-srecanje:38470
CATEGORIES:Entry,Standard
COLOR:darkgreen
DESCRIPTION:Predmet: Govorilna ura ()\, Ostalo (O)\nLetniki: \nIzvajalci: 
 Andreja Drobnič-Vidic\nProstor: 5.04
LOCATION:5.04
ORGANIZER:Andreja Drobnič-Vidic
RELATED-TO:fmf-AFLABS-URNIK:srecanje:5583
X-WR-TIMEZONE:Europe/Ljubljana
END:VEVENT
BEGIN:VEVENT
SUMMARY:KEMINŽ 1 ()\, Vaje (V)
DTSTART;TZID=Europe/Ljubljana:20210215T100000
DTEND;TZID=Europe/Ljubljana:20210215T120000
DTSTAMP:20260423T172155Z
UID:fmf-AFLABS-URNIK:premaknjeno-srecanje:46293
CATEGORIES:Entry,Standard
COLOR:darkgreen
DESCRIPTION:Predmet: KEMINŽ 1 ()\, Vaje (V)\nLetniki: \nIzvajalci: Andrej
 a Drobnič-Vidic\nProstor: FKKT
LOCATION:FKKT
ORGANIZER:Andreja Drobnič-Vidic
RELATED-TO:fmf-AFLABS-URNIK:srecanje:5627
X-WR-TIMEZONE:Europe/Ljubljana
END:VEVENT
BEGIN:VEVENT
SUMMARY:KEMINŽ 1 ()\, Vaje (V)
DTSTART;TZID=Europe/Ljubljana:20210222T100000
DTEND;TZID=Europe/Ljubljana:20210222T120000
DTSTAMP:20260423T172155Z
UID:fmf-AFLABS-URNIK:premaknjeno-srecanje:46294
CATEGORIES:Entry,Standard
COLOR:darkgreen
DESCRIPTION:Predmet: KEMINŽ 1 ()\, Vaje (V)\nLetniki: \nIzvajalci: Andrej
 a Drobnič-Vidic\nProstor: FKKT
LOCATION:FKKT
ORGANIZER:Andreja Drobnič-Vidic
RELATED-TO:fmf-AFLABS-URNIK:srecanje:5627
X-WR-TIMEZONE:Europe/Ljubljana
END:VEVENT
BEGIN:VEVENT
SUMMARY:KEMINŽ 1 ()\, Vaje (V)
DTSTART;TZID=Europe/Ljubljana:20210301T100000
DTEND;TZID=Europe/Ljubljana:20210301T120000
DTSTAMP:20260423T172155Z
UID:fmf-AFLABS-URNIK:premaknjeno-srecanje:46295
CATEGORIES:Entry,Standard
COLOR:darkgreen
DESCRIPTION:Predmet: KEMINŽ 1 ()\, Vaje (V)\nLetniki: \nIzvajalci: Andrej
 a Drobnič-Vidic\nProstor: FKKT
LOCATION:FKKT
ORGANIZER:Andreja Drobnič-Vidic
RELATED-TO:fmf-AFLABS-URNIK:srecanje:5627
X-WR-TIMEZONE:Europe/Ljubljana
END:VEVENT
BEGIN:VEVENT
SUMMARY:KEMINŽ 1 ()\, Vaje (V)
DTSTART;TZID=Europe/Ljubljana:20210215T120000
DTEND;TZID=Europe/Ljubljana:20210215T140000
DTSTAMP:20260423T172155Z
UID:fmf-AFLABS-URNIK:premaknjeno-srecanje:46388
CATEGORIES:Entry,Standard
COLOR:darkgreen
DESCRIPTION:Predmet: KEMINŽ 1 ()\, Vaje (V)\nLetniki: \nIzvajalci: Andrej
 a Drobnič-Vidic\nProstor: FKKT
LOCATION:FKKT
ORGANIZER:Andreja Drobnič-Vidic
RELATED-TO:fmf-AFLABS-URNIK:srecanje:5628
X-WR-TIMEZONE:Europe/Ljubljana
END:VEVENT
BEGIN:VEVENT
SUMMARY:KEMINŽ 1 ()\, Vaje (V)
DTSTART;TZID=Europe/Ljubljana:20210222T120000
DTEND;TZID=Europe/Ljubljana:20210222T140000
DTSTAMP:20260423T172155Z
UID:fmf-AFLABS-URNIK:premaknjeno-srecanje:46389
CATEGORIES:Entry,Standard
COLOR:darkgreen
DESCRIPTION:Predmet: KEMINŽ 1 ()\, Vaje (V)\nLetniki: \nIzvajalci: Andrej
 a Drobnič-Vidic\nProstor: FKKT
LOCATION:FKKT
ORGANIZER:Andreja Drobnič-Vidic
RELATED-TO:fmf-AFLABS-URNIK:srecanje:5628
X-WR-TIMEZONE:Europe/Ljubljana
END:VEVENT
BEGIN:VEVENT
SUMMARY:KEMINŽ 1 ()\, Vaje (V)
DTSTART;TZID=Europe/Ljubljana:20210301T120000
DTEND;TZID=Europe/Ljubljana:20210301T140000
DTSTAMP:20260423T172155Z
UID:fmf-AFLABS-URNIK:premaknjeno-srecanje:46390
CATEGORIES:Entry,Standard
COLOR:darkgreen
DESCRIPTION:Predmet: KEMINŽ 1 ()\, Vaje (V)\nLetniki: \nIzvajalci: Andrej
 a Drobnič-Vidic\nProstor: FKKT
LOCATION:FKKT
ORGANIZER:Andreja Drobnič-Vidic
RELATED-TO:fmf-AFLABS-URNIK:srecanje:5628
X-WR-TIMEZONE:Europe/Ljubljana
END:VEVENT
BEGIN:VEVENT
SUMMARY:ZUNANJE OBVEZNOSTI ()\, Vaje (V)
DTSTART;TZID=Europe/Ljubljana:20210219T080000
DTEND;TZID=Europe/Ljubljana:20210219T120000
DTSTAMP:20260423T172155Z
UID:fmf-AFLABS-URNIK:premaknjeno-srecanje:121748
CATEGORIES:Entry,Standard
COLOR:darkgreen
DESCRIPTION:Predmet: ZUNANJE OBVEZNOSTI ()\, Vaje (V)\nLetniki: \nIzvajalc
 i: Andreja Drobnič-Vidic\nProstor: ZF
LOCATION:ZF
ORGANIZER:Andreja Drobnič-Vidic
RELATED-TO:fmf-AFLABS-URNIK:srecanje:5986
X-WR-TIMEZONE:Europe/Ljubljana
END:VEVENT
BEGIN:VEVENT
SUMMARY:ZUNANJE OBVEZNOSTI ()\, Vaje (V)
DTSTART;TZID=Europe/Ljubljana:20210226T080000
DTEND;TZID=Europe/Ljubljana:20210226T120000
DTSTAMP:20260423T172155Z
UID:fmf-AFLABS-URNIK:premaknjeno-srecanje:121749
CATEGORIES:Entry,Standard
COLOR:darkgreen
DESCRIPTION:Predmet: ZUNANJE OBVEZNOSTI ()\, Vaje (V)\nLetniki: \nIzvajalc
 i: Andreja Drobnič-Vidic\nProstor: ZF
LOCATION:ZF
ORGANIZER:Andreja Drobnič-Vidic
RELATED-TO:fmf-AFLABS-URNIK:srecanje:5986
X-WR-TIMEZONE:Europe/Ljubljana
END:VEVENT
END:VCALENDAR
