BEGIN:VCALENDAR
VERSION:2.0
PRODID:-//AFLabs urnik izvoz - fmf//aflabs.si//SI
DTSTAMP:20260422T112736Z
NAME:UL FMF urnik
REFRESH-INTERVAL:PT1H
SOURCE:https://urnik.fmf.uni-lj.si/teacher/16?day=2021-06-21&export=1
URL:https://urnik.fmf.uni-lj.si/teacher/16?day=2021-06-21&export=1
X-PUBLISHED-TTL:PT1H
X-WR-CALNAME:UL FMF urnik
X-WR-TIMEZONE:Europe/Ljubljana
BEGIN:VTIMEZONE
TZID:Europe/Ljubljana
BEGIN:DAYLIGHT
DTSTART:20260329T020000
RDATE:20260329T020000
RDATE:20270328T020000
TZNAME:CEST
TZOFFSETFROM:+0100
TZOFFSETTO:+0200
END:DAYLIGHT
BEGIN:STANDARD
DTSTART:20261025T030000
RDATE:20261025T030000
RDATE:20271031T030000
TZNAME:CET
TZOFFSETFROM:+0200
TZOFFSETTO:+0100
END:STANDARD
END:VTIMEZONE
BEGIN:VEVENT
SUMMARY:None\, Ostalo (O)
DTSTART;TZID=Europe/Ljubljana:20210517T140000
DTEND;TZID=Europe/Ljubljana:20210517T160000
DTSTAMP:20260422T112736Z
UID:fmf-AFLABS-URNIK:premaknjeno-srecanje:61
CATEGORIES:Entry,Standard
COLOR:darkgreen
DESCRIPTION:Predmet: None\, Ostalo (O)\nLetniki: /\nIzvajalci: Andreja Dro
 bnič-Vidic\nProstor: FKKT
LOCATION:FKKT
ORGANIZER:Andreja Drobnič-Vidic
RELATED-TO:fmf-AFLABS-URNIK:srecanje:5431
X-WR-TIMEZONE:Europe/Ljubljana
END:VEVENT
BEGIN:VEVENT
SUMMARY:None\, Ostalo (O)
DTSTART;TZID=Europe/Ljubljana:20210524T140000
DTEND;TZID=Europe/Ljubljana:20210524T160000
DTSTAMP:20260422T112736Z
UID:fmf-AFLABS-URNIK:premaknjeno-srecanje:62
CATEGORIES:Entry,Standard
COLOR:darkgreen
DESCRIPTION:Predmet: None\, Ostalo (O)\nLetniki: /\nIzvajalci: Andreja Dro
 bnič-Vidic\nProstor: FKKT
LOCATION:FKKT
ORGANIZER:Andreja Drobnič-Vidic
RELATED-TO:fmf-AFLABS-URNIK:srecanje:5431
X-WR-TIMEZONE:Europe/Ljubljana
END:VEVENT
BEGIN:VEVENT
SUMMARY:None\, Ostalo (O)
DTSTART;TZID=Europe/Ljubljana:20210531T140000
DTEND;TZID=Europe/Ljubljana:20210531T160000
DTSTAMP:20260422T112736Z
UID:fmf-AFLABS-URNIK:premaknjeno-srecanje:63
CATEGORIES:Entry,Standard
COLOR:darkgreen
DESCRIPTION:Predmet: None\, Ostalo (O)\nLetniki: /\nIzvajalci: Andreja Dro
 bnič-Vidic\nProstor: FKKT
LOCATION:FKKT
ORGANIZER:Andreja Drobnič-Vidic
RELATED-TO:fmf-AFLABS-URNIK:srecanje:5431
X-WR-TIMEZONE:Europe/Ljubljana
END:VEVENT
BEGIN:VEVENT
SUMMARY:Govorilna ura ()\, Ostalo (O)
DTSTART;TZID=Europe/Ljubljana:20210517T090000
DTEND;TZID=Europe/Ljubljana:20210517T100000
DTSTAMP:20260422T112736Z
UID:fmf-AFLABS-URNIK:premaknjeno-srecanje:38481
CATEGORIES:Entry,Standard
COLOR:darkgreen
DESCRIPTION:Predmet: Govorilna ura ()\, Ostalo (O)\nLetniki: \nIzvajalci: 
 Andreja Drobnič-Vidic\nProstor: 5.04
LOCATION:5.04
ORGANIZER:Andreja Drobnič-Vidic
RELATED-TO:fmf-AFLABS-URNIK:srecanje:5583
X-WR-TIMEZONE:Europe/Ljubljana
END:VEVENT
BEGIN:VEVENT
SUMMARY:Govorilna ura ()\, Ostalo (O)
DTSTART;TZID=Europe/Ljubljana:20210524T090000
DTEND;TZID=Europe/Ljubljana:20210524T100000
DTSTAMP:20260422T112736Z
UID:fmf-AFLABS-URNIK:premaknjeno-srecanje:38482
CATEGORIES:Entry,Standard
COLOR:darkgreen
DESCRIPTION:Predmet: Govorilna ura ()\, Ostalo (O)\nLetniki: \nIzvajalci: 
 Andreja Drobnič-Vidic\nProstor: 5.04
LOCATION:5.04
ORGANIZER:Andreja Drobnič-Vidic
RELATED-TO:fmf-AFLABS-URNIK:srecanje:5583
X-WR-TIMEZONE:Europe/Ljubljana
END:VEVENT
BEGIN:VEVENT
SUMMARY:Govorilna ura ()\, Ostalo (O)
DTSTART;TZID=Europe/Ljubljana:20210531T090000
DTEND;TZID=Europe/Ljubljana:20210531T100000
DTSTAMP:20260422T112736Z
UID:fmf-AFLABS-URNIK:premaknjeno-srecanje:38483
CATEGORIES:Entry,Standard
COLOR:darkgreen
DESCRIPTION:Predmet: Govorilna ura ()\, Ostalo (O)\nLetniki: \nIzvajalci: 
 Andreja Drobnič-Vidic\nProstor: 5.04
LOCATION:5.04
ORGANIZER:Andreja Drobnič-Vidic
RELATED-TO:fmf-AFLABS-URNIK:srecanje:5583
X-WR-TIMEZONE:Europe/Ljubljana
END:VEVENT
BEGIN:VEVENT
SUMMARY:KEMINŽ 1 ()\, Vaje (V)
DTSTART;TZID=Europe/Ljubljana:20210517T100000
DTEND;TZID=Europe/Ljubljana:20210517T120000
DTSTAMP:20260422T112736Z
UID:fmf-AFLABS-URNIK:premaknjeno-srecanje:46306
CATEGORIES:Entry,Standard
COLOR:darkgreen
DESCRIPTION:Predmet: KEMINŽ 1 ()\, Vaje (V)\nLetniki: \nIzvajalci: Andrej
 a Drobnič-Vidic\nProstor: FKKT
LOCATION:FKKT
ORGANIZER:Andreja Drobnič-Vidic
RELATED-TO:fmf-AFLABS-URNIK:srecanje:5627
X-WR-TIMEZONE:Europe/Ljubljana
END:VEVENT
BEGIN:VEVENT
SUMMARY:KEMINŽ 1 ()\, Vaje (V)
DTSTART;TZID=Europe/Ljubljana:20210524T100000
DTEND;TZID=Europe/Ljubljana:20210524T120000
DTSTAMP:20260422T112736Z
UID:fmf-AFLABS-URNIK:premaknjeno-srecanje:46307
CATEGORIES:Entry,Standard
COLOR:darkgreen
DESCRIPTION:Predmet: KEMINŽ 1 ()\, Vaje (V)\nLetniki: \nIzvajalci: Andrej
 a Drobnič-Vidic\nProstor: FKKT
LOCATION:FKKT
ORGANIZER:Andreja Drobnič-Vidic
RELATED-TO:fmf-AFLABS-URNIK:srecanje:5627
X-WR-TIMEZONE:Europe/Ljubljana
END:VEVENT
BEGIN:VEVENT
SUMMARY:KEMINŽ 1 ()\, Vaje (V)
DTSTART;TZID=Europe/Ljubljana:20210531T100000
DTEND;TZID=Europe/Ljubljana:20210531T120000
DTSTAMP:20260422T112736Z
UID:fmf-AFLABS-URNIK:premaknjeno-srecanje:46308
CATEGORIES:Entry,Standard
COLOR:darkgreen
DESCRIPTION:Predmet: KEMINŽ 1 ()\, Vaje (V)\nLetniki: \nIzvajalci: Andrej
 a Drobnič-Vidic\nProstor: FKKT
LOCATION:FKKT
ORGANIZER:Andreja Drobnič-Vidic
RELATED-TO:fmf-AFLABS-URNIK:srecanje:5627
X-WR-TIMEZONE:Europe/Ljubljana
END:VEVENT
BEGIN:VEVENT
SUMMARY:KEMINŽ 1 ()\, Vaje (V)
DTSTART;TZID=Europe/Ljubljana:20210517T120000
DTEND;TZID=Europe/Ljubljana:20210517T140000
DTSTAMP:20260422T112736Z
UID:fmf-AFLABS-URNIK:premaknjeno-srecanje:46401
CATEGORIES:Entry,Standard
COLOR:darkgreen
DESCRIPTION:Predmet: KEMINŽ 1 ()\, Vaje (V)\nLetniki: \nIzvajalci: Andrej
 a Drobnič-Vidic\nProstor: FKKT
LOCATION:FKKT
ORGANIZER:Andreja Drobnič-Vidic
RELATED-TO:fmf-AFLABS-URNIK:srecanje:5628
X-WR-TIMEZONE:Europe/Ljubljana
END:VEVENT
BEGIN:VEVENT
SUMMARY:KEMINŽ 1 ()\, Vaje (V)
DTSTART;TZID=Europe/Ljubljana:20210524T120000
DTEND;TZID=Europe/Ljubljana:20210524T140000
DTSTAMP:20260422T112736Z
UID:fmf-AFLABS-URNIK:premaknjeno-srecanje:46402
CATEGORIES:Entry,Standard
COLOR:darkgreen
DESCRIPTION:Predmet: KEMINŽ 1 ()\, Vaje (V)\nLetniki: \nIzvajalci: Andrej
 a Drobnič-Vidic\nProstor: FKKT
LOCATION:FKKT
ORGANIZER:Andreja Drobnič-Vidic
RELATED-TO:fmf-AFLABS-URNIK:srecanje:5628
X-WR-TIMEZONE:Europe/Ljubljana
END:VEVENT
BEGIN:VEVENT
SUMMARY:KEMINŽ 1 ()\, Vaje (V)
DTSTART;TZID=Europe/Ljubljana:20210531T120000
DTEND;TZID=Europe/Ljubljana:20210531T140000
DTSTAMP:20260422T112736Z
UID:fmf-AFLABS-URNIK:premaknjeno-srecanje:46403
CATEGORIES:Entry,Standard
COLOR:darkgreen
DESCRIPTION:Predmet: KEMINŽ 1 ()\, Vaje (V)\nLetniki: \nIzvajalci: Andrej
 a Drobnič-Vidic\nProstor: FKKT
LOCATION:FKKT
ORGANIZER:Andreja Drobnič-Vidic
RELATED-TO:fmf-AFLABS-URNIK:srecanje:5628
X-WR-TIMEZONE:Europe/Ljubljana
END:VEVENT
BEGIN:VEVENT
SUMMARY:ZUNANJE OBVEZNOSTI ()\, Vaje (V)
DTSTART;TZID=Europe/Ljubljana:20210521T080000
DTEND;TZID=Europe/Ljubljana:20210521T120000
DTSTAMP:20260422T112736Z
UID:fmf-AFLABS-URNIK:premaknjeno-srecanje:121761
CATEGORIES:Entry,Standard
COLOR:darkgreen
DESCRIPTION:Predmet: ZUNANJE OBVEZNOSTI ()\, Vaje (V)\nLetniki: \nIzvajalc
 i: Andreja Drobnič-Vidic\nProstor: ZF
LOCATION:ZF
ORGANIZER:Andreja Drobnič-Vidic
RELATED-TO:fmf-AFLABS-URNIK:srecanje:5986
X-WR-TIMEZONE:Europe/Ljubljana
END:VEVENT
BEGIN:VEVENT
SUMMARY:ZUNANJE OBVEZNOSTI ()\, Vaje (V)
DTSTART;TZID=Europe/Ljubljana:20210528T080000
DTEND;TZID=Europe/Ljubljana:20210528T120000
DTSTAMP:20260422T112736Z
UID:fmf-AFLABS-URNIK:premaknjeno-srecanje:121762
CATEGORIES:Entry,Standard
COLOR:darkgreen
DESCRIPTION:Predmet: ZUNANJE OBVEZNOSTI ()\, Vaje (V)\nLetniki: \nIzvajalc
 i: Andreja Drobnič-Vidic\nProstor: ZF
LOCATION:ZF
ORGANIZER:Andreja Drobnič-Vidic
RELATED-TO:fmf-AFLABS-URNIK:srecanje:5986
X-WR-TIMEZONE:Europe/Ljubljana
END:VEVENT
END:VCALENDAR
