BEGIN:VCALENDAR
VERSION:2.0
PRODID:-//AFLabs urnik izvoz - fmf//aflabs.si//SI
DTSTAMP:20260420T003402Z
NAME:UL FMF urnik
REFRESH-INTERVAL:PT1H
SOURCE:https://urnik.fmf.uni-lj.si/teacher/16?day=2026-02-02&export=1
URL:https://urnik.fmf.uni-lj.si/teacher/16?day=2026-02-02&export=1
X-PUBLISHED-TTL:PT1H
X-WR-CALNAME:UL FMF urnik
X-WR-TIMEZONE:Europe/Ljubljana
BEGIN:VTIMEZONE
TZID:Europe/Ljubljana
BEGIN:DAYLIGHT
DTSTART:20260329T020000
RDATE:20260329T020000
RDATE:20270328T020000
TZNAME:CEST
TZOFFSETFROM:+0100
TZOFFSETTO:+0200
END:DAYLIGHT
BEGIN:STANDARD
DTSTART:20261025T030000
RDATE:20261025T030000
RDATE:20271031T030000
TZNAME:CET
TZOFFSETFROM:+0200
TZOFFSETTO:+0100
END:STANDARD
END:VTIMEZONE
BEGIN:VEVENT
SUMMARY:KEMINŽ 1 ()\, Vaje (V)
DTSTART;TZID=Europe/Ljubljana:20260216T100000
DTEND;TZID=Europe/Ljubljana:20260216T120000
DTSTAMP:20260420T003402Z
UID:fmf-AFLABS-URNIK:premaknjeno-srecanje:237936
CATEGORIES:Entry,Standard
COLOR:darkgreen
DESCRIPTION:Predmet: KEMINŽ 1 ()\, Vaje (V)\nLetniki: \nIzvajalci: Andrej
 a Drobnič-Vidic\nProstor: FKKT
LOCATION:FKKT
ORGANIZER:Andreja Drobnič-Vidic
RELATED-TO:fmf-AFLABS-URNIK:srecanje:16895
X-WR-TIMEZONE:Europe/Ljubljana
END:VEVENT
BEGIN:VEVENT
SUMMARY:KEMINŽ 1 ()\, Vaje (V)
DTSTART;TZID=Europe/Ljubljana:20260223T100000
DTEND;TZID=Europe/Ljubljana:20260223T120000
DTSTAMP:20260420T003402Z
UID:fmf-AFLABS-URNIK:premaknjeno-srecanje:237937
CATEGORIES:Entry,Standard
COLOR:darkgreen
DESCRIPTION:Predmet: KEMINŽ 1 ()\, Vaje (V)\nLetniki: \nIzvajalci: Andrej
 a Drobnič-Vidic\nProstor: FKKT
LOCATION:FKKT
ORGANIZER:Andreja Drobnič-Vidic
RELATED-TO:fmf-AFLABS-URNIK:srecanje:16895
X-WR-TIMEZONE:Europe/Ljubljana
END:VEVENT
BEGIN:VEVENT
SUMMARY:KEMINŽ 1 ()\, Vaje (V)
DTSTART;TZID=Europe/Ljubljana:20260302T100000
DTEND;TZID=Europe/Ljubljana:20260302T120000
DTSTAMP:20260420T003402Z
UID:fmf-AFLABS-URNIK:premaknjeno-srecanje:237938
CATEGORIES:Entry,Standard
COLOR:darkgreen
DESCRIPTION:Predmet: KEMINŽ 1 ()\, Vaje (V)\nLetniki: \nIzvajalci: Andrej
 a Drobnič-Vidic\nProstor: FKKT
LOCATION:FKKT
ORGANIZER:Andreja Drobnič-Vidic
RELATED-TO:fmf-AFLABS-URNIK:srecanje:16895
X-WR-TIMEZONE:Europe/Ljubljana
END:VEVENT
BEGIN:VEVENT
SUMMARY:KEMINŽ 1 ()\, Vaje (V)
DTSTART;TZID=Europe/Ljubljana:20260309T100000
DTEND;TZID=Europe/Ljubljana:20260309T120000
DTSTAMP:20260420T003402Z
UID:fmf-AFLABS-URNIK:premaknjeno-srecanje:237939
CATEGORIES:Entry,Standard
COLOR:darkgreen
DESCRIPTION:Predmet: KEMINŽ 1 ()\, Vaje (V)\nLetniki: \nIzvajalci: Andrej
 a Drobnič-Vidic\nProstor: FKKT
LOCATION:FKKT
ORGANIZER:Andreja Drobnič-Vidic
RELATED-TO:fmf-AFLABS-URNIK:srecanje:16895
X-WR-TIMEZONE:Europe/Ljubljana
END:VEVENT
BEGIN:VEVENT
SUMMARY:KEMINŽ 1 ()\, Vaje (V)
DTSTART;TZID=Europe/Ljubljana:20260216T120000
DTEND;TZID=Europe/Ljubljana:20260216T140000
DTSTAMP:20260420T003402Z
UID:fmf-AFLABS-URNIK:premaknjeno-srecanje:237949
CATEGORIES:Entry,Standard
COLOR:darkgreen
DESCRIPTION:Predmet: KEMINŽ 1 ()\, Vaje (V)\nLetniki: \nIzvajalci: Andrej
 a Drobnič-Vidic\nProstor: FKKT
LOCATION:FKKT
ORGANIZER:Andreja Drobnič-Vidic
RELATED-TO:fmf-AFLABS-URNIK:srecanje:16896
X-WR-TIMEZONE:Europe/Ljubljana
END:VEVENT
BEGIN:VEVENT
SUMMARY:KEMINŽ 1 ()\, Vaje (V)
DTSTART;TZID=Europe/Ljubljana:20260223T120000
DTEND;TZID=Europe/Ljubljana:20260223T140000
DTSTAMP:20260420T003402Z
UID:fmf-AFLABS-URNIK:premaknjeno-srecanje:237950
CATEGORIES:Entry,Standard
COLOR:darkgreen
DESCRIPTION:Predmet: KEMINŽ 1 ()\, Vaje (V)\nLetniki: \nIzvajalci: Andrej
 a Drobnič-Vidic\nProstor: FKKT
LOCATION:FKKT
ORGANIZER:Andreja Drobnič-Vidic
RELATED-TO:fmf-AFLABS-URNIK:srecanje:16896
X-WR-TIMEZONE:Europe/Ljubljana
END:VEVENT
BEGIN:VEVENT
SUMMARY:KEMINŽ 1 ()\, Vaje (V)
DTSTART;TZID=Europe/Ljubljana:20260302T120000
DTEND;TZID=Europe/Ljubljana:20260302T140000
DTSTAMP:20260420T003402Z
UID:fmf-AFLABS-URNIK:premaknjeno-srecanje:237951
CATEGORIES:Entry,Standard
COLOR:darkgreen
DESCRIPTION:Predmet: KEMINŽ 1 ()\, Vaje (V)\nLetniki: \nIzvajalci: Andrej
 a Drobnič-Vidic\nProstor: FKKT
LOCATION:FKKT
ORGANIZER:Andreja Drobnič-Vidic
RELATED-TO:fmf-AFLABS-URNIK:srecanje:16896
X-WR-TIMEZONE:Europe/Ljubljana
END:VEVENT
BEGIN:VEVENT
SUMMARY:KEMINŽ 1 ()\, Vaje (V)
DTSTART;TZID=Europe/Ljubljana:20260309T120000
DTEND;TZID=Europe/Ljubljana:20260309T140000
DTSTAMP:20260420T003402Z
UID:fmf-AFLABS-URNIK:premaknjeno-srecanje:237952
CATEGORIES:Entry,Standard
COLOR:darkgreen
DESCRIPTION:Predmet: KEMINŽ 1 ()\, Vaje (V)\nLetniki: \nIzvajalci: Andrej
 a Drobnič-Vidic\nProstor: FKKT
LOCATION:FKKT
ORGANIZER:Andreja Drobnič-Vidic
RELATED-TO:fmf-AFLABS-URNIK:srecanje:16896
X-WR-TIMEZONE:Europe/Ljubljana
END:VEVENT
BEGIN:VEVENT
SUMMARY:None\, Ostalo (O)
DTSTART;TZID=Europe/Ljubljana:20260216T140000
DTEND;TZID=Europe/Ljubljana:20260216T160000
DTSTAMP:20260420T003402Z
UID:fmf-AFLABS-URNIK:premaknjeno-srecanje:243324
CATEGORIES:Entry,Standard
COLOR:darkgreen
DESCRIPTION:Predmet: None\, Ostalo (O)\nLetniki: /\nIzvajalci: Andreja Dro
 bnič-Vidic\nProstor: FKKT
LOCATION:FKKT
ORGANIZER:Andreja Drobnič-Vidic
RELATED-TO:fmf-AFLABS-URNIK:srecanje:17287
X-WR-TIMEZONE:Europe/Ljubljana
END:VEVENT
BEGIN:VEVENT
SUMMARY:None\, Ostalo (O)
DTSTART;TZID=Europe/Ljubljana:20260223T140000
DTEND;TZID=Europe/Ljubljana:20260223T160000
DTSTAMP:20260420T003402Z
UID:fmf-AFLABS-URNIK:premaknjeno-srecanje:243325
CATEGORIES:Entry,Standard
COLOR:darkgreen
DESCRIPTION:Predmet: None\, Ostalo (O)\nLetniki: /\nIzvajalci: Andreja Dro
 bnič-Vidic\nProstor: FKKT
LOCATION:FKKT
ORGANIZER:Andreja Drobnič-Vidic
RELATED-TO:fmf-AFLABS-URNIK:srecanje:17287
X-WR-TIMEZONE:Europe/Ljubljana
END:VEVENT
BEGIN:VEVENT
SUMMARY:None\, Ostalo (O)
DTSTART;TZID=Europe/Ljubljana:20260302T140000
DTEND;TZID=Europe/Ljubljana:20260302T160000
DTSTAMP:20260420T003402Z
UID:fmf-AFLABS-URNIK:premaknjeno-srecanje:243326
CATEGORIES:Entry,Standard
COLOR:darkgreen
DESCRIPTION:Predmet: None\, Ostalo (O)\nLetniki: /\nIzvajalci: Andreja Dro
 bnič-Vidic\nProstor: FKKT
LOCATION:FKKT
ORGANIZER:Andreja Drobnič-Vidic
RELATED-TO:fmf-AFLABS-URNIK:srecanje:17287
X-WR-TIMEZONE:Europe/Ljubljana
END:VEVENT
BEGIN:VEVENT
SUMMARY:None\, Ostalo (O)
DTSTART;TZID=Europe/Ljubljana:20260309T140000
DTEND;TZID=Europe/Ljubljana:20260309T160000
DTSTAMP:20260420T003402Z
UID:fmf-AFLABS-URNIK:premaknjeno-srecanje:243327
CATEGORIES:Entry,Standard
COLOR:darkgreen
DESCRIPTION:Predmet: None\, Ostalo (O)\nLetniki: /\nIzvajalci: Andreja Dro
 bnič-Vidic\nProstor: FKKT
LOCATION:FKKT
ORGANIZER:Andreja Drobnič-Vidic
RELATED-TO:fmf-AFLABS-URNIK:srecanje:17287
X-WR-TIMEZONE:Europe/Ljubljana
END:VEVENT
BEGIN:VEVENT
SUMMARY:Govorilna ura ()\, Predavanja (P)
DTSTART;TZID=Europe/Ljubljana:20260217T090000
DTEND;TZID=Europe/Ljubljana:20260217T100000
DTSTAMP:20260420T003402Z
UID:fmf-AFLABS-URNIK:premaknjeno-srecanje:236625
CATEGORIES:Entry,Standard
COLOR:darkgreen
DESCRIPTION:Predmet: Govorilna ura ()\, Predavanja (P)\nLetniki: \nIzvajal
 ci: Andreja Drobnič-Vidic\nProstor: X
LOCATION:X
ORGANIZER:Andreja Drobnič-Vidic
RELATED-TO:fmf-AFLABS-URNIK:srecanje:16802
X-WR-TIMEZONE:Europe/Ljubljana
END:VEVENT
BEGIN:VEVENT
SUMMARY:Govorilna ura ()\, Predavanja (P)
DTSTART;TZID=Europe/Ljubljana:20260224T090000
DTEND;TZID=Europe/Ljubljana:20260224T100000
DTSTAMP:20260420T003402Z
UID:fmf-AFLABS-URNIK:premaknjeno-srecanje:236626
CATEGORIES:Entry,Standard
COLOR:darkgreen
DESCRIPTION:Predmet: Govorilna ura ()\, Predavanja (P)\nLetniki: \nIzvajal
 ci: Andreja Drobnič-Vidic\nProstor: X
LOCATION:X
ORGANIZER:Andreja Drobnič-Vidic
RELATED-TO:fmf-AFLABS-URNIK:srecanje:16802
X-WR-TIMEZONE:Europe/Ljubljana
END:VEVENT
BEGIN:VEVENT
SUMMARY:Govorilna ura ()\, Predavanja (P)
DTSTART;TZID=Europe/Ljubljana:20260303T090000
DTEND;TZID=Europe/Ljubljana:20260303T100000
DTSTAMP:20260420T003402Z
UID:fmf-AFLABS-URNIK:premaknjeno-srecanje:236627
CATEGORIES:Entry,Standard
COLOR:darkgreen
DESCRIPTION:Predmet: Govorilna ura ()\, Predavanja (P)\nLetniki: \nIzvajal
 ci: Andreja Drobnič-Vidic\nProstor: X
LOCATION:X
ORGANIZER:Andreja Drobnič-Vidic
RELATED-TO:fmf-AFLABS-URNIK:srecanje:16802
X-WR-TIMEZONE:Europe/Ljubljana
END:VEVENT
BEGIN:VEVENT
SUMMARY:TEHVAR  ()\, Vaje (V)
DTSTART;TZID=Europe/Ljubljana:20260217T130000
DTEND;TZID=Europe/Ljubljana:20260217T150000
DTSTAMP:20260420T003402Z
UID:fmf-AFLABS-URNIK:premaknjeno-srecanje:237684
CATEGORIES:Entry,Standard
COLOR:darkgreen
DESCRIPTION:Predmet: TEHVAR  ()\, Vaje (V)\nLetniki: \nIzvajalci: Andreja 
 Drobnič-Vidic\nProstor: X
LOCATION:X
ORGANIZER:Andreja Drobnič-Vidic
RELATED-TO:fmf-AFLABS-URNIK:srecanje:16876
X-WR-TIMEZONE:Europe/Ljubljana
END:VEVENT
BEGIN:VEVENT
SUMMARY:TEHVAR  ()\, Vaje (V)
DTSTART;TZID=Europe/Ljubljana:20260224T130000
DTEND;TZID=Europe/Ljubljana:20260224T150000
DTSTAMP:20260420T003402Z
UID:fmf-AFLABS-URNIK:premaknjeno-srecanje:237685
CATEGORIES:Entry,Standard
COLOR:darkgreen
DESCRIPTION:Predmet: TEHVAR  ()\, Vaje (V)\nLetniki: \nIzvajalci: Andreja 
 Drobnič-Vidic\nProstor: X
LOCATION:X
ORGANIZER:Andreja Drobnič-Vidic
RELATED-TO:fmf-AFLABS-URNIK:srecanje:16876
X-WR-TIMEZONE:Europe/Ljubljana
END:VEVENT
BEGIN:VEVENT
SUMMARY:TEHVAR  ()\, Vaje (V)
DTSTART;TZID=Europe/Ljubljana:20260303T130000
DTEND;TZID=Europe/Ljubljana:20260303T150000
DTSTAMP:20260420T003402Z
UID:fmf-AFLABS-URNIK:premaknjeno-srecanje:237686
CATEGORIES:Entry,Standard
COLOR:darkgreen
DESCRIPTION:Predmet: TEHVAR  ()\, Vaje (V)\nLetniki: \nIzvajalci: Andreja 
 Drobnič-Vidic\nProstor: X
LOCATION:X
ORGANIZER:Andreja Drobnič-Vidic
RELATED-TO:fmf-AFLABS-URNIK:srecanje:16876
X-WR-TIMEZONE:Europe/Ljubljana
END:VEVENT
END:VCALENDAR
