BEGIN:VCALENDAR
VERSION:2.0
PRODID:-//AFLabs urnik izvoz - fmf//aflabs.si//SI
DTSTAMP:20260422T175222Z
NAME:UL FMF urnik
REFRESH-INTERVAL:PT1H
SOURCE:https://urnik.fmf.uni-lj.si/teacher/170?day=2023-01-30&export=1
URL:https://urnik.fmf.uni-lj.si/teacher/170?day=2023-01-30&export=1
X-PUBLISHED-TTL:PT1H
X-WR-CALNAME:UL FMF urnik
X-WR-TIMEZONE:Europe/Ljubljana
BEGIN:VTIMEZONE
TZID:Europe/Ljubljana
BEGIN:DAYLIGHT
DTSTART:20260329T020000
RDATE:20260329T020000
RDATE:20270328T020000
TZNAME:CEST
TZOFFSETFROM:+0100
TZOFFSETTO:+0200
END:DAYLIGHT
BEGIN:STANDARD
DTSTART:20261025T030000
RDATE:20261025T030000
RDATE:20271031T030000
TZNAME:CET
TZOFFSETFROM:+0200
TZOFFSETTO:+0100
END:STANDARD
END:VTIMEZONE
BEGIN:VEVENT
SUMMARY:Praktikum aplikativne fizike I (APF-1)\, Laboratorijske vaje (L)
DTSTART;TZID=Europe/Ljubljana:20221226T090000
DTEND;TZID=Europe/Ljubljana:20221226T120000
DTSTAMP:20260422T175222Z
UID:fmf-AFLABS-URNIK:premaknjeno-srecanje:83992
ATTENDEE:1. letnik (Aplikativna fizika)
CATEGORIES:Entry,Standard
COLOR:darkgreen
DESCRIPTION:Predmet: Praktikum aplikativne fizike I (APF-1)\, Laboratorijs
 ke vaje (L)\nLetniki: 1. letnik (Aplikativna fizika)\nIzvajalci: Katarina 
 Kosovelj\nProstor: Praktikum 1
LOCATION:Praktikum 1
ORGANIZER:Katarina Kosovelj
RELATED-TO:fmf-AFLABS-URNIK:srecanje:7894
X-WR-TIMEZONE:Europe/Ljubljana
END:VEVENT
BEGIN:VEVENT
SUMMARY:Praktikum aplikativne fizike I (APF-1)\, Laboratorijske vaje (L)
DTSTART;TZID=Europe/Ljubljana:20230102T090000
DTEND;TZID=Europe/Ljubljana:20230102T120000
DTSTAMP:20260422T175222Z
UID:fmf-AFLABS-URNIK:premaknjeno-srecanje:83993
ATTENDEE:1. letnik (Aplikativna fizika)
CATEGORIES:Entry,Standard
COLOR:darkgreen
DESCRIPTION:Predmet: Praktikum aplikativne fizike I (APF-1)\, Laboratorijs
 ke vaje (L)\nLetniki: 1. letnik (Aplikativna fizika)\nIzvajalci: Katarina 
 Kosovelj\nProstor: Praktikum 1
LOCATION:Praktikum 1
ORGANIZER:Katarina Kosovelj
RELATED-TO:fmf-AFLABS-URNIK:srecanje:7894
X-WR-TIMEZONE:Europe/Ljubljana
END:VEVENT
BEGIN:VEVENT
SUMMARY:Praktikum aplikativne fizike I (APF-1)\, Laboratorijske vaje (L)
DTSTART;TZID=Europe/Ljubljana:20230109T090000
DTEND;TZID=Europe/Ljubljana:20230109T120000
DTSTAMP:20260422T175222Z
UID:fmf-AFLABS-URNIK:premaknjeno-srecanje:83994
ATTENDEE:1. letnik (Aplikativna fizika)
CATEGORIES:Entry,Standard
COLOR:darkgreen
DESCRIPTION:Predmet: Praktikum aplikativne fizike I (APF-1)\, Laboratorijs
 ke vaje (L)\nLetniki: 1. letnik (Aplikativna fizika)\nIzvajalci: Katarina 
 Kosovelj\nProstor: Praktikum 1
LOCATION:Praktikum 1
ORGANIZER:Katarina Kosovelj
RELATED-TO:fmf-AFLABS-URNIK:srecanje:7894
X-WR-TIMEZONE:Europe/Ljubljana
END:VEVENT
BEGIN:VEVENT
SUMMARY:Praktikum aplikativne fizike I (APF-1)\, Laboratorijske vaje (L)
DTSTART;TZID=Europe/Ljubljana:20230116T090000
DTEND;TZID=Europe/Ljubljana:20230116T120000
DTSTAMP:20260422T175222Z
UID:fmf-AFLABS-URNIK:premaknjeno-srecanje:83995
ATTENDEE:1. letnik (Aplikativna fizika)
CATEGORIES:Entry,Standard
COLOR:darkgreen
DESCRIPTION:Predmet: Praktikum aplikativne fizike I (APF-1)\, Laboratorijs
 ke vaje (L)\nLetniki: 1. letnik (Aplikativna fizika)\nIzvajalci: Katarina 
 Kosovelj\nProstor: Praktikum 1
LOCATION:Praktikum 1
ORGANIZER:Katarina Kosovelj
RELATED-TO:fmf-AFLABS-URNIK:srecanje:7894
X-WR-TIMEZONE:Europe/Ljubljana
END:VEVENT
BEGIN:VEVENT
SUMMARY:Ozračje in njegova onesnaženost (ZF) ()\, Vaje (V)
DTSTART;TZID=Europe/Ljubljana:20221228T110000
DTEND;TZID=Europe/Ljubljana:20221228T140000
DTSTAMP:20260422T175222Z
UID:fmf-AFLABS-URNIK:premaknjeno-srecanje:81771
CATEGORIES:Entry,Standard
COLOR:darkgreen
DESCRIPTION:Predmet: Ozračje in njegova onesnaženost (ZF) ()\, Vaje (V)\
 nLetniki: \nIzvajalci: Katarina Kosovelj\nProstor: ZF
LOCATION:ZF
ORGANIZER:Katarina Kosovelj
RELATED-TO:fmf-AFLABS-URNIK:srecanje:7876
X-WR-TIMEZONE:Europe/Ljubljana
END:VEVENT
BEGIN:VEVENT
SUMMARY:Ozračje in njegova onesnaženost (ZF) ()\, Vaje (V)
DTSTART;TZID=Europe/Ljubljana:20230104T110000
DTEND;TZID=Europe/Ljubljana:20230104T140000
DTSTAMP:20260422T175222Z
UID:fmf-AFLABS-URNIK:premaknjeno-srecanje:81772
CATEGORIES:Entry,Standard
COLOR:darkgreen
DESCRIPTION:Predmet: Ozračje in njegova onesnaženost (ZF) ()\, Vaje (V)\
 nLetniki: \nIzvajalci: Katarina Kosovelj\nProstor: ZF
LOCATION:ZF
ORGANIZER:Katarina Kosovelj
RELATED-TO:fmf-AFLABS-URNIK:srecanje:7876
X-WR-TIMEZONE:Europe/Ljubljana
END:VEVENT
BEGIN:VEVENT
SUMMARY:Ozračje in njegova onesnaženost (ZF) ()\, Vaje (V)
DTSTART;TZID=Europe/Ljubljana:20230111T110000
DTEND;TZID=Europe/Ljubljana:20230111T140000
DTSTAMP:20260422T175222Z
UID:fmf-AFLABS-URNIK:premaknjeno-srecanje:81773
CATEGORIES:Entry,Standard
COLOR:darkgreen
DESCRIPTION:Predmet: Ozračje in njegova onesnaženost (ZF) ()\, Vaje (V)\
 nLetniki: \nIzvajalci: Katarina Kosovelj\nProstor: ZF
LOCATION:ZF
ORGANIZER:Katarina Kosovelj
RELATED-TO:fmf-AFLABS-URNIK:srecanje:7876
X-WR-TIMEZONE:Europe/Ljubljana
END:VEVENT
BEGIN:VEVENT
SUMMARY:Uvod v fiziko atmosfere (FIZ-2\, FIZ-3\, PEF-1\, PEF-2)\, Vaje (V)
DTSTART;TZID=Europe/Ljubljana:20221228T140000
DTEND;TZID=Europe/Ljubljana:20221228T160000
DTSTAMP:20260422T175222Z
UID:fmf-AFLABS-URNIK:premaknjeno-srecanje:116208
ATTENDEE:1. letnik (Pedagoška fizika, 2. stopnja)
ATTENDEE:2. letnik (Fizika, 1. stopnja)
ATTENDEE:2. letnik (Pedagoška fizika, 2. stopnja)
ATTENDEE:3. letnik (Fizika, 1. stopnja)
CATEGORIES:Entry,Standard
COLOR:darkgreen
DESCRIPTION:Predmet: Uvod v fiziko atmosfere (FIZ-2\, FIZ-3\, PEF-1\, PEF-
 2)\, Vaje (V)\nLetniki: 2. letnik (Fizika\, 1. stopnja)\, 3. letnik (Fizik
 a\, 1. stopnja)\, 1. letnik (Pedagoška fizika\, 2. stopnja)\, 2. letnik (
 Pedagoška fizika\, 2. stopnja)\nIzvajalci: Katarina Kosovelj\nProstor: F4
LOCATION:F4
ORGANIZER:Katarina Kosovelj
RELATED-TO:fmf-AFLABS-URNIK:srecanje:8072
X-WR-TIMEZONE:Europe/Ljubljana
END:VEVENT
BEGIN:VEVENT
SUMMARY:Uvod v fiziko atmosfere (FIZ-2\, FIZ-3\, PEF-1\, PEF-2)\, Vaje (V)
DTSTART;TZID=Europe/Ljubljana:20230104T140000
DTEND;TZID=Europe/Ljubljana:20230104T160000
DTSTAMP:20260422T175222Z
UID:fmf-AFLABS-URNIK:premaknjeno-srecanje:116209
ATTENDEE:1. letnik (Pedagoška fizika, 2. stopnja)
ATTENDEE:2. letnik (Fizika, 1. stopnja)
ATTENDEE:2. letnik (Pedagoška fizika, 2. stopnja)
ATTENDEE:3. letnik (Fizika, 1. stopnja)
CATEGORIES:Entry,Standard
COLOR:darkgreen
DESCRIPTION:Predmet: Uvod v fiziko atmosfere (FIZ-2\, FIZ-3\, PEF-1\, PEF-
 2)\, Vaje (V)\nLetniki: 2. letnik (Fizika\, 1. stopnja)\, 3. letnik (Fizik
 a\, 1. stopnja)\, 1. letnik (Pedagoška fizika\, 2. stopnja)\, 2. letnik (
 Pedagoška fizika\, 2. stopnja)\nIzvajalci: Katarina Kosovelj\nProstor: F4
LOCATION:F4
ORGANIZER:Katarina Kosovelj
RELATED-TO:fmf-AFLABS-URNIK:srecanje:8072
X-WR-TIMEZONE:Europe/Ljubljana
END:VEVENT
BEGIN:VEVENT
SUMMARY:Uvod v fiziko atmosfere (FIZ-2\, FIZ-3\, PEF-1\, PEF-2)\, Vaje (V)
DTSTART;TZID=Europe/Ljubljana:20230111T140000
DTEND;TZID=Europe/Ljubljana:20230111T160000
DTSTAMP:20260422T175222Z
UID:fmf-AFLABS-URNIK:premaknjeno-srecanje:116210
ATTENDEE:1. letnik (Pedagoška fizika, 2. stopnja)
ATTENDEE:2. letnik (Fizika, 1. stopnja)
ATTENDEE:2. letnik (Pedagoška fizika, 2. stopnja)
ATTENDEE:3. letnik (Fizika, 1. stopnja)
CATEGORIES:Entry,Standard
COLOR:darkgreen
DESCRIPTION:Predmet: Uvod v fiziko atmosfere (FIZ-2\, FIZ-3\, PEF-1\, PEF-
 2)\, Vaje (V)\nLetniki: 2. letnik (Fizika\, 1. stopnja)\, 3. letnik (Fizik
 a\, 1. stopnja)\, 1. letnik (Pedagoška fizika\, 2. stopnja)\, 2. letnik (
 Pedagoška fizika\, 2. stopnja)\nIzvajalci: Katarina Kosovelj\nProstor: F4
LOCATION:F4
ORGANIZER:Katarina Kosovelj
RELATED-TO:fmf-AFLABS-URNIK:srecanje:8072
X-WR-TIMEZONE:Europe/Ljubljana
END:VEVENT
BEGIN:VEVENT
SUMMARY:Osnove meteorologije (FGG) ()\, Ostalo (O)
DTSTART;TZID=Europe/Ljubljana:20221229T080000
DTEND;TZID=Europe/Ljubljana:20221229T120000
DTSTAMP:20260422T175222Z
UID:fmf-AFLABS-URNIK:premaknjeno-srecanje:81349
CATEGORIES:Entry,Standard
COLOR:darkgreen
DESCRIPTION:Predmet: Osnove meteorologije (FGG) ()\, Ostalo (O)\nLetniki: 
 \nIzvajalci: Katarina Kosovelj\, Gregor Skok\nProstor: FGG
LOCATION:FGG
ORGANIZER:Katarina Kosovelj, Gregor Skok
RELATED-TO:fmf-AFLABS-URNIK:srecanje:7874
X-WR-TIMEZONE:Europe/Ljubljana
END:VEVENT
BEGIN:VEVENT
SUMMARY:Osnove meteorologije (FGG) ()\, Ostalo (O)
DTSTART;TZID=Europe/Ljubljana:20230105T080000
DTEND;TZID=Europe/Ljubljana:20230105T120000
DTSTAMP:20260422T175222Z
UID:fmf-AFLABS-URNIK:premaknjeno-srecanje:81350
CATEGORIES:Entry,Standard
COLOR:darkgreen
DESCRIPTION:Predmet: Osnove meteorologije (FGG) ()\, Ostalo (O)\nLetniki: 
 \nIzvajalci: Katarina Kosovelj\, Gregor Skok\nProstor: FGG
LOCATION:FGG
ORGANIZER:Katarina Kosovelj, Gregor Skok
RELATED-TO:fmf-AFLABS-URNIK:srecanje:7874
X-WR-TIMEZONE:Europe/Ljubljana
END:VEVENT
BEGIN:VEVENT
SUMMARY:Osnove meteorologije (FGG) ()\, Ostalo (O)
DTSTART;TZID=Europe/Ljubljana:20230112T080000
DTEND;TZID=Europe/Ljubljana:20230112T120000
DTSTAMP:20260422T175222Z
UID:fmf-AFLABS-URNIK:premaknjeno-srecanje:81351
CATEGORIES:Entry,Standard
COLOR:darkgreen
DESCRIPTION:Predmet: Osnove meteorologije (FGG) ()\, Ostalo (O)\nLetniki: 
 \nIzvajalci: Katarina Kosovelj\, Gregor Skok\nProstor: FGG
LOCATION:FGG
ORGANIZER:Katarina Kosovelj, Gregor Skok
RELATED-TO:fmf-AFLABS-URNIK:srecanje:7874
X-WR-TIMEZONE:Europe/Ljubljana
END:VEVENT
BEGIN:VEVENT
SUMMARY:Dinamična meteorologija I (FIZ-M1\, FIZ-M2)\, Vaje (V)
DTSTART;TZID=Europe/Ljubljana:20221230T100000
DTEND;TZID=Europe/Ljubljana:20221230T120000
DTSTAMP:20260422T175222Z
UID:fmf-AFLABS-URNIK:premaknjeno-srecanje:14977
ATTENDEE:1. letnik (Fizika, 2. stopnja)
ATTENDEE:2. letnik (Fizika, 2. stopnja)
CATEGORIES:Entry,Standard
COLOR:darkgreen
DESCRIPTION:Predmet: Dinamična meteorologija I (FIZ-M1\, FIZ-M2)\, Vaje (
 V)\nLetniki: 1. letnik (Fizika\, 2. stopnja)\, 2. letnik (Fizika\, 2. stop
 nja)\nIzvajalci: Katarina Kosovelj\nProstor: F3
LOCATION:F3
ORGANIZER:Katarina Kosovelj
RELATED-TO:fmf-AFLABS-URNIK:srecanje:7520
X-WR-TIMEZONE:Europe/Ljubljana
END:VEVENT
BEGIN:VEVENT
SUMMARY:Dinamična meteorologija I (FIZ-M1\, FIZ-M2)\, Vaje (V)
DTSTART;TZID=Europe/Ljubljana:20230106T100000
DTEND;TZID=Europe/Ljubljana:20230106T120000
DTSTAMP:20260422T175222Z
UID:fmf-AFLABS-URNIK:premaknjeno-srecanje:14978
ATTENDEE:1. letnik (Fizika, 2. stopnja)
ATTENDEE:2. letnik (Fizika, 2. stopnja)
CATEGORIES:Entry,Standard
COLOR:darkgreen
DESCRIPTION:Predmet: Dinamična meteorologija I (FIZ-M1\, FIZ-M2)\, Vaje (
 V)\nLetniki: 1. letnik (Fizika\, 2. stopnja)\, 2. letnik (Fizika\, 2. stop
 nja)\nIzvajalci: Katarina Kosovelj\nProstor: F3
LOCATION:F3
ORGANIZER:Katarina Kosovelj
RELATED-TO:fmf-AFLABS-URNIK:srecanje:7520
X-WR-TIMEZONE:Europe/Ljubljana
END:VEVENT
BEGIN:VEVENT
SUMMARY:Dinamična meteorologija I (FIZ-M1\, FIZ-M2)\, Vaje (V)
DTSTART;TZID=Europe/Ljubljana:20230113T100000
DTEND;TZID=Europe/Ljubljana:20230113T120000
DTSTAMP:20260422T175222Z
UID:fmf-AFLABS-URNIK:premaknjeno-srecanje:14979
ATTENDEE:1. letnik (Fizika, 2. stopnja)
ATTENDEE:2. letnik (Fizika, 2. stopnja)
CATEGORIES:Entry,Standard
COLOR:darkgreen
DESCRIPTION:Predmet: Dinamična meteorologija I (FIZ-M1\, FIZ-M2)\, Vaje (
 V)\nLetniki: 1. letnik (Fizika\, 2. stopnja)\, 2. letnik (Fizika\, 2. stop
 nja)\nIzvajalci: Katarina Kosovelj\nProstor: F3
LOCATION:F3
ORGANIZER:Katarina Kosovelj
RELATED-TO:fmf-AFLABS-URNIK:srecanje:7520
X-WR-TIMEZONE:Europe/Ljubljana
END:VEVENT
BEGIN:VEVENT
SUMMARY:Dinamična meteorologija II (FIZ-M1\, FIZ-M2)\, Vaje (V)
DTSTART;TZID=Europe/Ljubljana:20230214T100000
DTEND;TZID=Europe/Ljubljana:20230214T120000
DTSTAMP:20260422T175222Z
UID:fmf-AFLABS-URNIK:premaknjeno-srecanje:15060
ATTENDEE:1. letnik (Fizika, 2. stopnja)
ATTENDEE:2. letnik (Fizika, 2. stopnja)
CATEGORIES:Entry,Standard
COLOR:darkgreen
DESCRIPTION:Predmet: Dinamična meteorologija II (FIZ-M1\, FIZ-M2)\, Vaje 
 (V)\nLetniki: 1. letnik (Fizika\, 2. stopnja)\, 2. letnik (Fizika\, 2. sto
 pnja)\nIzvajalci: Katarina Kosovelj\nProstor: F4
LOCATION:F4
ORGANIZER:Katarina Kosovelj
RELATED-TO:fmf-AFLABS-URNIK:srecanje:8287
X-WR-TIMEZONE:Europe/Ljubljana
END:VEVENT
BEGIN:VEVENT
SUMMARY:Dinamična meteorologija II (FIZ-M1\, FIZ-M2)\, Vaje (V)
DTSTART;TZID=Europe/Ljubljana:20230221T100000
DTEND;TZID=Europe/Ljubljana:20230221T120000
DTSTAMP:20260422T175222Z
UID:fmf-AFLABS-URNIK:premaknjeno-srecanje:15061
ATTENDEE:1. letnik (Fizika, 2. stopnja)
ATTENDEE:2. letnik (Fizika, 2. stopnja)
CATEGORIES:Entry,Standard
COLOR:darkgreen
DESCRIPTION:Predmet: Dinamična meteorologija II (FIZ-M1\, FIZ-M2)\, Vaje 
 (V)\nLetniki: 1. letnik (Fizika\, 2. stopnja)\, 2. letnik (Fizika\, 2. sto
 pnja)\nIzvajalci: Katarina Kosovelj\nProstor: F4
LOCATION:F4
ORGANIZER:Katarina Kosovelj
RELATED-TO:fmf-AFLABS-URNIK:srecanje:8287
X-WR-TIMEZONE:Europe/Ljubljana
END:VEVENT
BEGIN:VEVENT
SUMMARY:Dinamična meteorologija II (FIZ-M1\, FIZ-M2)\, Vaje (V)
DTSTART;TZID=Europe/Ljubljana:20230228T100000
DTEND;TZID=Europe/Ljubljana:20230228T120000
DTSTAMP:20260422T175222Z
UID:fmf-AFLABS-URNIK:premaknjeno-srecanje:15062
ATTENDEE:1. letnik (Fizika, 2. stopnja)
ATTENDEE:2. letnik (Fizika, 2. stopnja)
CATEGORIES:Entry,Standard
COLOR:darkgreen
DESCRIPTION:Predmet: Dinamična meteorologija II (FIZ-M1\, FIZ-M2)\, Vaje 
 (V)\nLetniki: 1. letnik (Fizika\, 2. stopnja)\, 2. letnik (Fizika\, 2. sto
 pnja)\nIzvajalci: Katarina Kosovelj\nProstor: F4
LOCATION:F4
ORGANIZER:Katarina Kosovelj
RELATED-TO:fmf-AFLABS-URNIK:srecanje:8287
X-WR-TIMEZONE:Europe/Ljubljana
END:VEVENT
BEGIN:VEVENT
SUMMARY:Fizikalni praktikum (FKKT) ()\, Vaje (V)\, [1]
DTSTART;TZID=Europe/Ljubljana:20230214T140000
DTEND;TZID=Europe/Ljubljana:20230214T170000
DTSTAMP:20260422T175222Z
UID:fmf-AFLABS-URNIK:premaknjeno-srecanje:33715
CATEGORIES:Entry,Standard
COLOR:darkgreen
DESCRIPTION:Predmet: Fizikalni praktikum (FKKT) ()\, Vaje (V)\, [1]\nLetni
 ki: \nIzvajalci: Katarina Kosovelj\nProstor: Praktikum 104
LOCATION:Praktikum 104
ORGANIZER:Katarina Kosovelj
RELATED-TO:fmf-AFLABS-URNIK:srecanje:8369
X-WR-TIMEZONE:Europe/Ljubljana
END:VEVENT
BEGIN:VEVENT
SUMMARY:Fizikalni praktikum (FKKT) ()\, Vaje (V)\, [1]
DTSTART;TZID=Europe/Ljubljana:20230221T140000
DTEND;TZID=Europe/Ljubljana:20230221T170000
DTSTAMP:20260422T175222Z
UID:fmf-AFLABS-URNIK:premaknjeno-srecanje:33716
CATEGORIES:Entry,Standard
COLOR:darkgreen
DESCRIPTION:Predmet: Fizikalni praktikum (FKKT) ()\, Vaje (V)\, [1]\nLetni
 ki: \nIzvajalci: Katarina Kosovelj\nProstor: Praktikum 104
LOCATION:Praktikum 104
ORGANIZER:Katarina Kosovelj
RELATED-TO:fmf-AFLABS-URNIK:srecanje:8369
X-WR-TIMEZONE:Europe/Ljubljana
END:VEVENT
BEGIN:VEVENT
SUMMARY:Fizikalni praktikum (FKKT) ()\, Vaje (V)\, [1]
DTSTART;TZID=Europe/Ljubljana:20230228T140000
DTEND;TZID=Europe/Ljubljana:20230228T170000
DTSTAMP:20260422T175222Z
UID:fmf-AFLABS-URNIK:premaknjeno-srecanje:33717
CATEGORIES:Entry,Standard
COLOR:darkgreen
DESCRIPTION:Predmet: Fizikalni praktikum (FKKT) ()\, Vaje (V)\, [1]\nLetni
 ki: \nIzvajalci: Katarina Kosovelj\nProstor: Praktikum 104
LOCATION:Praktikum 104
ORGANIZER:Katarina Kosovelj
RELATED-TO:fmf-AFLABS-URNIK:srecanje:8369
X-WR-TIMEZONE:Europe/Ljubljana
END:VEVENT
BEGIN:VEVENT
SUMMARY:Letalska meteorologija (FS) ()\, Vaje (V)
DTSTART;TZID=Europe/Ljubljana:20230215T120000
DTEND;TZID=Europe/Ljubljana:20230215T160000
DTSTAMP:20260422T175222Z
UID:fmf-AFLABS-URNIK:premaknjeno-srecanje:56573
CATEGORIES:Entry,Standard
COLOR:darkgreen
DESCRIPTION:Predmet: Letalska meteorologija (FS) ()\, Vaje (V)\nLetniki: \
 nIzvajalci: Katarina Kosovelj\nProstor: FS
LOCATION:FS
ORGANIZER:Katarina Kosovelj
RELATED-TO:fmf-AFLABS-URNIK:srecanje:8490
X-WR-TIMEZONE:Europe/Ljubljana
END:VEVENT
BEGIN:VEVENT
SUMMARY:Letalska meteorologija (FS) ()\, Vaje (V)
DTSTART;TZID=Europe/Ljubljana:20230222T120000
DTEND;TZID=Europe/Ljubljana:20230222T160000
DTSTAMP:20260422T175222Z
UID:fmf-AFLABS-URNIK:premaknjeno-srecanje:56574
CATEGORIES:Entry,Standard
COLOR:darkgreen
DESCRIPTION:Predmet: Letalska meteorologija (FS) ()\, Vaje (V)\nLetniki: \
 nIzvajalci: Katarina Kosovelj\nProstor: FS
LOCATION:FS
ORGANIZER:Katarina Kosovelj
RELATED-TO:fmf-AFLABS-URNIK:srecanje:8490
X-WR-TIMEZONE:Europe/Ljubljana
END:VEVENT
BEGIN:VEVENT
SUMMARY:Letalska meteorologija (FS) ()\, Vaje (V)
DTSTART;TZID=Europe/Ljubljana:20230301T120000
DTEND;TZID=Europe/Ljubljana:20230301T160000
DTSTAMP:20260422T175222Z
UID:fmf-AFLABS-URNIK:premaknjeno-srecanje:56575
CATEGORIES:Entry,Standard
COLOR:darkgreen
DESCRIPTION:Predmet: Letalska meteorologija (FS) ()\, Vaje (V)\nLetniki: \
 nIzvajalci: Katarina Kosovelj\nProstor: FS
LOCATION:FS
ORGANIZER:Katarina Kosovelj
RELATED-TO:fmf-AFLABS-URNIK:srecanje:8490
X-WR-TIMEZONE:Europe/Ljubljana
END:VEVENT
BEGIN:VEVENT
SUMMARY:Praktikum aplikativne fizike II (APF-1)\, Laboratorijske vaje (L)\
 , [1]
DTSTART;TZID=Europe/Ljubljana:20230216T100000
DTEND;TZID=Europe/Ljubljana:20230216T130000
DTSTAMP:20260422T175222Z
UID:fmf-AFLABS-URNIK:premaknjeno-srecanje:84136
ATTENDEE:1. letnik (Aplikativna fizika)
CATEGORIES:Entry,Standard
COLOR:darkgreen
DESCRIPTION:Predmet: Praktikum aplikativne fizike II (APF-1)\, Laboratorij
 ske vaje (L)\, [1]\nLetniki: 1. letnik (Aplikativna fizika)\nIzvajalci: Ka
 tarina Kosovelj\nProstor: Praktikum 1
LOCATION:Praktikum 1
ORGANIZER:Katarina Kosovelj
RELATED-TO:fmf-AFLABS-URNIK:srecanje:8629
X-WR-TIMEZONE:Europe/Ljubljana
END:VEVENT
BEGIN:VEVENT
SUMMARY:Praktikum aplikativne fizike II (APF-1)\, Laboratorijske vaje (L)\
 , [1]
DTSTART;TZID=Europe/Ljubljana:20230223T100000
DTEND;TZID=Europe/Ljubljana:20230223T130000
DTSTAMP:20260422T175222Z
UID:fmf-AFLABS-URNIK:premaknjeno-srecanje:84137
ATTENDEE:1. letnik (Aplikativna fizika)
CATEGORIES:Entry,Standard
COLOR:darkgreen
DESCRIPTION:Predmet: Praktikum aplikativne fizike II (APF-1)\, Laboratorij
 ske vaje (L)\, [1]\nLetniki: 1. letnik (Aplikativna fizika)\nIzvajalci: Ka
 tarina Kosovelj\nProstor: Praktikum 1
LOCATION:Praktikum 1
ORGANIZER:Katarina Kosovelj
RELATED-TO:fmf-AFLABS-URNIK:srecanje:8629
X-WR-TIMEZONE:Europe/Ljubljana
END:VEVENT
BEGIN:VEVENT
SUMMARY:Praktikum aplikativne fizike II (APF-1)\, Laboratorijske vaje (L)\
 , [1]
DTSTART;TZID=Europe/Ljubljana:20230302T100000
DTEND;TZID=Europe/Ljubljana:20230302T130000
DTSTAMP:20260422T175222Z
UID:fmf-AFLABS-URNIK:premaknjeno-srecanje:84138
ATTENDEE:1. letnik (Aplikativna fizika)
CATEGORIES:Entry,Standard
COLOR:darkgreen
DESCRIPTION:Predmet: Praktikum aplikativne fizike II (APF-1)\, Laboratorij
 ske vaje (L)\, [1]\nLetniki: 1. letnik (Aplikativna fizika)\nIzvajalci: Ka
 tarina Kosovelj\nProstor: Praktikum 1
LOCATION:Praktikum 1
ORGANIZER:Katarina Kosovelj
RELATED-TO:fmf-AFLABS-URNIK:srecanje:8629
X-WR-TIMEZONE:Europe/Ljubljana
END:VEVENT
BEGIN:VEVENT
SUMMARY:Meteorološka opazovanja in inštrumenti (FIZ-2)\, Vaje (V)
DTSTART;TZID=Europe/Ljubljana:20230217T120000
DTEND;TZID=Europe/Ljubljana:20230217T140000
DTSTAMP:20260422T175222Z
UID:fmf-AFLABS-URNIK:premaknjeno-srecanje:72121
ATTENDEE:2. letnik (Fizika, 1. stopnja)
CATEGORIES:Entry,Standard
COLOR:darkgreen
DESCRIPTION:Predmet: Meteorološka opazovanja in inštrumenti (FIZ-2)\, Va
 je (V)\nLetniki: 2. letnik (Fizika\, 1. stopnja)\nIzvajalci: Katarina Koso
 velj\nProstor: F5
LOCATION:F5
ORGANIZER:Katarina Kosovelj
RELATED-TO:fmf-AFLABS-URNIK:srecanje:8554
X-WR-TIMEZONE:Europe/Ljubljana
END:VEVENT
BEGIN:VEVENT
SUMMARY:Meteorološka opazovanja in inštrumenti (FIZ-2)\, Vaje (V)
DTSTART;TZID=Europe/Ljubljana:20230224T120000
DTEND;TZID=Europe/Ljubljana:20230224T140000
DTSTAMP:20260422T175222Z
UID:fmf-AFLABS-URNIK:premaknjeno-srecanje:72122
ATTENDEE:2. letnik (Fizika, 1. stopnja)
CATEGORIES:Entry,Standard
COLOR:darkgreen
DESCRIPTION:Predmet: Meteorološka opazovanja in inštrumenti (FIZ-2)\, Va
 je (V)\nLetniki: 2. letnik (Fizika\, 1. stopnja)\nIzvajalci: Katarina Koso
 velj\nProstor: F5
LOCATION:F5
ORGANIZER:Katarina Kosovelj
RELATED-TO:fmf-AFLABS-URNIK:srecanje:8554
X-WR-TIMEZONE:Europe/Ljubljana
END:VEVENT
BEGIN:VEVENT
SUMMARY:Meteorološka opazovanja in inštrumenti (FIZ-2)\, Vaje (V)
DTSTART;TZID=Europe/Ljubljana:20230303T120000
DTEND;TZID=Europe/Ljubljana:20230303T140000
DTSTAMP:20260422T175222Z
UID:fmf-AFLABS-URNIK:premaknjeno-srecanje:72123
ATTENDEE:2. letnik (Fizika, 1. stopnja)
CATEGORIES:Entry,Standard
COLOR:darkgreen
DESCRIPTION:Predmet: Meteorološka opazovanja in inštrumenti (FIZ-2)\, Va
 je (V)\nLetniki: 2. letnik (Fizika\, 1. stopnja)\nIzvajalci: Katarina Koso
 velj\nProstor: F5
LOCATION:F5
ORGANIZER:Katarina Kosovelj
RELATED-TO:fmf-AFLABS-URNIK:srecanje:8554
X-WR-TIMEZONE:Europe/Ljubljana
END:VEVENT
BEGIN:VEVENT
SUMMARY:Rezervacija
DTSTART;TZID=Europe/Ljubljana:20230106T080000
DTEND;TZID=Europe/Ljubljana:20230106T100000
DTSTAMP:20260422T175222Z
UID:fmf-AFLABS-URNIK:rezervacija:10771
ATTENDEE:1. letnik (Fizika, 2. stopnja)
ATTENDEE:2. letnik (Fizika, 2. stopnja)
CATEGORIES:Reservation
COLOR:royalblue
DESCRIPTION:Predmeti: Dinamična meteorologija I (FIZ-M1\, FIZ-M2)\nLetnik
 i: 1. letnik (Fizika\, 2. stopnja)\, 2. letnik (Fizika\, 2. stopnja)\nIzva
 jalci: Katarina Kosovelj\nProstori: F6
LOCATION:F6
ORGANIZER:Katarina Kosovelj
X-WR-TIMEZONE:Europe/Ljubljana
END:VEVENT
BEGIN:VEVENT
SUMMARY:Rezervacija
DTSTART;TZID=Europe/Ljubljana:20230111T170000
DTEND;TZID=Europe/Ljubljana:20230111T190000
DTSTAMP:20260422T175222Z
UID:fmf-AFLABS-URNIK:rezervacija:10819
ATTENDEE:1. letnik (Pedagoška fizika, 2. stopnja)
ATTENDEE:2. letnik (Fizika, 1. stopnja)
ATTENDEE:2. letnik (Pedagoška fizika, 2. stopnja)
ATTENDEE:3. letnik (Fizika, 1. stopnja)
CATEGORIES:Reservation
COLOR:royalblue
DESCRIPTION:Predmeti: Meteorologija in hidrologija (FGG) ()\, Uvod v fizik
 o atmosfere (FIZ-2\, FIZ-3\, PEF-1\, PEF-2)\nLetniki: 2. letnik (Fizika\, 
 1. stopnja)\, 3. letnik (Fizika\, 1. stopnja)\, 1. letnik (Pedagoška fizi
 ka\, 2. stopnja)\, 2. letnik (Pedagoška fizika\, 2. stopnja)\nIzvajalci: 
 Katarina Kosovelj\nProstori: F2
LOCATION:F2
ORGANIZER:Katarina Kosovelj
X-WR-TIMEZONE:Europe/Ljubljana
END:VEVENT
BEGIN:VEVENT
SUMMARY:Rezervacija
DTSTART;TZID=Europe/Ljubljana:20230113T080000
DTEND;TZID=Europe/Ljubljana:20230113T100000
DTSTAMP:20260422T175222Z
UID:fmf-AFLABS-URNIK:rezervacija:10836
ATTENDEE:1. letnik (Fizika, 2. stopnja)
ATTENDEE:2. letnik (Fizika, 2. stopnja)
CATEGORIES:Reservation
COLOR:royalblue
DESCRIPTION:Predmeti: Dinamična meteorologija I (FIZ-M1\, FIZ-M2)\nLetnik
 i: 1. letnik (Fizika\, 2. stopnja)\, 2. letnik (Fizika\, 2. stopnja)\nIzva
 jalci: Katarina Kosovelj\nProstori: F6
LOCATION:F6
ORGANIZER:Katarina Kosovelj
X-WR-TIMEZONE:Europe/Ljubljana
END:VEVENT
BEGIN:VEVENT
SUMMARY:Rezervacija
DTSTART;TZID=Europe/Ljubljana:20230117T100000
DTEND;TZID=Europe/Ljubljana:20230117T120000
DTSTAMP:20260422T175222Z
UID:fmf-AFLABS-URNIK:rezervacija:10886
CATEGORIES:Reservation
COLOR:royalblue
DESCRIPTION:Predmeti: Letalska meteorologija (FS) ()\nLetniki: \nIzvajalci
 : Katarina Kosovelj\nProstori: F6
LOCATION:F6
ORGANIZER:Katarina Kosovelj
X-WR-TIMEZONE:Europe/Ljubljana
END:VEVENT
BEGIN:VEVENT
SUMMARY:Rezervacija
DTSTART;TZID=Europe/Ljubljana:20230130T100000
DTEND;TZID=Europe/Ljubljana:20230130T120000
DTSTAMP:20260422T175222Z
UID:fmf-AFLABS-URNIK:rezervacija:11079
ATTENDEE:1. letnik (Pedagoška fizika, 2. stopnja)
ATTENDEE:2. letnik (Fizika, 1. stopnja)
ATTENDEE:2. letnik (Pedagoška fizika, 2. stopnja)
ATTENDEE:3. letnik (Fizika, 1. stopnja)
CATEGORIES:Reservation
COLOR:royalblue
DESCRIPTION:Predmeti: Uvod v fiziko atmosfere (FIZ-2\, FIZ-3\, PEF-1\, PEF
 -2)\nLetniki: 2. letnik (Fizika\, 1. stopnja)\, 3. letnik (Fizika\, 1. sto
 pnja)\, 1. letnik (Pedagoška fizika\, 2. stopnja)\, 2. letnik (Pedagoška
  fizika\, 2. stopnja)\nIzvajalci: Katarina Kosovelj\nProstori: F3
LOCATION:F3
ORGANIZER:Katarina Kosovelj
X-WR-TIMEZONE:Europe/Ljubljana
END:VEVENT
BEGIN:VEVENT
SUMMARY:Rezervacija
DTSTART;TZID=Europe/Ljubljana:20230209T100000
DTEND;TZID=Europe/Ljubljana:20230209T120000
DTSTAMP:20260422T175222Z
UID:fmf-AFLABS-URNIK:rezervacija:11223
ATTENDEE:1. letnik (Pedagoška fizika, 2. stopnja)
ATTENDEE:2. letnik (Fizika, 1. stopnja)
ATTENDEE:2. letnik (Pedagoška fizika, 2. stopnja)
ATTENDEE:3. letnik (Fizika, 1. stopnja)
CATEGORIES:Reservation
COLOR:royalblue
DESCRIPTION:Predmeti: Uvod v fiziko atmosfere (FIZ-2\, FIZ-3\, PEF-1\, PEF
 -2)\nLetniki: 2. letnik (Fizika\, 1. stopnja)\, 3. letnik (Fizika\, 1. sto
 pnja)\, 1. letnik (Pedagoška fizika\, 2. stopnja)\, 2. letnik (Pedagoška
  fizika\, 2. stopnja)\nIzvajalci: Katarina Kosovelj\nProstori: F7
LOCATION:F7
ORGANIZER:Katarina Kosovelj
X-WR-TIMEZONE:Europe/Ljubljana
END:VEVENT
BEGIN:VEVENT
SUMMARY:Rezervacija
DTSTART;TZID=Europe/Ljubljana:20230306T080000
DTEND;TZID=Europe/Ljubljana:20230306T100000
DTSTAMP:20260422T175222Z
UID:fmf-AFLABS-URNIK:rezervacija:11390
ATTENDEE:1. letnik (Fizika, 2. stopnja)
ATTENDEE:2. letnik (Fizika, 2. stopnja)
CATEGORIES:Reservation
COLOR:royalblue
DESCRIPTION:Predmeti: Dinamična meteorologija II (FIZ-M1\, FIZ-M2)\nLetni
 ki: 1. letnik (Fizika\, 2. stopnja)\, 2. letnik (Fizika\, 2. stopnja)\nIzv
 ajalci: Katarina Kosovelj\nProstori: F6
LOCATION:F6
ORGANIZER:Katarina Kosovelj
X-WR-TIMEZONE:Europe/Ljubljana
END:VEVENT
END:VCALENDAR
