BEGIN:VCALENDAR
VERSION:2.0
PRODID:-//AFLabs urnik izvoz - fmf//aflabs.si//SI
DTSTAMP:20260423T230018Z
NAME:UL FMF urnik
REFRESH-INTERVAL:PT1H
SOURCE:https://urnik.fmf.uni-lj.si/teacher/1782?day=2025-04-28&export=1
URL:https://urnik.fmf.uni-lj.si/teacher/1782?day=2025-04-28&export=1
X-PUBLISHED-TTL:PT1H
X-WR-CALNAME:UL FMF urnik
X-WR-TIMEZONE:Europe/Ljubljana
BEGIN:VTIMEZONE
TZID:Europe/Ljubljana
BEGIN:DAYLIGHT
DTSTART:20260329T020000
RDATE:20260329T020000
RDATE:20270328T020000
TZNAME:CEST
TZOFFSETFROM:+0100
TZOFFSETTO:+0200
END:DAYLIGHT
BEGIN:STANDARD
DTSTART:20261025T030000
RDATE:20261025T030000
RDATE:20271031T030000
TZNAME:CET
TZOFFSETFROM:+0200
TZOFFSETTO:+0100
END:STANDARD
END:VTIMEZONE
BEGIN:VEVENT
SUMMARY:KS sestanek
DTSTART;TZID=Europe/Ljubljana:20250218T100000
DTEND;TZID=Europe/Ljubljana:20250218T110000
DTSTAMP:20260423T230018Z
UID:fmf-AFLABS-URNIK:rezervacija:20424
CATEGORIES:Reservation
COLOR:royalblue
DESCRIPTION:Predmeti: \nLetniki: \nIzvajalci: Urška Selaković\, Tanja Sv
 etic\nProstori: 1.02
LOCATION:1.02
ORGANIZER:Urška Selaković, Tanja Svetic
X-WR-TIMEZONE:Europe/Ljubljana
END:VEVENT
BEGIN:VEVENT
SUMMARY:KS sestanek
DTSTART;TZID=Europe/Ljubljana:20250225T100000
DTEND;TZID=Europe/Ljubljana:20250225T110000
DTSTAMP:20260423T230018Z
UID:fmf-AFLABS-URNIK:rezervacija:20425
CATEGORIES:Reservation
COLOR:royalblue
DESCRIPTION:Predmeti: \nLetniki: \nIzvajalci: Urška Selaković\, Tanja Sv
 etic\nProstori: 1.02
LOCATION:1.02
ORGANIZER:Urška Selaković, Tanja Svetic
X-WR-TIMEZONE:Europe/Ljubljana
END:VEVENT
BEGIN:VEVENT
SUMMARY:KS sestanek
DTSTART;TZID=Europe/Ljubljana:20250304T100000
DTEND;TZID=Europe/Ljubljana:20250304T110000
DTSTAMP:20260423T230018Z
UID:fmf-AFLABS-URNIK:rezervacija:20426
CATEGORIES:Reservation
COLOR:royalblue
DESCRIPTION:Predmeti: \nLetniki: \nIzvajalci: Urška Selaković\, Tanja Sv
 etic\nProstori: 1.02
LOCATION:1.02
ORGANIZER:Urška Selaković, Tanja Svetic
X-WR-TIMEZONE:Europe/Ljubljana
END:VEVENT
BEGIN:VEVENT
SUMMARY:KS sestanek
DTSTART;TZID=Europe/Ljubljana:20250311T100000
DTEND;TZID=Europe/Ljubljana:20250311T110000
DTSTAMP:20260423T230018Z
UID:fmf-AFLABS-URNIK:rezervacija:20427
CATEGORIES:Reservation
COLOR:royalblue
DESCRIPTION:Predmeti: \nLetniki: \nIzvajalci: Urška Selaković\, Tanja Sv
 etic\nProstori: 1.02
LOCATION:1.02
ORGANIZER:Urška Selaković, Tanja Svetic
X-WR-TIMEZONE:Europe/Ljubljana
END:VEVENT
BEGIN:VEVENT
SUMMARY:KS sestanek
DTSTART;TZID=Europe/Ljubljana:20250318T100000
DTEND;TZID=Europe/Ljubljana:20250318T110000
DTSTAMP:20260423T230018Z
UID:fmf-AFLABS-URNIK:rezervacija:20428
CATEGORIES:Reservation
COLOR:royalblue
DESCRIPTION:Predmeti: \nLetniki: \nIzvajalci: Urška Selaković\, Tanja Sv
 etic\nProstori: 1.02
LOCATION:1.02
ORGANIZER:Urška Selaković, Tanja Svetic
X-WR-TIMEZONE:Europe/Ljubljana
END:VEVENT
BEGIN:VEVENT
SUMMARY:KS sestanek
DTSTART;TZID=Europe/Ljubljana:20250325T100000
DTEND;TZID=Europe/Ljubljana:20250325T110000
DTSTAMP:20260423T230018Z
UID:fmf-AFLABS-URNIK:rezervacija:20429
CATEGORIES:Reservation
COLOR:royalblue
DESCRIPTION:Predmeti: \nLetniki: \nIzvajalci: Urška Selaković\, Tanja Sv
 etic\nProstori: 1.02
LOCATION:1.02
ORGANIZER:Urška Selaković, Tanja Svetic
X-WR-TIMEZONE:Europe/Ljubljana
END:VEVENT
BEGIN:VEVENT
SUMMARY:KS sestanek
DTSTART;TZID=Europe/Ljubljana:20250401T100000
DTEND;TZID=Europe/Ljubljana:20250401T110000
DTSTAMP:20260423T230018Z
UID:fmf-AFLABS-URNIK:rezervacija:20430
CATEGORIES:Reservation
COLOR:royalblue
DESCRIPTION:Predmeti: \nLetniki: \nIzvajalci: Urška Selaković\, Tanja Sv
 etic\nProstori: 1.02
LOCATION:1.02
ORGANIZER:Urška Selaković, Tanja Svetic
X-WR-TIMEZONE:Europe/Ljubljana
END:VEVENT
BEGIN:VEVENT
SUMMARY:KS sestanek
DTSTART;TZID=Europe/Ljubljana:20250408T100000
DTEND;TZID=Europe/Ljubljana:20250408T110000
DTSTAMP:20260423T230018Z
UID:fmf-AFLABS-URNIK:rezervacija:20431
CATEGORIES:Reservation
COLOR:royalblue
DESCRIPTION:Predmeti: \nLetniki: \nIzvajalci: Urška Selaković\, Tanja Sv
 etic\nProstori: 1.02
LOCATION:1.02
ORGANIZER:Urška Selaković, Tanja Svetic
X-WR-TIMEZONE:Europe/Ljubljana
END:VEVENT
BEGIN:VEVENT
SUMMARY:KS sestanek
DTSTART;TZID=Europe/Ljubljana:20250415T100000
DTEND;TZID=Europe/Ljubljana:20250415T110000
DTSTAMP:20260423T230018Z
UID:fmf-AFLABS-URNIK:rezervacija:20432
CATEGORIES:Reservation
COLOR:royalblue
DESCRIPTION:Predmeti: \nLetniki: \nIzvajalci: Urška Selaković\, Tanja Sv
 etic\nProstori: 1.02
LOCATION:1.02
ORGANIZER:Urška Selaković, Tanja Svetic
X-WR-TIMEZONE:Europe/Ljubljana
END:VEVENT
BEGIN:VEVENT
SUMMARY:KS sestanek
DTSTART;TZID=Europe/Ljubljana:20250422T100000
DTEND;TZID=Europe/Ljubljana:20250422T110000
DTSTAMP:20260423T230018Z
UID:fmf-AFLABS-URNIK:rezervacija:20433
CATEGORIES:Reservation
COLOR:royalblue
DESCRIPTION:Predmeti: \nLetniki: \nIzvajalci: Urška Selaković\, Tanja Sv
 etic\nProstori: 1.02
LOCATION:1.02
ORGANIZER:Urška Selaković, Tanja Svetic
X-WR-TIMEZONE:Europe/Ljubljana
END:VEVENT
BEGIN:VEVENT
SUMMARY:KS sestanek
DTSTART;TZID=Europe/Ljubljana:20250429T100000
DTEND;TZID=Europe/Ljubljana:20250429T110000
DTSTAMP:20260423T230018Z
UID:fmf-AFLABS-URNIK:rezervacija:20434
CATEGORIES:Reservation
COLOR:royalblue
DESCRIPTION:Predmeti: \nLetniki: \nIzvajalci: Urška Selaković\, Tanja Sv
 etic\nProstori: 1.02
LOCATION:1.02
ORGANIZER:Urška Selaković, Tanja Svetic
X-WR-TIMEZONE:Europe/Ljubljana
END:VEVENT
BEGIN:VEVENT
SUMMARY:KS sestanek
DTSTART;TZID=Europe/Ljubljana:20250506T100000
DTEND;TZID=Europe/Ljubljana:20250506T110000
DTSTAMP:20260423T230018Z
UID:fmf-AFLABS-URNIK:rezervacija:20435
CATEGORIES:Reservation
COLOR:royalblue
DESCRIPTION:Predmeti: \nLetniki: \nIzvajalci: Urška Selaković\, Tanja Sv
 etic\nProstori: 1.02
LOCATION:1.02
ORGANIZER:Urška Selaković, Tanja Svetic
X-WR-TIMEZONE:Europe/Ljubljana
END:VEVENT
BEGIN:VEVENT
SUMMARY:KS sestanek
DTSTART;TZID=Europe/Ljubljana:20250513T100000
DTEND;TZID=Europe/Ljubljana:20250513T110000
DTSTAMP:20260423T230018Z
UID:fmf-AFLABS-URNIK:rezervacija:20436
CATEGORIES:Reservation
COLOR:royalblue
DESCRIPTION:Predmeti: \nLetniki: \nIzvajalci: Urška Selaković\, Tanja Sv
 etic\nProstori: 1.02
LOCATION:1.02
ORGANIZER:Urška Selaković, Tanja Svetic
X-WR-TIMEZONE:Europe/Ljubljana
END:VEVENT
BEGIN:VEVENT
SUMMARY:KS sestanek
DTSTART;TZID=Europe/Ljubljana:20250520T100000
DTEND;TZID=Europe/Ljubljana:20250520T110000
DTSTAMP:20260423T230018Z
UID:fmf-AFLABS-URNIK:rezervacija:20437
CATEGORIES:Reservation
COLOR:royalblue
DESCRIPTION:Predmeti: \nLetniki: \nIzvajalci: Urška Selaković\, Tanja Sv
 etic\nProstori: 1.02
LOCATION:1.02
ORGANIZER:Urška Selaković, Tanja Svetic
X-WR-TIMEZONE:Europe/Ljubljana
END:VEVENT
BEGIN:VEVENT
SUMMARY:KS sestanek
DTSTART;TZID=Europe/Ljubljana:20250527T100000
DTEND;TZID=Europe/Ljubljana:20250527T110000
DTSTAMP:20260423T230018Z
UID:fmf-AFLABS-URNIK:rezervacija:20438
CATEGORIES:Reservation
COLOR:royalblue
DESCRIPTION:Predmeti: \nLetniki: \nIzvajalci: Urška Selaković\, Tanja Sv
 etic\nProstori: 1.02
LOCATION:1.02
ORGANIZER:Urška Selaković, Tanja Svetic
X-WR-TIMEZONE:Europe/Ljubljana
END:VEVENT
BEGIN:VEVENT
SUMMARY:KS sestanek
DTSTART;TZID=Europe/Ljubljana:20250603T100000
DTEND;TZID=Europe/Ljubljana:20250603T110000
DTSTAMP:20260423T230018Z
UID:fmf-AFLABS-URNIK:rezervacija:20439
CATEGORIES:Reservation
COLOR:royalblue
DESCRIPTION:Predmeti: \nLetniki: \nIzvajalci: Urška Selaković\, Tanja Sv
 etic\nProstori: 1.02
LOCATION:1.02
ORGANIZER:Urška Selaković, Tanja Svetic
X-WR-TIMEZONE:Europe/Ljubljana
END:VEVENT
END:VCALENDAR
