BEGIN:VCALENDAR
VERSION:2.0
PRODID:-//AFLabs urnik izvoz - fmf//aflabs.si//SI
DTSTAMP:20260419T153702Z
NAME:UL FMF urnik
REFRESH-INTERVAL:PT1H
SOURCE:https://urnik.fmf.uni-lj.si/teacher/1798?day=2025-09-08&export=1
URL:https://urnik.fmf.uni-lj.si/teacher/1798?day=2025-09-08&export=1
X-PUBLISHED-TTL:PT1H
X-WR-CALNAME:UL FMF urnik
X-WR-TIMEZONE:Europe/Ljubljana
BEGIN:VTIMEZONE
TZID:Europe/Ljubljana
BEGIN:DAYLIGHT
DTSTART:20260329T020000
RDATE:20260329T020000
RDATE:20270328T020000
TZNAME:CEST
TZOFFSETFROM:+0100
TZOFFSETTO:+0200
END:DAYLIGHT
BEGIN:STANDARD
DTSTART:20261025T030000
RDATE:20261025T030000
RDATE:20271031T030000
TZNAME:CET
TZOFFSETFROM:+0200
TZOFFSETTO:+0100
END:STANDARD
END:VTIMEZONE
BEGIN:VEVENT
SUMMARY:Programiranje 1 (FM-3\, MAT-2\, PM-4)\, Vaje (V)\, [1]
DTSTART;TZID=Europe/Ljubljana:20251001T120000
DTEND;TZID=Europe/Ljubljana:20251001T140000
DTSTAMP:20260419T153702Z
UID:fmf-AFLABS-URNIK:premaknjeno-srecanje:222509
ATTENDEE:2. letnik (M)
ATTENDEE:3. letnik (FM)
ATTENDEE:4. letnik (PM)
CATEGORIES:Entry,Standard
COLOR:darkgreen
DESCRIPTION:Predmet: Programiranje 1 (FM-3\, MAT-2\, PM-4)\, Vaje (V)\, [1
 ]\nLetniki: 3. letnik (FM)\, 2. letnik (M)\, 4. letnik (PM)\nIzvajalci: Ne
 jc Zajc\nProstor: 3.11
LOCATION:3.11
ORGANIZER:Nejc Zajc
RELATED-TO:fmf-AFLABS-URNIK:srecanje:16227
X-WR-TIMEZONE:Europe/Ljubljana
END:VEVENT
BEGIN:VEVENT
SUMMARY:Programiranje 1 (FM-3\, MAT-2\, PM-4)\, Vaje (V)\, [1]
DTSTART;TZID=Europe/Ljubljana:20251008T120000
DTEND;TZID=Europe/Ljubljana:20251008T140000
DTSTAMP:20260419T153702Z
UID:fmf-AFLABS-URNIK:premaknjeno-srecanje:222510
ATTENDEE:2. letnik (M)
ATTENDEE:3. letnik (FM)
ATTENDEE:4. letnik (PM)
CATEGORIES:Entry,Standard
COLOR:darkgreen
DESCRIPTION:Predmet: Programiranje 1 (FM-3\, MAT-2\, PM-4)\, Vaje (V)\, [1
 ]\nLetniki: 3. letnik (FM)\, 2. letnik (M)\, 4. letnik (PM)\nIzvajalci: Ne
 jc Zajc\nProstor: 3.11
LOCATION:3.11
ORGANIZER:Nejc Zajc
RELATED-TO:fmf-AFLABS-URNIK:srecanje:16227
X-WR-TIMEZONE:Europe/Ljubljana
END:VEVENT
END:VCALENDAR
