BEGIN:VCALENDAR
VERSION:2.0
PRODID:-//AFLabs urnik izvoz - fmf//aflabs.si//SI
DTSTAMP:20260426T040220Z
NAME:UL FMF urnik
REFRESH-INTERVAL:PT1H
SOURCE:https://urnik.fmf.uni-lj.si/teacher/180?day=2024-09-30&export=1
URL:https://urnik.fmf.uni-lj.si/teacher/180?day=2024-09-30&export=1
X-PUBLISHED-TTL:PT1H
X-WR-CALNAME:UL FMF urnik
X-WR-TIMEZONE:Europe/Ljubljana
BEGIN:VTIMEZONE
TZID:Europe/Ljubljana
BEGIN:DAYLIGHT
DTSTART:20260329T020000
RDATE:20260329T020000
RDATE:20270328T020000
TZNAME:CEST
TZOFFSETFROM:+0100
TZOFFSETTO:+0200
END:DAYLIGHT
BEGIN:STANDARD
DTSTART:20261025T030000
RDATE:20261025T030000
RDATE:20271031T030000
TZNAME:CET
TZOFFSETFROM:+0200
TZOFFSETTO:+0100
END:STANDARD
END:VTIMEZONE
BEGIN:VEVENT
SUMMARY:Fizika (FKKT Kem. tehnologija) ()\, Predavanja (P)
DTSTART;TZID=Europe/Ljubljana:20241002T140000
DTEND;TZID=Europe/Ljubljana:20241002T170000
DTSTAMP:20260426T040220Z
UID:fmf-AFLABS-URNIK:premaknjeno-srecanje:193915
CATEGORIES:Entry,Standard
COLOR:darkgreen
DESCRIPTION:Predmet: Fizika (FKKT Kem. tehnologija) ()\, Predavanja (P)\nL
 etniki: \nIzvajalci: Miha Škarabot\nProstor: MFP
LOCATION:MFP
ORGANIZER:Miha Škarabot
RELATED-TO:fmf-AFLABS-URNIK:srecanje:13662
X-WR-TIMEZONE:Europe/Ljubljana
END:VEVENT
BEGIN:VEVENT
SUMMARY:Fizika (FKKT Kem. tehnologija) ()\, Predavanja (P)
DTSTART;TZID=Europe/Ljubljana:20241009T140000
DTEND;TZID=Europe/Ljubljana:20241009T170000
DTSTAMP:20260426T040220Z
UID:fmf-AFLABS-URNIK:premaknjeno-srecanje:193916
CATEGORIES:Entry,Standard
COLOR:darkgreen
DESCRIPTION:Predmet: Fizika (FKKT Kem. tehnologija) ()\, Predavanja (P)\nL
 etniki: \nIzvajalci: Miha Škarabot\nProstor: MFP
LOCATION:MFP
ORGANIZER:Miha Škarabot
RELATED-TO:fmf-AFLABS-URNIK:srecanje:13662
X-WR-TIMEZONE:Europe/Ljubljana
END:VEVENT
BEGIN:VEVENT
SUMMARY:Fizika (FKKT Kem. tehnologija) ()\, Predavanja (P)
DTSTART;TZID=Europe/Ljubljana:20241016T140000
DTEND;TZID=Europe/Ljubljana:20241016T170000
DTSTAMP:20260426T040220Z
UID:fmf-AFLABS-URNIK:premaknjeno-srecanje:193917
CATEGORIES:Entry,Standard
COLOR:darkgreen
DESCRIPTION:Predmet: Fizika (FKKT Kem. tehnologija) ()\, Predavanja (P)\nL
 etniki: \nIzvajalci: Miha Škarabot\nProstor: MFP
LOCATION:MFP
ORGANIZER:Miha Škarabot
RELATED-TO:fmf-AFLABS-URNIK:srecanje:13662
X-WR-TIMEZONE:Europe/Ljubljana
END:VEVENT
BEGIN:VEVENT
SUMMARY:Fizika (FKKT Kem. tehnologija) ()\, Predavanja (P)
DTSTART;TZID=Europe/Ljubljana:20241023T140000
DTEND;TZID=Europe/Ljubljana:20241023T170000
DTSTAMP:20260426T040220Z
UID:fmf-AFLABS-URNIK:premaknjeno-srecanje:193918
CATEGORIES:Entry,Standard
COLOR:darkgreen
DESCRIPTION:Predmet: Fizika (FKKT Kem. tehnologija) ()\, Predavanja (P)\nL
 etniki: \nIzvajalci: Miha Škarabot\nProstor: MFP
LOCATION:MFP
ORGANIZER:Miha Škarabot
RELATED-TO:fmf-AFLABS-URNIK:srecanje:13662
X-WR-TIMEZONE:Europe/Ljubljana
END:VEVENT
BEGIN:VEVENT
SUMMARY:Fizika (FKKT Kem. tehnologija) ()\, Predavanja (P)
DTSTART;TZID=Europe/Ljubljana:20241030T140000
DTEND;TZID=Europe/Ljubljana:20241030T170000
DTSTAMP:20260426T040220Z
UID:fmf-AFLABS-URNIK:premaknjeno-srecanje:193919
CATEGORIES:Entry,Standard
COLOR:darkgreen
DESCRIPTION:Predmet: Fizika (FKKT Kem. tehnologija) ()\, Predavanja (P)\nL
 etniki: \nIzvajalci: Miha Škarabot\nProstor: MFP
LOCATION:MFP
ORGANIZER:Miha Škarabot
RELATED-TO:fmf-AFLABS-URNIK:srecanje:13662
X-WR-TIMEZONE:Europe/Ljubljana
END:VEVENT
BEGIN:VEVENT
SUMMARY:Fizika (FKKT Kem. tehnologija) ()\, Predavanja (P)
DTSTART;TZID=Europe/Ljubljana:20241003T150000
DTEND;TZID=Europe/Ljubljana:20241003T180000
DTSTAMP:20260426T040220Z
UID:fmf-AFLABS-URNIK:premaknjeno-srecanje:193899
CATEGORIES:Entry,Standard
COLOR:darkgreen
DESCRIPTION:Predmet: Fizika (FKKT Kem. tehnologija) ()\, Predavanja (P)\nL
 etniki: \nIzvajalci: Miha Škarabot\nProstor: MFP
LOCATION:MFP
ORGANIZER:Miha Škarabot
RELATED-TO:fmf-AFLABS-URNIK:srecanje:13663
X-WR-TIMEZONE:Europe/Ljubljana
END:VEVENT
BEGIN:VEVENT
SUMMARY:Fizika (FKKT Kem. tehnologija) ()\, Predavanja (P)
DTSTART;TZID=Europe/Ljubljana:20241010T150000
DTEND;TZID=Europe/Ljubljana:20241010T180000
DTSTAMP:20260426T040220Z
UID:fmf-AFLABS-URNIK:premaknjeno-srecanje:193900
CATEGORIES:Entry,Standard
COLOR:darkgreen
DESCRIPTION:Predmet: Fizika (FKKT Kem. tehnologija) ()\, Predavanja (P)\nL
 etniki: \nIzvajalci: Miha Škarabot\nProstor: MFP
LOCATION:MFP
ORGANIZER:Miha Škarabot
RELATED-TO:fmf-AFLABS-URNIK:srecanje:13663
X-WR-TIMEZONE:Europe/Ljubljana
END:VEVENT
BEGIN:VEVENT
SUMMARY:Fizika (FKKT Kem. tehnologija) ()\, Predavanja (P)
DTSTART;TZID=Europe/Ljubljana:20241017T150000
DTEND;TZID=Europe/Ljubljana:20241017T180000
DTSTAMP:20260426T040220Z
UID:fmf-AFLABS-URNIK:premaknjeno-srecanje:193901
CATEGORIES:Entry,Standard
COLOR:darkgreen
DESCRIPTION:Predmet: Fizika (FKKT Kem. tehnologija) ()\, Predavanja (P)\nL
 etniki: \nIzvajalci: Miha Škarabot\nProstor: MFP
LOCATION:MFP
ORGANIZER:Miha Škarabot
RELATED-TO:fmf-AFLABS-URNIK:srecanje:13663
X-WR-TIMEZONE:Europe/Ljubljana
END:VEVENT
BEGIN:VEVENT
SUMMARY:Fizika (FKKT Kem. tehnologija) ()\, Predavanja (P)
DTSTART;TZID=Europe/Ljubljana:20241024T150000
DTEND;TZID=Europe/Ljubljana:20241024T180000
DTSTAMP:20260426T040220Z
UID:fmf-AFLABS-URNIK:premaknjeno-srecanje:193902
CATEGORIES:Entry,Standard
COLOR:darkgreen
DESCRIPTION:Predmet: Fizika (FKKT Kem. tehnologija) ()\, Predavanja (P)\nL
 etniki: \nIzvajalci: Miha Škarabot\nProstor: MFP
LOCATION:MFP
ORGANIZER:Miha Škarabot
RELATED-TO:fmf-AFLABS-URNIK:srecanje:13663
X-WR-TIMEZONE:Europe/Ljubljana
END:VEVENT
BEGIN:VEVENT
SUMMARY:Fizika (FKKT Kem. tehnologija) ()\, Predavanja (P)
DTSTART;TZID=Europe/Ljubljana:20241031T150000
DTEND;TZID=Europe/Ljubljana:20241031T180000
DTSTAMP:20260426T040220Z
UID:fmf-AFLABS-URNIK:premaknjeno-srecanje:193903
CATEGORIES:Entry,Standard
COLOR:darkgreen
DESCRIPTION:Predmet: Fizika (FKKT Kem. tehnologija) ()\, Predavanja (P)\nL
 etniki: \nIzvajalci: Miha Škarabot\nProstor: MFP
LOCATION:MFP
ORGANIZER:Miha Škarabot
RELATED-TO:fmf-AFLABS-URNIK:srecanje:13663
X-WR-TIMEZONE:Europe/Ljubljana
END:VEVENT
BEGIN:VEVENT
SUMMARY:Ustni izpiti FKKT
DTSTART;TZID=Europe/Ljubljana:20240829T130000
DTEND;TZID=Europe/Ljubljana:20240829T160000
DTSTAMP:20260426T040220Z
UID:fmf-AFLABS-URNIK:rezervacija:17871
CATEGORIES:Reservation
COLOR:royalblue
DESCRIPTION:Predmeti: \nLetniki: \nIzvajalci: Miha Škarabot\nProstori: F3
LOCATION:F3
ORGANIZER:Miha Škarabot
X-WR-TIMEZONE:Europe/Ljubljana
END:VEVENT
BEGIN:VEVENT
SUMMARY:Ustni izpit FKKT
DTSTART;TZID=Europe/Ljubljana:20240911T150000
DTEND;TZID=Europe/Ljubljana:20240911T170000
DTSTAMP:20260426T040220Z
UID:fmf-AFLABS-URNIK:rezervacija:17951
CATEGORIES:Reservation
COLOR:royalblue
DESCRIPTION:Predmeti: \nLetniki: \nIzvajalci: Miha Škarabot\nProstori: F5
LOCATION:F5
ORGANIZER:Miha Škarabot
X-WR-TIMEZONE:Europe/Ljubljana
END:VEVENT
BEGIN:VEVENT
SUMMARY:Ustni Izpiti FKKT
DTSTART;TZID=Europe/Ljubljana:20240913T150000
DTEND;TZID=Europe/Ljubljana:20240913T160000
DTSTAMP:20260426T040220Z
UID:fmf-AFLABS-URNIK:rezervacija:18305
CATEGORIES:Reservation
COLOR:royalblue
DESCRIPTION:Predmeti: \nLetniki: \nIzvajalci: Miha Škarabot\nProstori: F5
LOCATION:F5
ORGANIZER:Miha Škarabot
X-WR-TIMEZONE:Europe/Ljubljana
END:VEVENT
END:VCALENDAR
