BEGIN:VCALENDAR
VERSION:2.0
PRODID:-//AFLabs urnik izvoz - fmf//aflabs.si//SI
DTSTAMP:20260425T142725Z
NAME:UL FMF urnik
REFRESH-INTERVAL:PT1H
SOURCE:https://urnik.fmf.uni-lj.si/teacher/1871?day=2026-01-05&export=1
URL:https://urnik.fmf.uni-lj.si/teacher/1871?day=2026-01-05&export=1
X-PUBLISHED-TTL:PT1H
X-WR-CALNAME:UL FMF urnik
X-WR-TIMEZONE:Europe/Ljubljana
BEGIN:VTIMEZONE
TZID:Europe/Ljubljana
BEGIN:DAYLIGHT
DTSTART:20260329T020000
RDATE:20260329T020000
RDATE:20270328T020000
TZNAME:CEST
TZOFFSETFROM:+0100
TZOFFSETTO:+0200
END:DAYLIGHT
BEGIN:STANDARD
DTSTART:20261025T030000
RDATE:20261025T030000
RDATE:20271031T030000
TZNAME:CET
TZOFFSETFROM:+0200
TZOFFSETTO:+0100
END:STANDARD
END:VTIMEZONE
BEGIN:VEVENT
SUMMARY:Tutorstvo (statistična termodinamika) (FIZ-2)\, Tutorstvo (T)
DTSTART;TZID=Europe/Ljubljana:20251001T120000
DTEND;TZID=Europe/Ljubljana:20251001T140000
DTSTAMP:20260425T142725Z
UID:fmf-AFLABS-URNIK:premaknjeno-srecanje:234656
ATTENDEE:2. letnik (Fizika, 1. stopnja)
CATEGORIES:Entry,Standard
COLOR:darkgreen
DESCRIPTION:Predmet: Tutorstvo (statistična termodinamika) (FIZ-2)\, Tuto
 rstvo (T)\nLetniki: 2. letnik (Fizika\, 1. stopnja)\nIzvajalci: Rok Vlaj\n
 Prostor: F8
LOCATION:F8
ORGANIZER:Rok Vlaj
RELATED-TO:fmf-AFLABS-URNIK:srecanje:16650
X-WR-TIMEZONE:Europe/Ljubljana
END:VEVENT
BEGIN:VEVENT
SUMMARY:Tutorstvo (statistična termodinamika) (FIZ-2)\, Tutorstvo (T)
DTSTART;TZID=Europe/Ljubljana:20251008T120000
DTEND;TZID=Europe/Ljubljana:20251008T140000
DTSTAMP:20260425T142725Z
UID:fmf-AFLABS-URNIK:premaknjeno-srecanje:234657
ATTENDEE:2. letnik (Fizika, 1. stopnja)
CATEGORIES:Entry,Standard
COLOR:darkgreen
DESCRIPTION:Predmet: Tutorstvo (statistična termodinamika) (FIZ-2)\, Tuto
 rstvo (T)\nLetniki: 2. letnik (Fizika\, 1. stopnja)\nIzvajalci: Rok Vlaj\n
 Prostor: F8
LOCATION:F8
ORGANIZER:Rok Vlaj
RELATED-TO:fmf-AFLABS-URNIK:srecanje:16650
X-WR-TIMEZONE:Europe/Ljubljana
END:VEVENT
BEGIN:VEVENT
SUMMARY:Tutorstvo (statistična termodinamika) (FIZ-2)\, Tutorstvo (T)
DTSTART;TZID=Europe/Ljubljana:20251015T120000
DTEND;TZID=Europe/Ljubljana:20251015T140000
DTSTAMP:20260425T142725Z
UID:fmf-AFLABS-URNIK:premaknjeno-srecanje:234658
ATTENDEE:2. letnik (Fizika, 1. stopnja)
CATEGORIES:Entry,Standard
COLOR:darkgreen
DESCRIPTION:Predmet: Tutorstvo (statistična termodinamika) (FIZ-2)\, Tuto
 rstvo (T)\nLetniki: 2. letnik (Fizika\, 1. stopnja)\nIzvajalci: Rok Vlaj\n
 Prostor: F8
LOCATION:F8
ORGANIZER:Rok Vlaj
RELATED-TO:fmf-AFLABS-URNIK:srecanje:16650
X-WR-TIMEZONE:Europe/Ljubljana
END:VEVENT
BEGIN:VEVENT
SUMMARY:Tutorstvo (statistična termodinamika) (FIZ-2)\, Tutorstvo (T)
DTSTART;TZID=Europe/Ljubljana:20251022T120000
DTEND;TZID=Europe/Ljubljana:20251022T140000
DTSTAMP:20260425T142725Z
UID:fmf-AFLABS-URNIK:premaknjeno-srecanje:234659
ATTENDEE:2. letnik (Fizika, 1. stopnja)
CATEGORIES:Entry,Standard
COLOR:darkgreen
DESCRIPTION:Predmet: Tutorstvo (statistična termodinamika) (FIZ-2)\, Tuto
 rstvo (T)\nLetniki: 2. letnik (Fizika\, 1. stopnja)\nIzvajalci: Rok Vlaj\n
 Prostor: F8
LOCATION:F8
ORGANIZER:Rok Vlaj
RELATED-TO:fmf-AFLABS-URNIK:srecanje:16650
X-WR-TIMEZONE:Europe/Ljubljana
END:VEVENT
BEGIN:VEVENT
SUMMARY:Tutorstvo (statistična termodinamika) (FIZ-2)\, Tutorstvo (T)
DTSTART;TZID=Europe/Ljubljana:20251029T120000
DTEND;TZID=Europe/Ljubljana:20251029T140000
DTSTAMP:20260425T142725Z
UID:fmf-AFLABS-URNIK:premaknjeno-srecanje:234660
ATTENDEE:2. letnik (Fizika, 1. stopnja)
CATEGORIES:Entry,Standard
COLOR:darkgreen
DESCRIPTION:Predmet: Tutorstvo (statistična termodinamika) (FIZ-2)\, Tuto
 rstvo (T)\nLetniki: 2. letnik (Fizika\, 1. stopnja)\nIzvajalci: Rok Vlaj\n
 Prostor: F8
LOCATION:F8
ORGANIZER:Rok Vlaj
RELATED-TO:fmf-AFLABS-URNIK:srecanje:16650
X-WR-TIMEZONE:Europe/Ljubljana
END:VEVENT
BEGIN:VEVENT
SUMMARY:Tutorstvo (statistična termodinamika) (FIZ-2)\, Tutorstvo (T)
DTSTART;TZID=Europe/Ljubljana:20251105T120000
DTEND;TZID=Europe/Ljubljana:20251105T140000
DTSTAMP:20260425T142725Z
UID:fmf-AFLABS-URNIK:premaknjeno-srecanje:234661
ATTENDEE:2. letnik (Fizika, 1. stopnja)
CATEGORIES:Entry,Standard
COLOR:darkgreen
DESCRIPTION:Predmet: Tutorstvo (statistična termodinamika) (FIZ-2)\, Tuto
 rstvo (T)\nLetniki: 2. letnik (Fizika\, 1. stopnja)\nIzvajalci: Rok Vlaj\n
 Prostor: F8
LOCATION:F8
ORGANIZER:Rok Vlaj
RELATED-TO:fmf-AFLABS-URNIK:srecanje:16650
X-WR-TIMEZONE:Europe/Ljubljana
END:VEVENT
BEGIN:VEVENT
SUMMARY:Tutorstvo (statistična termodinamika) (FIZ-2)\, Tutorstvo (T)
DTSTART;TZID=Europe/Ljubljana:20251112T120000
DTEND;TZID=Europe/Ljubljana:20251112T140000
DTSTAMP:20260425T142725Z
UID:fmf-AFLABS-URNIK:premaknjeno-srecanje:234662
ATTENDEE:2. letnik (Fizika, 1. stopnja)
CATEGORIES:Entry,Standard
COLOR:darkgreen
DESCRIPTION:Predmet: Tutorstvo (statistična termodinamika) (FIZ-2)\, Tuto
 rstvo (T)\nLetniki: 2. letnik (Fizika\, 1. stopnja)\nIzvajalci: Rok Vlaj\n
 Prostor: F8
LOCATION:F8
ORGANIZER:Rok Vlaj
RELATED-TO:fmf-AFLABS-URNIK:srecanje:16650
X-WR-TIMEZONE:Europe/Ljubljana
END:VEVENT
BEGIN:VEVENT
SUMMARY:Tutorstvo (statistična termodinamika) (FIZ-2)\, Tutorstvo (T)
DTSTART;TZID=Europe/Ljubljana:20251119T120000
DTEND;TZID=Europe/Ljubljana:20251119T140000
DTSTAMP:20260425T142725Z
UID:fmf-AFLABS-URNIK:premaknjeno-srecanje:234663
ATTENDEE:2. letnik (Fizika, 1. stopnja)
CATEGORIES:Entry,Standard
COLOR:darkgreen
DESCRIPTION:Predmet: Tutorstvo (statistična termodinamika) (FIZ-2)\, Tuto
 rstvo (T)\nLetniki: 2. letnik (Fizika\, 1. stopnja)\nIzvajalci: Rok Vlaj\n
 Prostor: F8
LOCATION:F8
ORGANIZER:Rok Vlaj
RELATED-TO:fmf-AFLABS-URNIK:srecanje:16650
X-WR-TIMEZONE:Europe/Ljubljana
END:VEVENT
BEGIN:VEVENT
SUMMARY:Tutorstvo (statistična termodinamika) (FIZ-2)\, Tutorstvo (T)
DTSTART;TZID=Europe/Ljubljana:20251126T120000
DTEND;TZID=Europe/Ljubljana:20251126T140000
DTSTAMP:20260425T142725Z
UID:fmf-AFLABS-URNIK:premaknjeno-srecanje:234664
ATTENDEE:2. letnik (Fizika, 1. stopnja)
CATEGORIES:Entry,Standard
COLOR:darkgreen
DESCRIPTION:Predmet: Tutorstvo (statistična termodinamika) (FIZ-2)\, Tuto
 rstvo (T)\nLetniki: 2. letnik (Fizika\, 1. stopnja)\nIzvajalci: Rok Vlaj\n
 Prostor: F8
LOCATION:F8
ORGANIZER:Rok Vlaj
RELATED-TO:fmf-AFLABS-URNIK:srecanje:16650
X-WR-TIMEZONE:Europe/Ljubljana
END:VEVENT
BEGIN:VEVENT
SUMMARY:Tutorstvo (statistična termodinamika) (FIZ-2)\, Tutorstvo (T)
DTSTART;TZID=Europe/Ljubljana:20251203T120000
DTEND;TZID=Europe/Ljubljana:20251203T140000
DTSTAMP:20260425T142725Z
UID:fmf-AFLABS-URNIK:premaknjeno-srecanje:234665
ATTENDEE:2. letnik (Fizika, 1. stopnja)
CATEGORIES:Entry,Standard
COLOR:darkgreen
DESCRIPTION:Predmet: Tutorstvo (statistična termodinamika) (FIZ-2)\, Tuto
 rstvo (T)\nLetniki: 2. letnik (Fizika\, 1. stopnja)\nIzvajalci: Rok Vlaj\n
 Prostor: F8
LOCATION:F8
ORGANIZER:Rok Vlaj
RELATED-TO:fmf-AFLABS-URNIK:srecanje:16650
X-WR-TIMEZONE:Europe/Ljubljana
END:VEVENT
BEGIN:VEVENT
SUMMARY:Tutorstvo (statistična termodinamika) (FIZ-2)\, Tutorstvo (T)
DTSTART;TZID=Europe/Ljubljana:20251210T120000
DTEND;TZID=Europe/Ljubljana:20251210T140000
DTSTAMP:20260425T142725Z
UID:fmf-AFLABS-URNIK:premaknjeno-srecanje:234666
ATTENDEE:2. letnik (Fizika, 1. stopnja)
CATEGORIES:Entry,Standard
COLOR:darkgreen
DESCRIPTION:Predmet: Tutorstvo (statistična termodinamika) (FIZ-2)\, Tuto
 rstvo (T)\nLetniki: 2. letnik (Fizika\, 1. stopnja)\nIzvajalci: Rok Vlaj\n
 Prostor: F8
LOCATION:F8
ORGANIZER:Rok Vlaj
RELATED-TO:fmf-AFLABS-URNIK:srecanje:16650
X-WR-TIMEZONE:Europe/Ljubljana
END:VEVENT
BEGIN:VEVENT
SUMMARY:Tutorstvo (statistična termodinamika) (FIZ-2)\, Tutorstvo (T)
DTSTART;TZID=Europe/Ljubljana:20251217T120000
DTEND;TZID=Europe/Ljubljana:20251217T140000
DTSTAMP:20260425T142725Z
UID:fmf-AFLABS-URNIK:premaknjeno-srecanje:234667
ATTENDEE:2. letnik (Fizika, 1. stopnja)
CATEGORIES:Entry,Standard
COLOR:darkgreen
DESCRIPTION:Predmet: Tutorstvo (statistična termodinamika) (FIZ-2)\, Tuto
 rstvo (T)\nLetniki: 2. letnik (Fizika\, 1. stopnja)\nIzvajalci: Rok Vlaj\n
 Prostor: F8
LOCATION:F8
ORGANIZER:Rok Vlaj
RELATED-TO:fmf-AFLABS-URNIK:srecanje:16650
X-WR-TIMEZONE:Europe/Ljubljana
END:VEVENT
BEGIN:VEVENT
SUMMARY:Tutorstvo (statistična termodinamika) (FIZ-2)\, Tutorstvo (T)
DTSTART;TZID=Europe/Ljubljana:20251224T120000
DTEND;TZID=Europe/Ljubljana:20251224T140000
DTSTAMP:20260425T142725Z
UID:fmf-AFLABS-URNIK:premaknjeno-srecanje:234668
ATTENDEE:2. letnik (Fizika, 1. stopnja)
CATEGORIES:Entry,Standard
COLOR:darkgreen
DESCRIPTION:Predmet: Tutorstvo (statistična termodinamika) (FIZ-2)\, Tuto
 rstvo (T)\nLetniki: 2. letnik (Fizika\, 1. stopnja)\nIzvajalci: Rok Vlaj\n
 Prostor: F8
LOCATION:F8
ORGANIZER:Rok Vlaj
RELATED-TO:fmf-AFLABS-URNIK:srecanje:16650
X-WR-TIMEZONE:Europe/Ljubljana
END:VEVENT
BEGIN:VEVENT
SUMMARY:Tutorstvo (statistična termodinamika) (FIZ-2)\, Tutorstvo (T)
DTSTART;TZID=Europe/Ljubljana:20251231T120000
DTEND;TZID=Europe/Ljubljana:20251231T140000
DTSTAMP:20260425T142725Z
UID:fmf-AFLABS-URNIK:premaknjeno-srecanje:234669
ATTENDEE:2. letnik (Fizika, 1. stopnja)
CATEGORIES:Entry,Standard
COLOR:darkgreen
DESCRIPTION:Predmet: Tutorstvo (statistična termodinamika) (FIZ-2)\, Tuto
 rstvo (T)\nLetniki: 2. letnik (Fizika\, 1. stopnja)\nIzvajalci: Rok Vlaj\n
 Prostor: F8
LOCATION:F8
ORGANIZER:Rok Vlaj
RELATED-TO:fmf-AFLABS-URNIK:srecanje:16650
X-WR-TIMEZONE:Europe/Ljubljana
END:VEVENT
BEGIN:VEVENT
SUMMARY:Tutorstvo (statistična termodinamika) (FIZ-2)\, Tutorstvo (T)
DTSTART;TZID=Europe/Ljubljana:20260107T120000
DTEND;TZID=Europe/Ljubljana:20260107T140000
DTSTAMP:20260425T142725Z
UID:fmf-AFLABS-URNIK:premaknjeno-srecanje:234670
ATTENDEE:2. letnik (Fizika, 1. stopnja)
CATEGORIES:Entry,Standard
COLOR:darkgreen
DESCRIPTION:Predmet: Tutorstvo (statistična termodinamika) (FIZ-2)\, Tuto
 rstvo (T)\nLetniki: 2. letnik (Fizika\, 1. stopnja)\nIzvajalci: Rok Vlaj\n
 Prostor: F8
LOCATION:F8
ORGANIZER:Rok Vlaj
RELATED-TO:fmf-AFLABS-URNIK:srecanje:16650
X-WR-TIMEZONE:Europe/Ljubljana
END:VEVENT
BEGIN:VEVENT
SUMMARY:Tutorstvo (statistična termodinamika) (FIZ-2)\, Tutorstvo (T)
DTSTART;TZID=Europe/Ljubljana:20260114T120000
DTEND;TZID=Europe/Ljubljana:20260114T140000
DTSTAMP:20260425T142725Z
UID:fmf-AFLABS-URNIK:premaknjeno-srecanje:234671
ATTENDEE:2. letnik (Fizika, 1. stopnja)
CATEGORIES:Entry,Standard
COLOR:darkgreen
DESCRIPTION:Predmet: Tutorstvo (statistična termodinamika) (FIZ-2)\, Tuto
 rstvo (T)\nLetniki: 2. letnik (Fizika\, 1. stopnja)\nIzvajalci: Rok Vlaj\n
 Prostor: F8
LOCATION:F8
ORGANIZER:Rok Vlaj
RELATED-TO:fmf-AFLABS-URNIK:srecanje:16650
X-WR-TIMEZONE:Europe/Ljubljana
END:VEVENT
END:VCALENDAR
